#------------------------------------------------------------------------------
#$Date: 2018-09-27 06:13:35 +0200 (jue 27 de sep de 2018) $
#$Revision: 211196 $
#$URL: svn://www.crystallography.net/cod/cif/1/52/32/1523209.cif $
#------------------------------------------------------------------------------
#
# This file is available in the Crystallography Open Database (COD),
# http://www.crystallography.net/
#
# All data on this site have been placed in the public domain by the
# contributors.
#
data_1523209
loop_
_publ_author_name
'Barandiaran, J.M.'
'Gignoux, D.'
'Gomez Sal, J.C.'
'Schmitt, D.'
'Rodriguez Fernandez, J.'
_publ_section_title
;
 Magnetic properties of R Ni2 Si2 compounds (R= rare earth)
;
_journal_name_full               'Journal of Magnetism and Magnetic Materials'
_journal_page_first              61
_journal_page_last               70
_journal_volume                  69
_journal_year                    1987
_chemical_formula_sum            'Nd Ni2 Si2'
_space_group_IT_number           139
_symmetry_space_group_name_Hall  '-I 4 2'
_symmetry_space_group_name_H-M   'I 4/m m m'
_cell_angle_alpha                90
_cell_angle_beta                 90
_cell_angle_gamma                90
_cell_formula_units_Z            2
_cell_length_a                   4.019
_cell_length_b                   4.019
_cell_length_c                   9.577
_cell_volume                     154.691
_citation_journal_id_ASTM        JMMMDC
_cod_data_source_file            Barandiaran_JMMMDC_1987_1428.cif
_cod_data_source_block           Nd1Ni2Si2
_cod_original_cell_volume        154.6912
_cod_original_formula_sum        'Nd1 Ni2 Si2'
_cod_database_code               1523209
loop_
_symmetry_equiv_pos_as_xyz
x,y,z
-y,x,z
-x,-y,z
y,-x,z
x,-y,-z
y,x,-z
-x,y,-z
-y,-x,-z
-x,-y,-z
y,-x,-z
x,y,-z
-y,x,-z
-x,y,z
-y,-x,z
x,-y,z
y,x,z
x+1/2,y+1/2,z+1/2
-y+1/2,x+1/2,z+1/2
-x+1/2,-y+1/2,z+1/2
y+1/2,-x+1/2,z+1/2
x+1/2,-y+1/2,-z+1/2
y+1/2,x+1/2,-z+1/2
-x+1/2,y+1/2,-z+1/2
-y+1/2,-x+1/2,-z+1/2
-x+1/2,-y+1/2,-z+1/2
y+1/2,-x+1/2,-z+1/2
x+1/2,y+1/2,-z+1/2
-y+1/2,x+1/2,-z+1/2
-x+1/2,y+1/2,z+1/2
-y+1/2,-x+1/2,z+1/2
x+1/2,-y+1/2,z+1/2
y+1/2,x+1/2,z+1/2
loop_
_atom_site_label
_atom_site_type_symbol
_atom_site_fract_x
_atom_site_fract_y
_atom_site_fract_z
_atom_site_occupancy
_atom_site_U_iso_or_equiv
Ni1 Ni+2 0 0.5 0.25 1 0.0
Si1 Si-4 0 0 0.41 1 0.0
Nd1 Nd+3 0 0 0 1 0.0
