#------------------------------------------------------------------------------
#$Date: 2015-07-11 01:56:06 +0200 (Sat 11 de Jul de 2015) $
#$Revision: 143864 $
#$URL: svn://www.crystallography.net/cod/cif/1/52/32/1523250.cif $
#------------------------------------------------------------------------------
#
# This file is available in the Crystallography Open Database (COD),
# http://www.crystallography.net/
#
# All data on this site have been placed in the public domain by the
# contributors.
#
data_1523250
loop_
_publ_author_name
'Bhan, S.'
'Schubert, K.'
_publ_section_title
;
 Ueber die Struktur von Phasen mit Kupfer-Unterstruktur in einigen T-B
 Legierungen (T= Ni, Pd, Pt; B= Ga, In, Tl, Pb, Sb, Bi)
;
_journal_name_full               'Journal of the Less-Common Metals'
_journal_page_first              73
_journal_page_last               90
_journal_volume                  17
_journal_year                    1969
_chemical_formula_sum            'Pb0.2 Pd3 Tl0.8'
_chemical_name_systematic        '(Pb0.2 Tl0.8) Pd3'
_space_group_IT_number           221
_symmetry_space_group_name_Hall  '-P 4 2 3'
_symmetry_space_group_name_H-M   'P m -3 m'
_cell_angle_alpha                90
_cell_angle_beta                 90
_cell_angle_gamma                90
_cell_formula_units_Z            1
_cell_length_a                   4.034
_cell_length_b                   4.034
_cell_length_c                   4.034
_cell_volume                     65.646
_citation_journal_id_ASTM        JCOMAH
_cod_data_source_file            Bhan_JCOMAH_1969_1679.cif
_cod_data_source_block           Pb0.2Pd3Tl0.8
_cod_original_cell_volume        65.6459
_cod_database_code               1523250
loop_
_symmetry_equiv_pos_as_xyz
x,y,z
-y,x,z
-x,-y,z
y,-x,z
x,-y,-z
y,x,-z
-x,y,-z
-y,-x,-z
z,x,y
-x,z,y
-z,-x,y
x,-z,y
z,-x,-y
x,z,-y
-z,x,-y
-x,-z,-y
y,z,x
y,-z,-x
z,y,-x
-y,z,-x
-z,-y,-x
-y,-z,x
z,-y,x
-z,y,x
-x,-y,-z
y,-x,-z
x,y,-z
-y,x,-z
-x,y,z
-y,-x,z
x,-y,z
y,x,z
-z,-x,-y
x,-z,-y
z,x,-y
-x,z,-y
-z,x,y
-x,-z,y
z,-x,y
x,z,y
-y,-z,-x
-y,z,x
-z,-y,x
y,-z,x
z,y,x
y,z,-x
-z,y,-x
z,-y,-x
loop_
_atom_site_label
_atom_site_type_symbol
_atom_site_fract_x
_atom_site_fract_y
_atom_site_fract_z
_atom_site_occupancy
_atom_site_U_iso_or_equiv
Pb1 Pb 0 0 0 0.2 0.0
Pd1 Pd 0 0.5 0.5 1 0.0
Tl1 Tl 0 0 0 0.8 0.0
