#------------------------------------------------------------------------------
#$Date: 2016-02-13 20:28:24 +0100 (Sat 13 de Feb de 2016) $
#$Revision: 176429 $
#$URL: svn://www.crystallography.net/cod/cif/1/52/37/1523763.cif $
#------------------------------------------------------------------------------
#
# This file is available in the Crystallography Open Database (COD),
# http://www.crystallography.net/
#
# All data on this site have been placed in the public domain by the
# contributors.
#
data_1523763
loop_
_publ_author_name
'Gulamova, D.D.'
'Raevskaya, M.V.'
'Sokolova, I.G.'
'Litvak, F.S.'
'Sokolovskaya, E.M.'
_publ_section_title
;
 The interaction of the intermetallic compounds RuTi and Ru Hf
;
_journal_name_full               'Vestnik Moskovskogo Universiteta, Khimiya'
_journal_page_first              489
_journal_page_last               490
_journal_volume                  13
_journal_year                    1972
_chemical_formula_sum            'Hf0.5 Ru Ti0.5'
_chemical_name_systematic        '(Hf0.5 Ti0.5) Ru'
_space_group_IT_number           221
_symmetry_space_group_name_Hall  '-P 4 2 3'
_symmetry_space_group_name_H-M   'P m -3 m'
_cell_angle_alpha                90
_cell_angle_beta                 90
_cell_angle_gamma                90
_cell_formula_units_Z            1
_cell_length_a                   3.164
_cell_length_b                   3.164
_cell_length_c                   3.164
_cell_volume                     31.674
_citation_journal_id_ASTM        VMUKA5
_cod_data_source_file            Gulamova_VMUKA5_1972_590.cif
_cod_data_source_block           Hf0.5Ru1Ti0.5
_cod_original_cell_volume        31.67448
_cod_original_formula_sum        'Hf0.5 Ru1 Ti0.5'
_cod_database_code               1523763
loop_
_symmetry_equiv_pos_as_xyz
x,y,z
-y,x,z
-x,-y,z
y,-x,z
x,-y,-z
y,x,-z
-x,y,-z
-y,-x,-z
z,x,y
-x,z,y
-z,-x,y
x,-z,y
z,-x,-y
x,z,-y
-z,x,-y
-x,-z,-y
y,z,x
y,-z,-x
z,y,-x
-y,z,-x
-z,-y,-x
-y,-z,x
z,-y,x
-z,y,x
-x,-y,-z
y,-x,-z
x,y,-z
-y,x,-z
-x,y,z
-y,-x,z
x,-y,z
y,x,z
-z,-x,-y
x,-z,-y
z,x,-y
-x,z,-y
-z,x,y
-x,-z,y
z,-x,y
x,z,y
-y,-z,-x
-y,z,x
-z,-y,x
y,-z,x
z,y,x
y,z,-x
-z,y,-x
z,-y,-x
loop_
_atom_site_label
_atom_site_type_symbol
_atom_site_fract_x
_atom_site_fract_y
_atom_site_fract_z
_atom_site_occupancy
_atom_site_U_iso_or_equiv
Ru1 Ru 0.5 0.5 0.5 1 0.0
Hf1 Hf 0 0 0 0.5 0.0
Ti1 Ti 0 0 0 0.5 0.0
