#------------------------------------------------------------------------------
#$Date: 2016-02-13 20:28:24 +0100 (Sat 13 de Feb de 2016) $
#$Revision: 176429 $
#$URL: svn://www.crystallography.net/cod/cif/1/52/40/1524035.cif $
#------------------------------------------------------------------------------
#
# This file is available in the Crystallography Open Database (COD),
# http://www.crystallography.net/
#
# All data on this site have been placed in the public domain by the
# contributors.
#
data_1524035
loop_
_publ_author_name
'Bataleva, S.K.'
'Kuprina, V.V.'
'Markiv, V.Ya.'
'Burnashova, V.V.'
_publ_section_title
;
 The zirconium-niobium-cobalt system
;
_journal_name_full               'Vestnik Moskovskogo Universiteta, Khimiya'
_journal_page_first              48
_journal_page_last               53
_journal_volume                  23
_journal_year                    1968
_chemical_formula_sum            'Co Nb0.3 Zr0.7'
_chemical_name_systematic        'Co (Nb0.3 Zr0.7)'
_space_group_IT_number           221
_symmetry_space_group_name_Hall  '-P 4 2 3'
_symmetry_space_group_name_H-M   'P m -3 m'
_cell_angle_alpha                90
_cell_angle_beta                 90
_cell_angle_gamma                90
_cell_formula_units_Z            1
_cell_length_a                   3.163
_cell_length_b                   3.163
_cell_length_c                   3.163
_cell_volume                     31.644
_citation_journal_id_ASTM        VMUKA5
_cod_data_source_file            Bataleva_VMUKA5_1968_1131.cif
_cod_data_source_block           Co1Nb0.3Zr0.7
_cod_original_cell_volume        31.64445
_cod_original_formula_sum        'Co1 Nb0.3 Zr0.7'
_cod_database_code               1524035
loop_
_symmetry_equiv_pos_as_xyz
x,y,z
-y,x,z
-x,-y,z
y,-x,z
x,-y,-z
y,x,-z
-x,y,-z
-y,-x,-z
z,x,y
-x,z,y
-z,-x,y
x,-z,y
z,-x,-y
x,z,-y
-z,x,-y
-x,-z,-y
y,z,x
y,-z,-x
z,y,-x
-y,z,-x
-z,-y,-x
-y,-z,x
z,-y,x
-z,y,x
-x,-y,-z
y,-x,-z
x,y,-z
-y,x,-z
-x,y,z
-y,-x,z
x,-y,z
y,x,z
-z,-x,-y
x,-z,-y
z,x,-y
-x,z,-y
-z,x,y
-x,-z,y
z,-x,y
x,z,y
-y,-z,-x
-y,z,x
-z,-y,x
y,-z,x
z,y,x
y,z,-x
-z,y,-x
z,-y,-x
loop_
_atom_site_label
_atom_site_type_symbol
_atom_site_fract_x
_atom_site_fract_y
_atom_site_fract_z
_atom_site_occupancy
_atom_site_U_iso_or_equiv
Co1 Co 0 0 0 1 0.0
Nb1 Nb 0.5 0.5 0.5 0.3 0.0
Zr1 Zr 0.5 0.5 0.5 0.7 0.0
