#------------------------------------------------------------------------------
#$Date: 2018-09-27 06:13:35 +0200 (jue 27 de sep de 2018) $
#$Revision: 211196 $
#$URL: svn://www.crystallography.net/cod/cif/1/52/41/1524185.cif $
#------------------------------------------------------------------------------
#
# This file is available in the Crystallography Open Database (COD),
# http://www.crystallography.net/
#
# All data on this site have been placed in the public domain by the
# contributors.
#
data_1524185
loop_
_publ_author_name
'Castelliz, L.'
_publ_section_title
;
 Kristallstruktur von Mn5 Ge3 und einigen ternaeren Phasen mit zwei
 Uebergangselementen
;
_journal_name_full               'Monatshefte fuer Chemie (-108,1977)'
_journal_page_first              765
_journal_page_last               776
_journal_volume                  84
_journal_year                    1953
_chemical_formula_sum            'Co0.75 Ni1.5 Sn0.75'
_space_group_IT_number           194
_symmetry_space_group_name_Hall  '-P 6c 2c'
_symmetry_space_group_name_H-M   'P 63/m m c'
_cell_angle_alpha                90
_cell_angle_beta                 90
_cell_angle_gamma                120
_cell_formula_units_Z            2
_cell_length_a                   4.095
_cell_length_b                   4.095
_cell_length_c                   5.208
_cell_volume                     75.633
_citation_journal_id_ASTM        MOCHAP
_cod_data_source_file            Castelliz_MOCHAP_1953_1155.cif
_cod_data_source_block           Co0.75Ni1.5Sn0.75
_cod_original_cell_volume        75.63266
_cod_database_code               1524185
loop_
_symmetry_equiv_pos_as_xyz
x,y,z
x-y,x,z+1/2
-y,x-y,z
-x,-y,z+1/2
-x+y,-x,z
y,-x+y,z+1/2
-y,-x,-z+1/2
x-y,-y,-z
x,x-y,-z+1/2
y,x,-z
-x+y,y,-z+1/2
-x,-x+y,-z
-x,-y,-z
-x+y,-x,-z-1/2
y,-x+y,-z
x,y,-z-1/2
x-y,x,-z
-y,x-y,-z-1/2
y,x,z-1/2
-x+y,y,z
-x,-x+y,z-1/2
-y,-x,z
x-y,-y,z-1/2
x,x-y,z
loop_
_atom_site_label
_atom_site_type_symbol
_atom_site_fract_x
_atom_site_fract_y
_atom_site_fract_z
_atom_site_occupancy
_atom_site_U_iso_or_equiv
Ni1 Ni 0 0 0 0.25 0.0
Sn2 Sn 0.3333 0.6667 0.25 0.75 0.0
Ni2 Ni 0.3333 0.6667 0.25 0.25 0.0
Ni3 Ni 0.3333 0.6667 0.75 1 0.0
Co1 Co 0 0 0 0.75 0.0
