#------------------------------------------------------------------------------
#$Date: 2016-02-13 20:28:24 +0100 (Sat 13 de Feb de 2016) $
#$Revision: 176429 $
#$URL: svn://www.crystallography.net/cod/cif/1/52/42/1524219.cif $
#------------------------------------------------------------------------------
#
# This file is available in the Crystallography Open Database (COD),
# http://www.crystallography.net/
#
# All data on this site have been placed in the public domain by the
# contributors.
#
data_1524219
loop_
_publ_author_name
'Chuang, Y.C.'
'Wu, C.-H.'
'Fong, J.'
_publ_section_title
;
 Investigation of the structure and phase equilibria of Nd (Co1-x Mx)5
 compounds (M= Ni, Cu, Al)
;
_journal_name_full               'Journal of the Less-Common Metals'
_journal_page_first              215
_journal_page_last               223
_journal_volume                  132
_journal_year                    1987
_chemical_formula_sum            'Co2.5 Cu2.5 Nd'
_chemical_name_systematic        '(Co2.5 Cu2.5) Nd'
_space_group_IT_number           191
_symmetry_space_group_name_Hall  '-P 6 2'
_symmetry_space_group_name_H-M   'P 6/m m m'
_cell_angle_alpha                90
_cell_angle_beta                 90
_cell_angle_gamma                120
_cell_formula_units_Z            1
_cell_length_a                   5.052
_cell_length_b                   5.052
_cell_length_c                   4.032
_cell_volume                     89.121
_citation_journal_id_ASTM        JCOMAH
_cod_data_source_file            Chuang_JCOMAH_1987_929.cif
_cod_data_source_block           Co2.5Cu2.5Nd1
_cod_original_cell_volume        89.12055
_cod_original_formula_sum        'Co2.5 Cu2.5 Nd1'
_cod_database_code               1524219
loop_
_symmetry_equiv_pos_as_xyz
x,y,z
x-y,x,z
-y,x-y,z
-x,-y,z
-x+y,-x,z
y,-x+y,z
-y,-x,-z
x-y,-y,-z
x,x-y,-z
y,x,-z
-x+y,y,-z
-x,-x+y,-z
-x,-y,-z
-x+y,-x,-z
y,-x+y,-z
x,y,-z
x-y,x,-z
-y,x-y,-z
y,x,z
-x+y,y,z
-x,-x+y,z
-y,-x,z
x-y,-y,z
x,x-y,z
loop_
_atom_site_label
_atom_site_type_symbol
_atom_site_fract_x
_atom_site_fract_y
_atom_site_fract_z
_atom_site_occupancy
_atom_site_U_iso_or_equiv
Cu1 Cu 0.3333 0.6667 0 0.5 0.0
Co1 Co 0.3333 0.6667 0 0.5 0.0
Nd1 Nd 0 0 0 1 0.0
Co2 Co 0.5 0 0.5 0.5 0.0
Cu2 Cu 0.5 0 0.5 0.5 0.0
