#------------------------------------------------------------------------------
#$Date: 2015-07-11 16:26:01 +0200 (Sat 11 de Jul de 2015) $
#$Revision: 145269 $
#$URL: svn://www.crystallography.net/cod/cif/1/52/44/1524493.cif $
#------------------------------------------------------------------------------
#
# This file is available in the Crystallography Open Database (COD),
# http://www.crystallography.net/
#
# All data on this site have been placed in the public domain by the
# contributors.
#
data_1524493
loop_
_publ_author_name
'Harris, I.R.'
'Longworth, G.'
_publ_section_title
;
 A study of the lattice spacings, magnetic susceptibilities and 151Eu
 Moessbauer spectra of som Pd-Eu alloys
;
_journal_name_full               'Journal of the Less-Common Metals'
_journal_page_first              281
_journal_page_last               292
_journal_volume                  23
_journal_year                    1971
_chemical_formula_sum            'Eu0.96 Pd3.04'
_chemical_name_systematic        '(Eu0.96 Pd0.04) Pd3'
_space_group_IT_number           221
_symmetry_space_group_name_Hall  '-P 4 2 3'
_symmetry_space_group_name_H-M   'P m -3 m'
_cell_angle_alpha                90
_cell_angle_beta                 90
_cell_angle_gamma                90
_cell_formula_units_Z            1
_cell_length_a                   4.0853
_cell_length_b                   4.0853
_cell_length_c                   4.0853
_cell_volume                     68.182
_citation_journal_id_ASTM        JCOMAH
_cod_data_source_file            Harris_JCOMAH_1971_1880.cif
_cod_data_source_block           Eu0.96Pd3.04
_cod_original_cell_volume        68.18233
_cod_database_code               1524493
loop_
_symmetry_equiv_pos_as_xyz
x,y,z
-y,x,z
-x,-y,z
y,-x,z
x,-y,-z
y,x,-z
-x,y,-z
-y,-x,-z
z,x,y
-x,z,y
-z,-x,y
x,-z,y
z,-x,-y
x,z,-y
-z,x,-y
-x,-z,-y
y,z,x
y,-z,-x
z,y,-x
-y,z,-x
-z,-y,-x
-y,-z,x
z,-y,x
-z,y,x
-x,-y,-z
y,-x,-z
x,y,-z
-y,x,-z
-x,y,z
-y,-x,z
x,-y,z
y,x,z
-z,-x,-y
x,-z,-y
z,x,-y
-x,z,-y
-z,x,y
-x,-z,y
z,-x,y
x,z,y
-y,-z,-x
-y,z,x
-z,-y,x
y,-z,x
z,y,x
y,z,-x
-z,y,-x
z,-y,-x
loop_
_atom_site_label
_atom_site_type_symbol
_atom_site_fract_x
_atom_site_fract_y
_atom_site_fract_z
_atom_site_occupancy
_atom_site_U_iso_or_equiv
Pd1 Pd 0 0 0 0.04 0.0
Pd2 Pd 0 0.5 0.5 1 0.0
Eu1 Eu 0 0 0 0.96 0.0
