#------------------------------------------------------------------------------
#$Date: 2016-02-13 20:28:24 +0100 (Sat 13 de Feb de 2016) $
#$Revision: 176429 $
#$URL: svn://www.crystallography.net/cod/cif/1/52/47/1524733.cif $
#------------------------------------------------------------------------------
#
# This file is available in the Crystallography Open Database (COD),
# http://www.crystallography.net/
#
# All data on this site have been placed in the public domain by the
# contributors.
#
data_1524733
loop_
_publ_author_name
'Komarovskaya, L.P.'
'Skolozdra, R.V.'
'Filatova, I.V.'
_publ_section_title
;
 Crystal structure and magnetic susceptibility of R Cu Si compounds
;
_journal_name_full
;
Dopovidi Akademii Nauk Ukrains'koi RSR, Seriya A: Fiziko-Matematichni Ta 
Tekhnichni Nauki
;
_journal_page_first              82
_journal_page_last               84
_journal_volume                  45
_journal_year                    1983
_chemical_formula_sum            'Cu Lu Sn'
_chemical_name_systematic        '(Cu Sn) Lu'
_space_group_IT_number           194
_symmetry_space_group_name_Hall  '-P 6c 2c'
_symmetry_space_group_name_H-M   'P 63/m m c'
_cell_angle_alpha                90
_cell_angle_beta                 90
_cell_angle_gamma                120
_cell_formula_units_Z            2
_cell_length_a                   4.457
_cell_length_b                   4.457
_cell_length_c                   7.093
_cell_volume                     122.024
_citation_journal_id_ASTM        DNUNDU
_cod_data_source_file            Komarovskaya_DNUNDU_1983_1561.cif
_cod_data_source_block           Cu1Lu1Sn1
_cod_original_cell_volume        122.0242
_cod_original_formula_sum        'Cu1 Lu1 Sn1'
_cod_database_code               1524733
loop_
_symmetry_equiv_pos_as_xyz
x,y,z
x-y,x,z+1/2
-y,x-y,z
-x,-y,z+1/2
-x+y,-x,z
y,-x+y,z+1/2
-y,-x,-z+1/2
x-y,-y,-z
x,x-y,-z+1/2
y,x,-z
-x+y,y,-z+1/2
-x,-x+y,-z
-x,-y,-z
-x+y,-x,-z-1/2
y,-x+y,-z
x,y,-z-1/2
x-y,x,-z
-y,x-y,-z-1/2
y,x,z-1/2
-x+y,y,z
-x,-x+y,z-1/2
-y,-x,z
x-y,-y,z-1/2
x,x-y,z
loop_
_atom_site_label
_atom_site_type_symbol
_atom_site_fract_x
_atom_site_fract_y
_atom_site_fract_z
_atom_site_occupancy
_atom_site_U_iso_or_equiv
Sn1 Sn 0.3333 0.6667 0.454 0.5 0.0
Cu1 Cu 0.3333 0.6667 0.454 0.5 0.0
Lu1 Lu 0 0 0.25 1 0.0
