#------------------------------------------------------------------------------
#$Date: 2018-09-27 06:13:35 +0200 (jue 27 de sep de 2018) $
#$Revision: 211196 $
#$URL: svn://www.crystallography.net/cod/cif/1/52/49/1524968.cif $
#------------------------------------------------------------------------------
#
# This file is available in the Crystallography Open Database (COD),
# http://www.crystallography.net/
#
# All data on this site have been placed in the public domain by the
# contributors.
#
data_1524968
loop_
_publ_author_name
'Nakazatro, M.'
'Wakabayashi, N.'
'Kitai, T.'
_publ_section_title
;
 X-ray diffraction studies of La Cd, Ce Cd and Pr Cd at low temperatures
;
_journal_name_full               'Journal of the Physical Society of Japan'
_journal_page_first              953
_journal_page_last               961
_journal_volume                  57
_journal_year                    1988
_chemical_formula_sum            'Cd La'
_space_group_IT_number           123
_symmetry_space_group_name_Hall  '-P 4 2'
_symmetry_space_group_name_H-M   'P 4/m m m'
_cell_angle_alpha                90
_cell_angle_beta                 90
_cell_angle_gamma                90
_cell_formula_units_Z            1
_cell_length_a                   3.854
_cell_length_b                   3.854
_cell_length_c                   3.967
_cell_volume                     58.923
_citation_journal_id_ASTM        JUPSAU
_cod_data_source_file            Nakazatro_JUPSAU_1988_640.cif
_cod_data_source_block           Cd1La1
_cod_original_cell_volume        58.92311
_cod_original_formula_sum        'Cd1 La1'
_cod_database_code               1524968
loop_
_symmetry_equiv_pos_as_xyz
x,y,z
-y,x,z
-x,-y,z
y,-x,z
x,-y,-z
y,x,-z
-x,y,-z
-y,-x,-z
-x,-y,-z
y,-x,-z
x,y,-z
-y,x,-z
-x,y,z
-y,-x,z
x,-y,z
y,x,z
loop_
_atom_site_label
_atom_site_type_symbol
_atom_site_fract_x
_atom_site_fract_y
_atom_site_fract_z
_atom_site_occupancy
_atom_site_U_iso_or_equiv
La1 La 0.5 0.5 0.5 1 0.0
Cd1 Cd 0 0 0 1 0.0
