#------------------------------------------------------------------------------
#$Date: 2016-02-13 20:28:24 +0100 (Sat 13 de Feb de 2016) $
#$Revision: 176429 $
#$URL: svn://www.crystallography.net/cod/cif/1/52/52/1525258.cif $
#------------------------------------------------------------------------------
#
# This file is available in the Crystallography Open Database (COD),
# http://www.crystallography.net/
#
# All data on this site have been placed in the public domain by the
# contributors.
#
data_1525258
loop_
_publ_author_name
'Shimizu, S.'
'Murakami, Y.'
'Kachi, S.'
_publ_section_title
;
 Lattice softening and martensitic transformation in Cu - Ni - Zn
 beta-phase alloys
;
_journal_name_full               'Journal of the Physical Society of Japan'
_journal_page_first              79
_journal_page_last               84
_journal_volume                  41
_journal_year                    1976
_chemical_formula_sum            'Cu0.5 Ni0.5 Zn'
_chemical_name_systematic        '(Cu0.5 Ni0.5) Zn'
_space_group_IT_number           221
_symmetry_space_group_name_Hall  '-P 4 2 3'
_symmetry_space_group_name_H-M   'P m -3 m'
_cell_angle_alpha                90
_cell_angle_beta                 90
_cell_angle_gamma                90
_cell_formula_units_Z            1
_cell_length_a                   2.92
_cell_length_b                   2.92
_cell_length_c                   2.92
_cell_volume                     24.897
_citation_journal_id_ASTM        JUPSAU
_cod_data_source_file            Shimizu_JUPSAU_1976_1589.cif
_cod_data_source_block           Cu0.5Ni0.5Zn1
_cod_original_cell_volume        24.89709
_cod_original_formula_sum        'Cu0.5 Ni0.5 Zn1'
_cod_database_code               1525258
loop_
_symmetry_equiv_pos_as_xyz
x,y,z
-y,x,z
-x,-y,z
y,-x,z
x,-y,-z
y,x,-z
-x,y,-z
-y,-x,-z
z,x,y
-x,z,y
-z,-x,y
x,-z,y
z,-x,-y
x,z,-y
-z,x,-y
-x,-z,-y
y,z,x
y,-z,-x
z,y,-x
-y,z,-x
-z,-y,-x
-y,-z,x
z,-y,x
-z,y,x
-x,-y,-z
y,-x,-z
x,y,-z
-y,x,-z
-x,y,z
-y,-x,z
x,-y,z
y,x,z
-z,-x,-y
x,-z,-y
z,x,-y
-x,z,-y
-z,x,y
-x,-z,y
z,-x,y
x,z,y
-y,-z,-x
-y,z,x
-z,-y,x
y,-z,x
z,y,x
y,z,-x
-z,y,-x
z,-y,-x
loop_
_atom_site_label
_atom_site_type_symbol
_atom_site_fract_x
_atom_site_fract_y
_atom_site_fract_z
_atom_site_occupancy
_atom_site_U_iso_or_equiv
Zn1 Zn 0.5 0.5 0.5 1 0.0
Cu1 Cu 0 0 0 0.5 0.0
Ni1 Ni 0 0 0 0.5 0.0
