#------------------------------------------------------------------------------
#$Date: 2016-02-13 20:28:24 +0100 (Sat 13 de Feb de 2016) $
#$Revision: 176429 $
#$URL: svn://www.crystallography.net/cod/cif/1/52/54/1525424.cif $
#------------------------------------------------------------------------------
#
# This file is available in the Crystallography Open Database (COD),
# http://www.crystallography.net/
#
# All data on this site have been placed in the public domain by the
# contributors.
#
data_1525424
loop_
_publ_author_name
'Vasilev, E.A.'
'Virchenko, V.A.'
_publ_section_title
;
 Solid solutions in the (Fe1.22Sb)1-x (Fe1.68Sn)x system
;
_journal_name_full
'Physica Status Solidi, Sectio A: Applied Research'
_journal_page_first              K141
_journal_page_last               K143
_journal_volume                  70
_journal_year                    1982
_chemical_formula_sum            'Fe Sb0.82'
_chemical_name_systematic        'Fe Sb'
_space_group_IT_number           194
_symmetry_space_group_name_Hall  '-P 6c 2c'
_symmetry_space_group_name_H-M   'P 63/m m c'
_cell_angle_alpha                90
_cell_angle_beta                 90
_cell_angle_gamma                120
_cell_formula_units_Z            2
_cell_length_a                   4.1
_cell_length_b                   4.1
_cell_length_c                   5.14
_cell_volume                     74.828
_citation_journal_id_ASTM        PSSABA
_cod_data_source_file            Vasilev_PSSABA_1982_46.cif
_cod_data_source_block           Fe1Sb0.82
_cod_original_cell_volume        74.82754
_cod_original_formula_sum        'Fe1 Sb0.82'
_cod_database_code               1525424
loop_
_symmetry_equiv_pos_as_xyz
x,y,z
x-y,x,z+1/2
-y,x-y,z
-x,-y,z+1/2
-x+y,-x,z
y,-x+y,z+1/2
-y,-x,-z+1/2
x-y,-y,-z
x,x-y,-z+1/2
y,x,-z
-x+y,y,-z+1/2
-x,-x+y,-z
-x,-y,-z
-x+y,-x,-z-1/2
y,-x+y,-z
x,y,-z-1/2
x-y,x,-z
-y,x-y,-z-1/2
y,x,z-1/2
-x+y,y,z
-x,-x+y,z-1/2
-y,-x,z
x-y,-y,z-1/2
x,x-y,z
loop_
_atom_site_label
_atom_site_type_symbol
_atom_site_fract_x
_atom_site_fract_y
_atom_site_fract_z
_atom_site_occupancy
_atom_site_U_iso_or_equiv
Sb1 Sb 0.3333 0.6667 0.25 0.82 0.0
Fe1 Fe 0 0 0 1 0.0
