#------------------------------------------------------------------------------
#$Date: 2015-07-11 22:54:31 +0200 (Sat 11 de Jul de 2015) $
#$Revision: 146402 $
#$URL: svn://www.crystallography.net/cod/cif/1/52/54/1525439.cif $
#------------------------------------------------------------------------------
#
# This file is available in the Crystallography Open Database (COD),
# http://www.crystallography.net/
#
# All data on this site have been placed in the public domain by the
# contributors.
#
data_1525439
loop_
_publ_author_name
'Wallace, W.E.'
'Ganapathy, E.V.'
'Craig, R.S.'
_publ_section_title
;
 Magnetism of Th Co5-based alloys
;
_journal_name_full               'Journal of Applied Physics'
_journal_page_first              2327
_journal_page_last               2329
_journal_volume                  50
_journal_year                    1979
_chemical_formula_sum            'Co5 Th0.6 Y0.4'
_chemical_name_systematic        'Co5 (Th0.6 Y0.4)'
_space_group_IT_number           191
_symmetry_space_group_name_Hall  '-P 6 2'
_symmetry_space_group_name_H-M   'P 6/m m m'
_cell_angle_alpha                90
_cell_angle_beta                 90
_cell_angle_gamma                120
_cell_formula_units_Z            1
_cell_length_a                   5
_cell_length_b                   5
_cell_length_c                   4.002
_cell_volume                     86.646
_citation_journal_id_ASTM        JAPIAU
_cod_data_source_file            Wallace_JAPIAU_1979_1250.cif
_cod_data_source_block           Co5Th0.6Y0.4
_cod_original_cell_volume        86.64584
_cod_database_code               1525439
loop_
_symmetry_equiv_pos_as_xyz
x,y,z
x-y,x,z
-y,x-y,z
-x,-y,z
-x+y,-x,z
y,-x+y,z
-y,-x,-z
x-y,-y,-z
x,x-y,-z
y,x,-z
-x+y,y,-z
-x,-x+y,-z
-x,-y,-z
-x+y,-x,-z
y,-x+y,-z
x,y,-z
x-y,x,-z
-y,x-y,-z
y,x,z
-x+y,y,z
-x,-x+y,z
-y,-x,z
x-y,-y,z
x,x-y,z
loop_
_atom_site_label
_atom_site_type_symbol
_atom_site_fract_x
_atom_site_fract_y
_atom_site_fract_z
_atom_site_occupancy
_atom_site_U_iso_or_equiv
Th1 Th 0 0 0 0.6 0.0
Co2 Co 0.5 0 0.5 1 0.0
Co1 Co 0.3333 0.6667 0 1 0.0
Y1 Y 0 0 0 0.4 0.0
