#------------------------------------------------------------------------------
#$Date: 2018-09-27 06:13:35 +0200 (jue 27 de sep de 2018) $
#$Revision: 211196 $
#$URL: svn://www.crystallography.net/cod/cif/1/52/55/1525520.cif $
#------------------------------------------------------------------------------
#
# This file is available in the Crystallography Open Database (COD),
# http://www.crystallography.net/
#
# All data on this site have been placed in the public domain by the
# contributors.
#
data_1525520
loop_
_publ_author_name
'Zintl, E.'
'Neumayr, S.'
_publ_section_title
;
 Über Legierungsphasen vom Typus NaPb₃
;
_journal_issue                   2
_journal_name_full
;
 Zeitschrift für Elektrochemie und angewandte physikalische Chemie
;
_journal_page_first              86
_journal_page_last               97
_journal_paper_doi               10.1002/bbpc.19330390209
_journal_volume                  39
_journal_year                    1933
_chemical_formula_sum            'Ce Pb3'
_space_group_IT_number           221
_symmetry_space_group_name_Hall  '-P 4 2 3'
_symmetry_space_group_name_H-M   'P m -3 m'
_cell_angle_alpha                90
_cell_angle_beta                 90
_cell_angle_gamma                90
_cell_formula_units_Z            1
_cell_length_a                   4.874
_cell_length_b                   4.874
_cell_length_c                   4.874
_cell_volume                     115.786
_citation_journal_id_ASTM        ZEELAI
_cod_data_source_file            Zintl_ZEELAI_1933_856.cif
_cod_data_source_block           Ce1Pb3
_cod_original_cell_volume        115.7861
_cod_original_formula_sum        'Ce1 Pb3'
_cod_database_code               1525520
loop_
_symmetry_equiv_pos_as_xyz
x,y,z
-y,x,z
-x,-y,z
y,-x,z
x,-y,-z
y,x,-z
-x,y,-z
-y,-x,-z
z,x,y
-x,z,y
-z,-x,y
x,-z,y
z,-x,-y
x,z,-y
-z,x,-y
-x,-z,-y
y,z,x
y,-z,-x
z,y,-x
-y,z,-x
-z,-y,-x
-y,-z,x
z,-y,x
-z,y,x
-x,-y,-z
y,-x,-z
x,y,-z
-y,x,-z
-x,y,z
-y,-x,z
x,-y,z
y,x,z
-z,-x,-y
x,-z,-y
z,x,-y
-x,z,-y
-z,x,y
-x,-z,y
z,-x,y
x,z,y
-y,-z,-x
-y,z,x
-z,-y,x
y,-z,x
z,y,x
y,z,-x
-z,y,-x
z,-y,-x
loop_
_atom_site_label
_atom_site_type_symbol
_atom_site_fract_x
_atom_site_fract_y
_atom_site_fract_z
_atom_site_occupancy
_atom_site_U_iso_or_equiv
Pb1 Pb 0 0.5 0.5 1 0.0
Ce1 Ce 0 0 0 1 0.0
