#------------------------------------------------------------------------------
#$Date: 2016-02-13 20:28:24 +0100 (Sat 13 de Feb de 2016) $
#$Revision: 176429 $
#$URL: svn://www.crystallography.net/cod/cif/1/52/68/1526875.cif $
#------------------------------------------------------------------------------
#
# This file is available in the Crystallography Open Database (COD),
# http://www.crystallography.net/
#
# All data on this site have been placed in the public domain by the
# contributors.
#
data_1526875
loop_
_publ_author_name
'Vasylechko, L.'
'Knapp, M.'
'Niewa, R.'
'Borrmann, H.'
'Bismayer, U.'
'Savytskii, D.'
'Matkovskii, A.'
'Berkowski, M.'
_publ_section_title
;
 R3-c - Pbnm phase transition of La1-x Smx Ga O3 (0 < x < 0.3) perovskites
 and crystal structures of the orthorhombic and trigonalphases
;
_journal_name_full               'Solid State Ionics'
_journal_page_first              219
_journal_page_last               227
_journal_volume                  143
_journal_year                    2001
_chemical_formula_sum            'Ga La0.9 O3 Sm0.1'
_chemical_name_systematic        '(La0.9 Sm0.1) Ga O3'
_space_group_IT_number           167
_symmetry_space_group_name_Hall  '-R 3 2"c'
_symmetry_space_group_name_H-M   'R -3 c :H'
_cell_angle_alpha                90
_cell_angle_beta                 90
_cell_angle_gamma                120
_cell_formula_units_Z            6
_cell_length_a                   5.55513
_cell_length_b                   5.55513
_cell_length_c                   13.4919
_cell_volume                     360.572
_citation_journal_id_ASTM        SSIOD3
_cod_data_source_file            Vasylechko_SSIOD3_2001_1956.cif
_cod_data_source_block           Ga1La0.9O3Sm0.1
_cod_original_cell_volume        360.5722
_cod_original_formula_sum        'Ga1 La0.9 O3 Sm0.1'
_cod_database_code               1526875
loop_
_symmetry_equiv_pos_as_xyz
x,y,z
-y,x-y,z
-x+y,-x,z
y,x,-z+1/2
-x,-x+y,-z+1/2
x-y,-y,-z+1/2
-x,-y,-z
y,-x+y,-z
x-y,x,-z
-y,-x,z-1/2
x,x-y,z-1/2
-x+y,y,z-1/2
x+2/3,y+1/3,z+1/3
-y+2/3,x-y+1/3,z+1/3
-x+y+2/3,-x+1/3,z+1/3
y+2/3,x+1/3,-z+5/6
-x+2/3,-x+y+1/3,-z+5/6
x-y+2/3,-y+1/3,-z+5/6
-x+2/3,-y+1/3,-z+1/3
y+2/3,-x+y+1/3,-z+1/3
x-y+2/3,x+1/3,-z+1/3
-y+2/3,-x+1/3,z-1/6
x+2/3,x-y+1/3,z-1/6
-x+y+2/3,y+1/3,z-1/6
x+1/3,y+2/3,z+2/3
-y+1/3,x-y+2/3,z+2/3
-x+y+1/3,-x+2/3,z+2/3
y+1/3,x+2/3,-z+7/6
-x+1/3,-x+y+2/3,-z+7/6
x-y+1/3,-y+2/3,-z+7/6
-x+1/3,-y+2/3,-z+2/3
y+1/3,-x+y+2/3,-z+2/3
x-y+1/3,x+2/3,-z+2/3
-y+1/3,-x+2/3,z+1/6
x+1/3,x-y+2/3,z+1/6
-x+y+1/3,y+2/3,z+1/6
loop_
_atom_site_label
_atom_site_type_symbol
_atom_site_fract_x
_atom_site_fract_y
_atom_site_fract_z
_atom_site_occupancy
_atom_site_U_iso_or_equiv
Sm1 Sm+3 0 0 0.25 0.1 0.0
O1 O-2 0.56 0 0.25 1 0.0
Ga1 Ga+3 0 0 0 1 0.0
La1 La+3 0 0 0.25 0.9 0.0
