#------------------------------------------------------------------------------
#$Date: 2015-07-13 05:45:30 +0200 (lun 13 de jul de 2015) $
#$Revision: 149825 $
#$URL: svn://www.crystallography.net/cod/cif/1/52/79/1527990.cif $
#------------------------------------------------------------------------------
#
# This file is available in the Crystallography Open Database (COD),
# http://www.crystallography.net/
#
# All data on this site have been placed in the public domain by the
# contributors.
#
data_1527990
loop_
_publ_author_name
'Rice, C.E.'
'Robinson, W.R.'
_publ_section_title
;
 Structural changes in the solid solution (Ti1-x Vx)2 O3 as x varies from
 zero to one
;
_journal_name_full               'Journal of Solid State Chemistry'
_journal_page_first              145
_journal_page_last               154
_journal_volume                  21
_journal_year                    1977
_chemical_formula_sum            'O3 Ti1.4 V0.6'
_chemical_name_systematic        '(Ti0.7 V0.3)2 O3'
_space_group_IT_number           167
_symmetry_space_group_name_Hall  '-R 3 2"c'
_symmetry_space_group_name_H-M   'R -3 c :H'
_cell_angle_alpha                90
_cell_angle_beta                 90
_cell_angle_gamma                120
_cell_formula_units_Z            6
_cell_length_a                   5.0539
_cell_length_b                   5.0539
_cell_length_c                   13.953
_cell_volume                     308.640
_citation_journal_id_ASTM        JSSCBI
_cod_data_source_file            Rice_JSSCBI_1977_1148.cif
_cod_data_source_block           O3Ti1.4V0.6
_cod_original_cell_volume        308.6395
_cod_database_code               1527990
loop_
_symmetry_equiv_pos_as_xyz
x,y,z
-y,x-y,z
-x+y,-x,z
y,x,-z+1/2
-x,-x+y,-z+1/2
x-y,-y,-z+1/2
-x,-y,-z
y,-x+y,-z
x-y,x,-z
-y,-x,z-1/2
x,x-y,z-1/2
-x+y,y,z-1/2
x+2/3,y+1/3,z+1/3
-y+2/3,x-y+1/3,z+1/3
-x+y+2/3,-x+1/3,z+1/3
y+2/3,x+1/3,-z+5/6
-x+2/3,-x+y+1/3,-z+5/6
x-y+2/3,-y+1/3,-z+5/6
-x+2/3,-y+1/3,-z+1/3
y+2/3,-x+y+1/3,-z+1/3
x-y+2/3,x+1/3,-z+1/3
-y+2/3,-x+1/3,z-1/6
x+2/3,x-y+1/3,z-1/6
-x+y+2/3,y+1/3,z-1/6
x+1/3,y+2/3,z+2/3
-y+1/3,x-y+2/3,z+2/3
-x+y+1/3,-x+2/3,z+2/3
y+1/3,x+2/3,-z+7/6
-x+1/3,-x+y+2/3,-z+7/6
x-y+1/3,-y+2/3,-z+7/6
-x+1/3,-y+2/3,-z+2/3
y+1/3,-x+y+2/3,-z+2/3
x-y+1/3,x+2/3,-z+2/3
-y+1/3,-x+2/3,z+1/6
x+1/3,x-y+2/3,z+1/6
-x+y+1/3,y+2/3,z+1/6
loop_
_atom_site_label
_atom_site_type_symbol
_atom_site_fract_x
_atom_site_fract_y
_atom_site_fract_z
_atom_site_occupancy
_atom_site_U_iso_or_equiv
Ti1 Ti+3 0 0 0.34668 0.7 0.0
V1 V+3 0 0 0.34668 0.3 0.0
O1 O-2 0.3109 0 0.25 1 0.0
