#------------------------------------------------------------------------------
#$Date: 2016-02-13 20:28:24 +0100 (Sat 13 de Feb de 2016) $
#$Revision: 176429 $
#$URL: svn://www.crystallography.net/cod/cif/1/52/80/1528086.cif $
#------------------------------------------------------------------------------
#
# This file is available in the Crystallography Open Database (COD),
# http://www.crystallography.net/
#
# All data on this site have been placed in the public domain by the
# contributors.
#
data_1528086
loop_
_publ_author_name
'Sokolovich, V.V.'
'Bayukov, O.A.'
_publ_section_title
;
 Phase transitions in Cr1-x Fex S (x=0.5)
;
_journal_name_full
'Fizika Tverdogo Tela (Leningrad) (= Solid State Physics)'
_journal_page_first              1018
_journal_page_last               1019
_journal_volume                  35
_journal_year                    1993
_chemical_formula_sum            'Cr0.5 Fe0.5 S'
_chemical_name_systematic        '(Cr0.5 Fe0.5) S'
_space_group_IT_number           194
_symmetry_space_group_name_Hall  '-P 6c 2c'
_symmetry_space_group_name_H-M   'P 63/m m c'
_cell_angle_alpha                90
_cell_angle_beta                 90
_cell_angle_gamma                120
_cell_formula_units_Z            2
_cell_length_a                   3.444
_cell_length_b                   3.444
_cell_length_c                   5.749
_cell_volume                     59.054
_citation_journal_id_ASTM        FTVTAC
_cod_data_source_file            Sokolovich_FTVTAC_1993_381.cif
_cod_data_source_block           Cr0.5Fe0.5S1
_cod_original_cell_volume        59.05399
_cod_original_formula_sum        'Cr0.5 Fe0.5 S1'
_cod_database_code               1528086
loop_
_symmetry_equiv_pos_as_xyz
x,y,z
x-y,x,z+1/2
-y,x-y,z
-x,-y,z+1/2
-x+y,-x,z
y,-x+y,z+1/2
-y,-x,-z+1/2
x-y,-y,-z
x,x-y,-z+1/2
y,x,-z
-x+y,y,-z+1/2
-x,-x+y,-z
-x,-y,-z
-x+y,-x,-z-1/2
y,-x+y,-z
x,y,-z-1/2
x-y,x,-z
-y,x-y,-z-1/2
y,x,z-1/2
-x+y,y,z
-x,-x+y,z-1/2
-y,-x,z
x-y,-y,z-1/2
x,x-y,z
loop_
_atom_site_label
_atom_site_type_symbol
_atom_site_fract_x
_atom_site_fract_y
_atom_site_fract_z
_atom_site_occupancy
_atom_site_U_iso_or_equiv
Cr1 Cr+2 0 0 0 0.5 0.0
Fe1 Fe+2 0 0 0 0.5 0.0
S1 S-2 0.3333 0.6667 0.25 1 0.0
