#------------------------------------------------------------------------------
#$Date: 2018-09-27 06:13:35 +0200 (jue 27 de sep de 2018) $
#$Revision: 211196 $
#$URL: svn://www.crystallography.net/cod/cif/1/53/06/1530616.cif $
#------------------------------------------------------------------------------
#
# This file is available in the Crystallography Open Database (COD),
# http://www.crystallography.net/
#
# All data on this site have been placed in the public domain by the
# contributors.
#
data_1530616
loop_
_publ_author_name
'Prokin, E.S.'
'Aksenov, B.S.'
'Chebotarev, N.T.'
'Ershova, Z.V.'
_publ_section_title
;
 Titanium, zirconium and hafnium monopolonides.
;
_journal_name_full               Radiokhimiya
_journal_page_first              648
_journal_page_last               664
_journal_volume                  20
_journal_year                    1978
_chemical_formula_sum            'Hf Po'
_space_group_IT_number           194
_symmetry_space_group_name_Hall  '-P 6c 2c'
_symmetry_space_group_name_H-M   'P 63/m m c'
_cell_angle_alpha                90
_cell_angle_beta                 90
_cell_angle_gamma                120
_cell_formula_units_Z            2
_cell_length_a                   4.058
_cell_length_b                   4.058
_cell_length_c                   6.717
_cell_volume                     95.792
_citation_journal_id_ASTM        RADKAU
_cod_data_source_file            Prokin_RADKAU_1978_192.cif
_cod_data_source_block           Hf1Po1
_cod_original_cell_volume        95.79218
_cod_original_formula_sum        'Hf1 Po1'
_cod_database_code               1530616
loop_
_symmetry_equiv_pos_as_xyz
x,y,z
x-y,x,z+1/2
-y,x-y,z
-x,-y,z+1/2
-x+y,-x,z
y,-x+y,z+1/2
-y,-x,-z+1/2
x-y,-y,-z
x,x-y,-z+1/2
y,x,-z
-x+y,y,-z+1/2
-x,-x+y,-z
-x,-y,-z
-x+y,-x,-z-1/2
y,-x+y,-z
x,y,-z-1/2
x-y,x,-z
-y,x-y,-z-1/2
y,x,z-1/2
-x+y,y,z
-x,-x+y,z-1/2
-y,-x,z
x-y,-y,z-1/2
x,x-y,z
loop_
_atom_site_label
_atom_site_type_symbol
_atom_site_fract_x
_atom_site_fract_y
_atom_site_fract_z
_atom_site_occupancy
_atom_site_U_iso_or_equiv
Po1 Po 0.3333 0.6667 0.25 1 0.0
Hf1 Hf 0 0 0 1 0.0
