#------------------------------------------------------------------------------
#$Date: 2016-02-13 20:28:24 +0100 (Sat 13 de Feb de 2016) $
#$Revision: 176429 $
#$URL: svn://www.crystallography.net/cod/cif/1/53/10/1531084.cif $
#------------------------------------------------------------------------------
#
# This file is available in the Crystallography Open Database (COD),
# http://www.crystallography.net/
#
# All data on this site have been placed in the public domain by the
# contributors.
#
data_1531084
loop_
_publ_author_name
'Auffermann, G.'
'Bronger, W.'
_publ_section_title
;
 Cs3 Re D10, Synthese und Kristallstruktur
;
_journal_name_full
'Zeitschrift fuer Anorganische und Allgemeine Chemie'
_journal_page_first              2159
_journal_page_last               2159
_journal_volume                  628
_journal_year                    2002
_chemical_formula_sum            'Cs3 D10 Re'
_chemical_name_systematic        'Cs3 Re D10'
_space_group_IT_number           221
_symmetry_space_group_name_Hall  '-P 4 2 3'
_symmetry_space_group_name_H-M   'P m -3 m'
_cell_angle_alpha                90
_cell_angle_beta                 90
_cell_angle_gamma                90
_cell_formula_units_Z            1
_cell_length_a                   6.1826
_cell_length_b                   6.1826
_cell_length_c                   6.1826
_cell_volume                     236.327
_citation_journal_id_ASTM        ZAACAB
_cod_data_source_file            Auffermann_ZAACAB_2002_1015.cif
_cod_data_source_block           D10Cs3Re1
_cod_original_cell_volume        236.3271
_cod_original_formula_sum        'D10 Cs3 Re1'
_cod_database_code               1531084
loop_
_symmetry_equiv_pos_as_xyz
x,y,z
-y,x,z
-x,-y,z
y,-x,z
x,-y,-z
y,x,-z
-x,y,-z
-y,-x,-z
z,x,y
-x,z,y
-z,-x,y
x,-z,y
z,-x,-y
x,z,-y
-z,x,-y
-x,-z,-y
y,z,x
y,-z,-x
z,y,-x
-y,z,-x
-z,-y,-x
-y,-z,x
z,-y,x
-z,y,x
-x,-y,-z
y,-x,-z
x,y,-z
-y,x,-z
-x,y,z
-y,-x,z
x,-y,z
y,x,z
-z,-x,-y
x,-z,-y
z,x,-y
-x,z,-y
-z,x,y
-x,-z,y
z,-x,y
x,z,y
-y,-z,-x
-y,z,x
-z,-y,x
y,-z,x
z,y,x
y,z,-x
-z,y,-x
z,-y,-x
loop_
_atom_site_label
_atom_site_type_symbol
_atom_site_fract_x
_atom_site_fract_y
_atom_site_fract_z
_atom_site_occupancy
_atom_site_U_iso_or_equiv
D1 D-1 0.5 0.5 0.5 1 0.0
D3 D-1 0.134 0.134 0.2015 0.187 0.0
Cs1 Cs+1 0.5 0.5 0 1 0.0
Re1 Re+7 0 0 0 1 0.0
D2 D-1 0 0.0783 0.2653 0.184 0.0
