#------------------------------------------------------------------------------
#$Date: 2016-02-13 20:28:24 +0100 (Sat 13 de Feb de 2016) $
#$Revision: 176429 $
#$URL: svn://www.crystallography.net/cod/cif/1/53/17/1531766.cif $
#------------------------------------------------------------------------------
#
# This file is available in the Crystallography Open Database (COD),
# http://www.crystallography.net/
#
# All data on this site have been placed in the public domain by the
# contributors.
#
data_1531766
loop_
_publ_author_name
'Mochiku, T.'
'Hata, Y.'
'Mihara, Y.'
'Kamisawa, S.'
'Metoki, N.'
'Suzuki, J.-I.'
'Fukuyama, M.'
'Kadowaki, K.'
'Fujii, H.'
'Hirata, K.'
_publ_section_title
;
 Crystal structure of magnetic superconductor Fe Sr2 Y Cu2 O6+d
;
_journal_name_full               'Journal of the Physical Society of Japan'
_journal_page_first              790
_journal_page_last               796
_journal_volume                  71
_journal_year                    2002
_chemical_formula_sum            'Cu2 Fe O7.6 Sr2 Y'
_chemical_name_systematic        'Sr2 Y (Fe Cu2) O7.60'
_space_group_IT_number           123
_symmetry_space_group_name_Hall  '-P 4 2'
_symmetry_space_group_name_H-M   'P 4/m m m'
_cell_angle_alpha                90
_cell_angle_beta                 90
_cell_angle_gamma                90
_cell_formula_units_Z            1
_cell_length_a                   3.8193
_cell_length_b                   3.8193
_cell_length_c                   11.3602
_cell_volume                     165.712
_citation_journal_id_ASTM        JUPSAU
_cod_data_source_file            Mochiku_JUPSAU_2002_1187.cif
_cod_data_source_block           Cu2Fe1O7.6Sr2Y1
_cod_original_cell_volume        165.7118
_cod_original_formula_sum        'Cu2 Fe1 O7.6 Sr2 Y1'
_cod_database_code               1531766
loop_
_symmetry_equiv_pos_as_xyz
x,y,z
-y,x,z
-x,-y,z
y,-x,z
x,-y,-z
y,x,-z
-x,y,-z
-y,-x,-z
-x,-y,-z
y,-x,-z
x,y,-z
-y,x,-z
-x,y,z
-y,-x,z
x,-y,z
y,x,z
loop_
_atom_site_label
_atom_site_type_symbol
_atom_site_fract_x
_atom_site_fract_y
_atom_site_fract_z
_atom_site_occupancy
_atom_site_U_iso_or_equiv
Cu1 Cu+2 0 0 0 0.41 0.0
Fe1 Fe+2 0 0 0 0.59 0.0
O2 O-2 0 0 0.1631 1 0.0
Y1 Y+3 0.5 0.5 0.5 1 0.0
Fe2 Fe+2 0 0 0.3473 0.21 0.0
O1 O-2 0.071 0.5 0 0.4 0.0
O3 O-2 0 0.5 0.3725 1 0.0
Sr1 Sr+2 0.5 0.5 0.179 1 0.0
Cu2 Cu+2 0 0 0.3473 0.79 0.0
