#------------------------------------------------------------------------------
#$Date: 2016-02-13 20:28:24 +0100 (Sat 13 de Feb de 2016) $
#$Revision: 176429 $
#$URL: svn://www.crystallography.net/cod/cif/1/53/29/1532963.cif $
#------------------------------------------------------------------------------
#
# This file is available in the Crystallography Open Database (COD),
# http://www.crystallography.net/
#
# All data on this site have been placed in the public domain by the
# contributors.
#
data_1532963
loop_
_publ_author_name
'Mwamuka, J.N.'
'Gemmill, W.R.'
'Stitzer, K.E.'
'Smith, M.D.'
'zur Loye, H.C.'
_publ_section_title
;
 Crystal growth of new strontium iron rhodium oxides: Sr4 Fe0.73 Rh2.27 O9
 and Sr Fe0.71 Rh0.29 O3
;
_journal_name_full               'Journal of Alloys Compd.'
_journal_page_first              91
_journal_page_last               97
_journal_volume                  377
_journal_year                    2004
_chemical_formula_sum            'Fe0.71 O3 Rh0.29 Sr'
_chemical_name_systematic        'Sr (Fe0.71 Rh0.29 O3)'
_space_group_IT_number           221
_symmetry_space_group_name_Hall  '-P 4 2 3'
_symmetry_space_group_name_H-M   'P m -3 m'
_cell_angle_alpha                90
_cell_angle_beta                 90
_cell_angle_gamma                90
_cell_formula_units_Z            1
_cell_length_a                   3.9027
_cell_length_b                   3.9027
_cell_length_c                   3.9027
_cell_volume                     59.442
_citation_journal_id_ASTM        JALCEU
_cod_data_source_file            Mwamuka_JALCEU_2004_1552.cif
_cod_data_source_block           Fe0.71O3Rh0.29Sr1
_cod_original_cell_volume        59.44228
_cod_original_formula_sum        'Fe0.71 O3 Rh0.29 Sr1'
_cod_database_code               1532963
loop_
_symmetry_equiv_pos_as_xyz
x,y,z
-y,x,z
-x,-y,z
y,-x,z
x,-y,-z
y,x,-z
-x,y,-z
-y,-x,-z
z,x,y
-x,z,y
-z,-x,y
x,-z,y
z,-x,-y
x,z,-y
-z,x,-y
-x,-z,-y
y,z,x
y,-z,-x
z,y,-x
-y,z,-x
-z,-y,-x
-y,-z,x
z,-y,x
-z,y,x
-x,-y,-z
y,-x,-z
x,y,-z
-y,x,-z
-x,y,z
-y,-x,z
x,-y,z
y,x,z
-z,-x,-y
x,-z,-y
z,x,-y
-x,z,-y
-z,x,y
-x,-z,y
z,-x,y
x,z,y
-y,-z,-x
-y,z,x
-z,-y,x
y,-z,x
z,y,x
y,z,-x
-z,y,-x
z,-y,-x
loop_
_atom_site_label
_atom_site_type_symbol
_atom_site_fract_x
_atom_site_fract_y
_atom_site_fract_z
_atom_site_occupancy
_atom_site_U_iso_or_equiv
Rh1 Rh+4 0 0 0 0.294 0.0
O1 O-2 0 0.5 0 1 0.0
Sr1 Sr+2 0.5 0.5 0.5 1 0.0
Fe1 Fe+4 0 0 0 0.706 0.0
