#------------------------------------------------------------------------------
#$Date: 2018-09-27 06:13:35 +0200 (jue 27 de sep de 2018) $
#$Revision: 211196 $
#$URL: svn://www.crystallography.net/cod/cif/1/53/44/1534496.cif $
#------------------------------------------------------------------------------
#
# This file is available in the Crystallography Open Database (COD),
# http://www.crystallography.net/
#
# All data on this site have been placed in the public domain by the
# contributors.
#
data_1534496
loop_
_publ_author_name
'Salloum, D.'
'Gautier, R.'
'Gougeon, P.'
'Potel, M.'
_publ_section_title
;
 Syntheses and structural trends of the In(x) Mo15 S19 (0 <= x <= 3.7)
 compounds containing Mo6 and Mo9 clusters
;
_journal_name_full               'Journal of Solid State Chemistry'
_journal_page_first              1672
_journal_page_last               1680
_journal_volume                  177
_journal_year                    2004
_chemical_formula_sum            'In1.151 Mo15 S19'
_space_group_IT_number           176
_symmetry_space_group_name_Hall  '-P 6c'
_symmetry_space_group_name_H-M   'P 63/m'
_cell_angle_alpha                90
_cell_angle_beta                 90
_cell_angle_gamma                120
_cell_formula_units_Z            2
_cell_length_a                   9.338
_cell_length_b                   9.338
_cell_length_c                   18.952
_cell_volume                     1431.177
_citation_journal_id_ASTM        JSSCBI
_cod_data_source_file            Salloum_JSSCBI_2004_1197.cif
_cod_data_source_block           In1.151Mo15S19
_cod_database_code               1534496
loop_
_symmetry_equiv_pos_as_xyz
x,y,z
x-y,x,z+1/2
-y,x-y,z
-x,-y,z+1/2
-x+y,-x,z
y,-x+y,z+1/2
-x,-y,-z
-x+y,-x,-z-1/2
y,-x+y,-z
x,y,-z-1/2
x-y,x,-z
-y,x-y,-z-1/2
loop_
_atom_site_label
_atom_site_type_symbol
_atom_site_fract_x
_atom_site_fract_y
_atom_site_fract_z
_atom_site_occupancy
_atom_site_U_iso_or_equiv
S5 S 0.6667 0.3333 0.03183 1 0.0
S3 S 0.30969 -0.04196 -0.25 1 0.0
S1 S 0.31658 0.03134 -0.04933 1 0.0
S4 S 0 0 -0.15815 1 0.0
In2 In 0.6667 0.3333 -0.1224 0.1241 0.0
Mo2 Mo 0.31615 -0.17718 -0.12971 1 0.0
Mo3 Mo 0.15878 -0.3461 -0.25 1 0.0
Mo1 Mo 0.17481 0.01511 0.060252 1 0.0
In1 In -0.0476 -0.20537 -0.25 0.3008 0.0
S2 S 1.01475 0.63049 -0.14018 1 0.0
