#------------------------------------------------------------------------------
#$Date: 2016-02-13 20:28:24 +0100 (Sat 13 de Feb de 2016) $
#$Revision: 176429 $
#$URL: svn://www.crystallography.net/cod/cif/1/53/55/1535568.cif $
#------------------------------------------------------------------------------
#
# This file is available in the Crystallography Open Database (COD),
# http://www.crystallography.net/
#
# All data on this site have been placed in the public domain by the
# contributors.
#
data_1535568
loop_
_publ_author_name
'Bronger, W.'
'Jansen, K.'
'Mueller, P.'
_publ_section_title
;
 Ca Pd H2, ein ternaeres Hydrid mit perowskitverwandter Struktur
;
_journal_name_full               'Journal of the Less-Common Metals'
_journal_page_first              299
_journal_page_last               302
_journal_volume                  161
_journal_year                    1990
_chemical_formula_sum            'Ca H2 Pd'
_chemical_name_systematic        'Ca Pd H2'
_space_group_IT_number           221
_symmetry_space_group_name_Hall  '-P 4 2 3'
_symmetry_space_group_name_H-M   'P m -3 m'
_cell_angle_alpha                90
_cell_angle_beta                 90
_cell_angle_gamma                90
_cell_formula_units_Z            1
_cell_length_a                   3.69
_cell_length_b                   3.69
_cell_length_c                   3.69
_cell_volume                     50.243
_citation_journal_id_ASTM        JCOMAH
_cod_data_source_file            Bronger_JCOMAH_1990_1769.cif
_cod_data_source_block           H2Ca1Pd1
_cod_original_cell_volume        50.24341
_cod_original_formula_sum        'H2 Ca1 Pd1'
_cod_database_code               1535568
loop_
_symmetry_equiv_pos_as_xyz
x,y,z
-y,x,z
-x,-y,z
y,-x,z
x,-y,-z
y,x,-z
-x,y,-z
-y,-x,-z
z,x,y
-x,z,y
-z,-x,y
x,-z,y
z,-x,-y
x,z,-y
-z,x,-y
-x,-z,-y
y,z,x
y,-z,-x
z,y,-x
-y,z,-x
-z,-y,-x
-y,-z,x
z,-y,x
-z,y,x
-x,-y,-z
y,-x,-z
x,y,-z
-y,x,-z
-x,y,z
-y,-x,z
x,-y,z
y,x,z
-z,-x,-y
x,-z,-y
z,x,-y
-x,z,-y
-z,x,y
-x,-z,y
z,-x,y
x,z,y
-y,-z,-x
-y,z,x
-z,-y,x
y,-z,x
z,y,x
y,z,-x
-z,y,-x
z,-y,-x
loop_
_atom_site_label
_atom_site_type_symbol
_atom_site_fract_x
_atom_site_fract_y
_atom_site_fract_z
_atom_site_occupancy
_atom_site_U_iso_or_equiv
Ca1 Ca 0.5 0.5 0.5 1 0.0
H1 H 0.5 0 0 0.67 0.0
Pd1 Pd 0 0 0 1 0.0
