#------------------------------------------------------------------------------
#$Date: 2016-02-13 20:28:24 +0100 (Sat 13 de Feb de 2016) $
#$Revision: 176429 $
#$URL: svn://www.crystallography.net/cod/cif/1/53/57/1535716.cif $
#------------------------------------------------------------------------------
#
# This file is available in the Crystallography Open Database (COD),
# http://www.crystallography.net/
#
# All data on this site have been placed in the public domain by the
# contributors.
#
data_1535716
loop_
_publ_author_name
'Decker, D.L.'
'Beyerlein, R.A.'
'Roult, G.'
'Worlton, T.G.'
_publ_section_title
;
 Neutron diffraction study of K C N-III and K C N-IV at high pressure
;
_journal_name_full
;
Physical Review, Serie 3. B - Solid State (1,1970-17,1977)
;
_journal_page_first              3584
_journal_page_last               3593
_journal_volume                  10
_journal_year                    1974
_chemical_formula_sum            'C K N'
_chemical_name_systematic        'K (C N)'
_space_group_IT_number           221
_symmetry_space_group_name_Hall  '-P 4 2 3'
_symmetry_space_group_name_H-M   'P m -3 m'
_cell_angle_alpha                90
_cell_angle_beta                 90
_cell_angle_gamma                90
_cell_formula_units_Z            1
_cell_length_a                   3.808
_cell_length_b                   3.808
_cell_length_c                   3.808
_cell_volume                     55.219
_citation_journal_id_ASTM        PLRBAQ
_cod_data_source_file            Decker_PLRBAQ_1974_1805.cif
_cod_data_source_block           C1K1N1
_cod_original_cell_volume        55.2193
_cod_original_formula_sum        'C1 K1 N1'
_cod_database_code               1535716
loop_
_symmetry_equiv_pos_as_xyz
x,y,z
-y,x,z
-x,-y,z
y,-x,z
x,-y,-z
y,x,-z
-x,y,-z
-y,-x,-z
z,x,y
-x,z,y
-z,-x,y
x,-z,y
z,-x,-y
x,z,-y
-z,x,-y
-x,-z,-y
y,z,x
y,-z,-x
z,y,-x
-y,z,-x
-z,-y,-x
-y,-z,x
z,-y,x
-z,y,x
-x,-y,-z
y,-x,-z
x,y,-z
-y,x,-z
-x,y,z
-y,-x,z
x,-y,z
y,x,z
-z,-x,-y
x,-z,-y
z,x,-y
-x,z,-y
-z,x,y
-x,-z,y
z,-x,y
x,z,y
-y,-z,-x
-y,z,x
-z,-y,x
y,-z,x
z,y,x
y,z,-x
-z,y,-x
z,-y,-x
loop_
_atom_site_label
_atom_site_type_symbol
_atom_site_fract_x
_atom_site_fract_y
_atom_site_fract_z
_atom_site_occupancy
_atom_site_U_iso_or_equiv
K1 K+1 0 0 0 1 0.0
N1 N-3 0.4071 0.4071 0.4071 0.125 0.0
C1 C+2 0.4071 0.4071 0.4071 0.125 0.0
