#------------------------------------------------------------------------------
#$Date: 2016-02-13 20:28:24 +0100 (Sat 13 de Feb de 2016) $
#$Revision: 176429 $
#$URL: svn://www.crystallography.net/cod/cif/1/53/72/1537237.cif $
#------------------------------------------------------------------------------
#
# This file is available in the Crystallography Open Database (COD),
# http://www.crystallography.net/
#
# All data on this site have been placed in the public domain by the
# contributors.
#
data_1537237
loop_
_publ_author_name
'Gao Bo'
'Liu Shuxia'
'Xie Linhua'
'Yu Miao'
'Zhang Chundan'
'Cheng Haiyan'
'Sun Chunyan'
_publ_section_title
;
 Hydrothermal assembly of (3,6)-connected networks with classical mineral
 structures constructed from Anderson-type heteropolymolybdate and metal
 cations
;
_journal_name_full               'Journal of Solid State Chemistry'
_journal_page_first              1681
_journal_page_last               1689
_journal_volume                  179
_journal_year                    2006
_chemical_formula_sum            'H22 Mn2 Mo6 N2 O31 Te'
_chemical_name_systematic        '(N H4)2 ((Mn (H2 O)3)2 (Te Mo6 O24)) (H2 O)'
_space_group_IT_number           205
_symmetry_space_group_name_Hall  '-P 2ac 2ab 3'
_symmetry_space_group_name_H-M   'P a -3'
_cell_angle_alpha                90
_cell_angle_beta                 90
_cell_angle_gamma                90
_cell_formula_units_Z            4
_cell_length_a                   14.1477
_cell_length_b                   14.1477
_cell_length_c                   14.1477
_cell_volume                     2831.767
_citation_journal_id_ASTM        JSSCBI
_cod_data_source_file            GaoBo_JSSCBI_2006_1991.cif
_cod_data_source_block           H22Mn2Mo6N2O31Te1
_cod_original_formula_sum        'H22 Mn2 Mo6 N2 O31 Te1'
_cod_database_code               1537237
loop_
_symmetry_equiv_pos_as_xyz
x,y,z
-x+1/2,-y,z+1/2
x+1/2,-y+1/2,-z
-x,y+1/2,-z+1/2
z,x,y
-z+1/2,-x,y+1/2
z+1/2,-x+1/2,-y
-z,x+1/2,-y+1/2
y,z,x
y+1/2,-z+1/2,-x
-y,z+1/2,-x+1/2
-y+1/2,-z,x+1/2
-x,-y,-z
x-1/2,y,-z-1/2
-x-1/2,y-1/2,z
x,-y-1/2,z-1/2
-z,-x,-y
z-1/2,x,-y-1/2
-z-1/2,x-1/2,y
z,-x-1/2,y-1/2
-y,-z,-x
-y-1/2,z-1/2,x
y,-z-1/2,x-1/2
y-1/2,z,-x-1/2
loop_
_atom_site_label
_atom_site_type_symbol
_atom_site_fract_x
_atom_site_fract_y
_atom_site_fract_z
_atom_site_occupancy
_atom_site_U_iso_or_equiv
O6 O-2 0 0.5 0 1 0.0
H4 H+1 0.824 0.41 0.113 1 0.0
H3 H+1 0.918 0.418 0.082 1 0.0
O3 O-2 0.45937 0.45591 0.87785 1 0.0
O4 O-2 0.2994 0.3483 0.8022 1 0.0
O2 O-2 0.29634 0.5307 0.8786 1 0.0
N1 N-3 0.8842 0.3842 0.1158 1 0.0
H2 H+1 0.05 0.364 0.797 1 0.0
Te1 Te+6 0.5 0.5 1 1 0.0
Mn1 Mn+2 0.19768 0.30232 0.69768 1 0.0
O5 O-2 0.0846 0.3885 0.7528 1 0.0
H1 H+1 0.047 0.414 0.715 1 0.0
Mo1 Mo+6 0.31021 0.39934 0.91228 1 0.0
O1 O-2 0.2031 0.3882 0.9665 1 0.0
