#------------------------------------------------------------------------------
#$Date: 2016-02-13 20:28:24 +0100 (Sat 13 de Feb de 2016) $
#$Revision: 176429 $
#$URL: svn://www.crystallography.net/cod/cif/1/53/77/1537746.cif $
#------------------------------------------------------------------------------
#
# This file is available in the Crystallography Open Database (COD),
# http://www.crystallography.net/
#
# All data on this site have been placed in the public domain by the
# contributors.
#
data_1537746
loop_
_publ_author_name
'Bartram, S.F.'
_publ_section_title
;
 The crystallography of some titanium sulfides
;
_journal_name_full               'Dissertation Abstracts'
_journal_page_first              1216
_journal_page_last               1216
_journal_volume                  19
_journal_year                    1958
_chemical_formula_sum            'S Ti'
_chemical_name_systematic        'Ti S'
_space_group_IT_number           194
_symmetry_space_group_name_Hall  '-P 6c 2c'
_symmetry_space_group_name_H-M   'P 63/m m c'
_cell_angle_alpha                90
_cell_angle_beta                 90
_cell_angle_gamma                120
_cell_formula_units_Z            2
_cell_length_a                   3.299
_cell_length_b                   3.299
_cell_length_c                   6.38
_cell_volume                     60.133
_citation_journal_id_ASTM        DIASA9
_cod_data_source_file            Bartram_DIASA9_1958_1784.cif
_cod_data_source_block           S1Ti1
_cod_original_cell_volume        60.13343
_cod_original_formula_sum        'S1 Ti1'
_cod_database_code               1537746
loop_
_symmetry_equiv_pos_as_xyz
x,y,z
x-y,x,z+1/2
-y,x-y,z
-x,-y,z+1/2
-x+y,-x,z
y,-x+y,z+1/2
-y,-x,-z+1/2
x-y,-y,-z
x,x-y,-z+1/2
y,x,-z
-x+y,y,-z+1/2
-x,-x+y,-z
-x,-y,-z
-x+y,-x,-z-1/2
y,-x+y,-z
x,y,-z-1/2
x-y,x,-z
-y,x-y,-z-1/2
y,x,z-1/2
-x+y,y,z
-x,-x+y,z-1/2
-y,-x,z
x-y,-y,z-1/2
x,x-y,z
loop_
_atom_site_label
_atom_site_type_symbol
_atom_site_fract_x
_atom_site_fract_y
_atom_site_fract_z
_atom_site_occupancy
_atom_site_U_iso_or_equiv
Ti1 Ti 0.3333 0.6667 0.25 1 0.0
S1 S 0 0 0 1 0.0
