#------------------------------------------------------------------------------
#$Date: 2018-09-27 06:13:35 +0200 (jue 27 de sep de 2018) $
#$Revision: 211196 $
#$URL: svn://www.crystallography.net/cod/cif/1/53/88/1538857.cif $
#------------------------------------------------------------------------------
#
# This file is available in the Crystallography Open Database (COD),
# http://www.crystallography.net/
#
# All data on this site have been placed in the public domain by the
# contributors.
#
data_1538857
loop_
_publ_author_name
'Michalik, S.J.'
'Brophy, J.H.'
_publ_section_title
;
 A constitution diagram of the molybdenum-iridium system
;
_journal_name_full
'Transactions of the Metallurgical Society of Aime'
_journal_page_first              1047
_journal_page_last               1053
_journal_volume                  227
_journal_year                    1963
_chemical_formula_sum            'Ir Mo'
_space_group_IT_number           194
_symmetry_space_group_name_Hall  '-P 6c 2c'
_symmetry_space_group_name_H-M   'P 63/m m c'
_cell_angle_alpha                90
_cell_angle_beta                 90
_cell_angle_gamma                120
_cell_formula_units_Z            1
_cell_length_a                   2.77
_cell_length_b                   2.77
_cell_length_c                   4.424
_cell_volume                     29.397
_citation_journal_id_ASTM        TMSAAB
_cod_data_source_file            Michalik_TMSAAB_1963_326.cif
_cod_data_source_block           Ir1Mo1
_cod_original_cell_volume        29.39715
_cod_original_formula_sum        'Ir1 Mo1'
_cod_database_code               1538857
loop_
_symmetry_equiv_pos_as_xyz
x,y,z
x-y,x,z+1/2
-y,x-y,z
-x,-y,z+1/2
-x+y,-x,z
y,-x+y,z+1/2
-y,-x,-z+1/2
x-y,-y,-z
x,x-y,-z+1/2
y,x,-z
-x+y,y,-z+1/2
-x,-x+y,-z
-x,-y,-z
-x+y,-x,-z-1/2
y,-x+y,-z
x,y,-z-1/2
x-y,x,-z
-y,x-y,-z-1/2
y,x,z-1/2
-x+y,y,z
-x,-x+y,z-1/2
-y,-x,z
x-y,-y,z-1/2
x,x-y,z
loop_
_atom_site_label
_atom_site_type_symbol
_atom_site_fract_x
_atom_site_fract_y
_atom_site_fract_z
_atom_site_occupancy
_atom_site_U_iso_or_equiv
Ir1 Ir 0.3333 0.6667 0.25 0.51 0.0
Mo1 Mo 0.3333 0.6667 0.25 0.49 0.0
