#------------------------------------------------------------------------------
#$Date: 2018-09-27 06:13:35 +0200 (jue 27 de sep de 2018) $
#$Revision: 211196 $
#$URL: svn://www.crystallography.net/cod/cif/1/53/93/1539357.cif $
#------------------------------------------------------------------------------
#
# This file is available in the Crystallography Open Database (COD),
# http://www.crystallography.net/
#
# All data on this site have been placed in the public domain by the
# contributors.
#
data_1539357
loop_
_publ_author_name
'Yakinthos, J.K.'
'Roudaut, E.'
_publ_section_title
;
 Structure magnetique incommensurable dans Tb Ru2 Ge2
;
_journal_name_full               'Journal de Physique (Paris)'
_journal_page_first              1239
_journal_page_last               1242
_journal_volume                  47
_journal_year                    1986
_chemical_formula_sum            'Ge2 Ru2 Tb'
_space_group_IT_number           139
_symmetry_space_group_name_Hall  '-I 4 2'
_symmetry_space_group_name_H-M   'I 4/m m m'
_cell_angle_alpha                90
_cell_angle_beta                 90
_cell_angle_gamma                90
_cell_formula_units_Z            2
_cell_length_a                   4.222
_cell_length_b                   4.222
_cell_length_c                   9.847
_cell_volume                     175.526
_citation_journal_id_ASTM        JOPQAG
_cod_data_source_file            Yakinthos_JOPQAG_1986_36.cif
_cod_data_source_block           Ge2Ru2Tb1
_cod_original_cell_volume        175.5256
_cod_original_formula_sum        'Ge2 Ru2 Tb1'
_cod_database_code               1539357
loop_
_symmetry_equiv_pos_as_xyz
x,y,z
-y,x,z
-x,-y,z
y,-x,z
x,-y,-z
y,x,-z
-x,y,-z
-y,-x,-z
-x,-y,-z
y,-x,-z
x,y,-z
-y,x,-z
-x,y,z
-y,-x,z
x,-y,z
y,x,z
x+1/2,y+1/2,z+1/2
-y+1/2,x+1/2,z+1/2
-x+1/2,-y+1/2,z+1/2
y+1/2,-x+1/2,z+1/2
x+1/2,-y+1/2,-z+1/2
y+1/2,x+1/2,-z+1/2
-x+1/2,y+1/2,-z+1/2
-y+1/2,-x+1/2,-z+1/2
-x+1/2,-y+1/2,-z+1/2
y+1/2,-x+1/2,-z+1/2
x+1/2,y+1/2,-z+1/2
-y+1/2,x+1/2,-z+1/2
-x+1/2,y+1/2,z+1/2
-y+1/2,-x+1/2,z+1/2
x+1/2,-y+1/2,z+1/2
y+1/2,x+1/2,z+1/2
loop_
_atom_site_label
_atom_site_type_symbol
_atom_site_fract_x
_atom_site_fract_y
_atom_site_fract_z
_atom_site_occupancy
_atom_site_U_iso_or_equiv
Ge1 Ge 0 0 0.38 1 0.0
Ru1 Ru 0 0.5 0.25 1 0.0
Tb1 Tb 0 0 0 1 0.0
