#------------------------------------------------------------------------------
#$Date: 2016-01-09 13:58:11 +0100 (Sat 09 de Jan de 2016) $
#$Revision: 174256 $
#$URL: svn://www.crystallography.net/cod/cif/1/54/22/1542200.cif $
#------------------------------------------------------------------------------
#
# This file is available in the Crystallography Open Database (COD),
# http://www.crystallography.net/
#
# All data on this site have been placed in the public domain by the
# contributors.
#
data_1542200
loop_
_publ_author_name
'Guenther, F.'
'Schneider, H.G.'
_publ_section_title
;
 Structure of cubic tungsten nitride
;
_journal_name_full               Kristallografiya
_journal_page_first              683
_journal_page_last               686
_journal_volume                  11
_journal_year                    1966
_chemical_formula_sum            'N4 W3'
_chemical_name_systematic        'W3 N4'
_space_group_IT_number           221
_symmetry_space_group_name_Hall  '-P 4 2 3'
_symmetry_space_group_name_H-M   'P m -3 m'
_cell_angle_alpha                90
_cell_angle_beta                 90
_cell_angle_gamma                90
_cell_formula_units_Z            1
_cell_length_a                   4.122
_cell_length_b                   4.122
_cell_length_c                   4.122
_cell_volume                     70.036
_citation_journal_id_ASTM        KRISAJ
_cod_data_source_file            Guenther_KRISAJ_1966_1686.cif
_cod_data_source_block           N4W3
_cod_original_cell_volume        70.03644
_cod_database_code               1542200
loop_
_symmetry_equiv_pos_as_xyz
x,y,z
-y,x,z
-x,-y,z
y,-x,z
x,-y,-z
y,x,-z
-x,y,-z
-y,-x,-z
z,x,y
-x,z,y
-z,-x,y
x,-z,y
z,-x,-y
x,z,-y
-z,x,-y
-x,-z,-y
y,z,x
y,-z,-x
z,y,-x
-y,z,-x
-z,-y,-x
-y,-z,x
z,-y,x
-z,y,x
-x,-y,-z
y,-x,-z
x,y,-z
-y,x,-z
-x,y,z
-y,-x,z
x,-y,z
y,x,z
-z,-x,-y
x,-z,-y
z,x,-y
-x,z,-y
-z,x,y
-x,-z,y
z,-x,y
x,z,y
-y,-z,-x
-y,z,x
-z,-y,x
y,-z,x
z,y,x
y,z,-x
-z,y,-x
z,-y,-x
loop_
_atom_site_label
_atom_site_type_symbol
_atom_site_fract_x
_atom_site_fract_y
_atom_site_fract_z
_atom_site_occupancy
_atom_site_U_iso_or_equiv
N2 N-3 0.5 0.5 0.5 1 0.0
N1 N-3 0.5 0 0 1 0.0
W1 W+4 0.5 0.5 0 1 0.0
