#------------------------------------------------------------------------------
#$Date: 2017-01-25 14:07:12 +0100 (Wed 25 de Jan de 2017) $
#$Revision: 190904 $
#$URL: svn://www.crystallography.net/cod/cif/1/54/47/1544733.cif $
#------------------------------------------------------------------------------
#
# This file is available in the Crystallography Open Database (COD),
# http://www.crystallography.net/
#
# All data on this site have been placed in the public domain by the
# contributors.
#
data_1544733
loop_
_publ_author_name
'Sugiyama, M.'
'Endo, S.'
'Koto, K.'
_publ_section_title
;
 The crystal structure of stishovite under pressure up to 6 GPa :Sample at
 1.99 GPa
;
_journal_name_full               'Mineralogical Journal'
_journal_page_first              455
_journal_page_last               466
_journal_volume                  13
_journal_year                    1987
_chemical_formula_sum            'O2 Si'
_chemical_name_common            SiO2
_chemical_name_mineral           'stishovite at 1.99 GPa'
_space_group_IT_number           136
_diffrn_ambient_pressure         1.99E+6
_space_group_name_H-M_alt        'P 42/m n m'
_symmetry_space_group_name_Hall  '-P 4n 2n'
_symmetry_space_group_name_H-M   'P 42/m n m'
_cell_angle_alpha                90
_cell_angle_beta                 90
_cell_angle_gamma                90
_cell_formula_units_Z            2
_cell_length_a                   4.1693(7)
_cell_length_b                   4.1693(7)
_cell_length_c                   2.6652(6)
_cell_volume                     46.329(15)
_cod_data_source_file            stishovite-1.99GPa.cif
_cod_data_source_block           stishovite_at_1.99GPa
_cod_original_formula_sum        'Si O2'
_cod_database_code               1544733
loop_
_space_group_symop_operation_xyz
'x, y, z'
'-x, -y, -z'
'-x, -y, z'
'x, y, -z'
'-y+1/2, x+1/2, z+1/2'
'y+1/2, -x+1/2, -z+1/2'
'y+1/2, -x+1/2, z+1/2'
'-y+1/2, x+1/2, -z+1/2'
'-x+1/2, y+1/2, -z+1/2'
'x+1/2, -y+1/2, z+1/2'
'x+1/2, -y+1/2, -z+1/2'
'-x+1/2, y+1/2, z+1/2'
'y, x, -z'
'-y, -x, z'
'-y, -x, -z'
'y, x, z'
loop_
_atom_site_label
_atom_site_occupancy
_atom_site_fract_x
_atom_site_fract_y
_atom_site_fract_z
_atom_site_adp_type
_atom_site_B_iso_or_equiv
_atom_site_type_symbol
Si 1.0 0.000000 0.000000 0.000000 Biso 0.130000 Si
O 1.0 0.3075(10) 0.3075(10) 0.000000 Biso 0.300000 O
