#------------------------------------------------------------------------------
#$Date: 2017-01-24 02:13:39 +0100 (mar 24 de ene de 2017) $
#$Revision: 190849 $
#$URL: svn://www.crystallography.net/cod/cif/1/54/51/1545134.cif $
#------------------------------------------------------------------------------
#
# This file is available in the Crystallography Open Database (COD),
# http://www.crystallography.net/
#
# All data on this site have been placed in the public domain by the
# contributors.
#
data_1545134
loop_
_publ_author_name
'Kawano, T.'
'Takahashi, J.'
'Yamada, T.'
'Yamane, H.'
_publ_section_title
;
 Preparation, crystal structure and high-temperature thermoelectric
 properties of double perovskite-type rare-earth cobalt ruthenium oxides
;
_journal_name_full               'Journal of the Ceramic Society of Japan'
_journal_page_first              792
_journal_page_last               796
_journal_volume                  115
_journal_year                    2007
_chemical_formula_sum            'Co O6 Ru Sm2'
_chemical_name_common            'Sm2CoRuO6 double perovskite'
_space_group_IT_number           14
_space_group_name_H-M_alt        'P 1 21/n 1'
_symmetry_space_group_name_Hall  '-P 2yn'
_symmetry_space_group_name_H-M   'P 1 21/n 1'
_cell_angle_alpha                90
_cell_angle_beta                 90.00(1)
_cell_angle_gamma                90
_cell_formula_units_Z            2
_cell_length_a                   5.37936(15)
_cell_length_b                   5.73972(14)
_cell_length_c                   7.67067(19)
_cell_volume                     236.840(11)
_cod_data_source_file            Sm2CoRuO6.cif
_cod_data_source_block           Sm2CoRuO6
_cod_original_formula_sum        'Sm2 Co1 Ru1 O6'
_cod_database_code               1545134
loop_
_space_group_symop_operation_xyz
'x, y, z'
'-x, -y, -z'
'-x+1/2, y+1/2, -z+1/2'
'x+1/2, -y+1/2, z+1/2'
loop_
_atom_site_label
_atom_site_occupancy
_atom_site_fract_x
_atom_site_fract_y
_atom_site_fract_z
_atom_site_adp_type
_atom_site_B_iso_or_equiv
_atom_site_type_symbol
Sm 1.0 0.0202(2) 0.06928(14) 0.2500(4) Biso 0.110000 Sm
CoRu 0.9130 0.5000 0.000000 0.000000 Biso 0.110000 Co
CoRu 0.0870 0.5000 0.000000 0.000000 Biso 0.110000 Ru
RuCo 0.9130 0.5000 0.000000 0.500000 Biso 0.110000 Ru
RuCo 0.0870 0.5000 0.000000 0.500000 Biso 0.110000 Co
O1 1.0 0.190(3) -0.199(3) 0.058(4) Biso 0.110000 O
O2 1.0 0.308(3) 0.304(3) 0.048(4) Biso 0.110000 O
O3 1.0 -0.105(2) 0.4608(19) 0.254(3) Biso 0.110000 O
