#------------------------------------------------------------------------------
#$Date: 2019-03-01 08:00:20 +0100 (vie 01 de mar de 2019) $
#$Revision: 213921 $
#$URL: svn://www.crystallography.net/cod/cif/1/54/52/1545258.cif $
#------------------------------------------------------------------------------
#
# This file is available in the Crystallography Open Database (COD),
# http://www.crystallography.net/
#
# All data on this site have been placed in the public domain by the
# contributors.
#
data_1545258
loop_
_publ_author_name
'Giménez-Marqués, Mónica'
'Calvo Galve, Néstor'
'Palomino, Miguel'
'Valencia, Susana'
'Rey, Fernando'
'Sastre, Germán'
'Vitórica-Yrezábal, Iñigo J.'
'Jiménez-Ruiz, Mónica'
'Rodríguez-Velamazán, J. Alberto'
'González, Miguel A.'
'Jordá, José L.'
'Coronado, Eugenio'
'Espallargas, Guillermo Mínguez'
_publ_section_title
;
 Gas confinement in compartmentalized coordination polymers for highly
 selective sorption
;
_journal_issue                   4
_journal_name_full               'Chem. Sci.'
_journal_page_first              3109
_journal_paper_doi               10.1039/C6SC05122G
_journal_volume                  8
_journal_year                    2017
_chemical_formula_moiety         'C30 H30 Fe N24, 2(Cl O4), 0.816(C2 H4)'
_chemical_formula_structural     'Fe (C10 H10 N8)3, 2(ClO4) 0.816(C2H4)'
_chemical_formula_sum            'C31.63 H33.26 Cl2 Fe N24 O8'
_chemical_formula_weight         1004.42
_space_group_crystal_system      hexagonal
_space_group_IT_number           176
_space_group_name_Hall           '-P 6c'
_space_group_name_H-M_alt        'P 63/m'
_audit_update_record
;
2016-04-12 deposited with the CCDC.
2017-02-13 downloaded from the CCDC.
;
_cell_angle_alpha                90
_cell_angle_beta                 90
_cell_angle_gamma                120
_cell_formula_units_Z            2
_cell_length_a                   10.52034(6)
_cell_length_b                   10.52034(6)
_cell_length_c                   23.5917(3)
_cell_measurement_temperature    298
_cell_volume                     2261.25(3)
_computing_data_reduction        'Topas (Coelho, 2003)'
_computing_publication_material
'enCifer (Cambridge Crystallographic Data Centre, 2004)'
_computing_structure_refinement  'Topas (Coelho, 2003)'
_computing_structure_solution    'Topas (Coelho, 2003)'
_diffrn_ambient_temperature      298
_diffrn_detector_type            '40 degrees Mythen'
_diffrn_measurement_device_type  'BEamline BL04, ALBA'
_diffrn_radiation_wavelength     0.799933
_diffrn_reflns_limit_h_max       7
_diffrn_reflns_limit_h_min       0
_diffrn_reflns_limit_k_max       7
_diffrn_reflns_limit_k_min       0
_diffrn_reflns_limit_l_max       19
_diffrn_reflns_limit_l_min       0
_diffrn_reflns_number            628
_diffrn_source                   synchrotron
_exptl_absorpt_coefficient_mu    0.527
_exptl_absorpt_correction_type   none
_exptl_crystal_density_diffrn    1.4752(1)
_exptl_crystal_density_method    'not measured'
_exptl_crystal_F_000             1030.1
_exptl_crystal_preparation       'Magnetic properties'
_pd_block_diffractogram_id       ccp_1_C2H4_6bar_fsum.xye
_pd_char_colour                  white
_pd_char_particle_morphology     'visual estimate, prisms'
_pd_instr_location               ' Diamond Light Source'
_pd_meas_2theta_range_inc        0.003
_pd_meas_2theta_range_max        40.0
_pd_meas_2theta_range_min        3.0
_pd_meas_number_of_points        6850
_pd_meas_scan_method             cont
_pd_prep_temperature             298
_pd_proc_ls_background_function
;
Chebyshev polynomial
;
_pd_proc_ls_pref_orient_corr
; 
A spherical harmonics-based preferred orientation correction 
was applied with Topas during the Rietveld refinement.
;
_pd_proc_ls_profile_function
;   
Fundamental parameters with axial divergence correction
;
_pd_proc_ls_prof_wR_expected     0.00841
_pd_spec_mounting                '1 mm borosilicate capillary'
_pd_spec_mount_mode              transmission
_pd_spec_shape                   cylinder
_pd_spec_size_axial              10
_pd_spec_size_equat              1
_refine_ls_extinction_method     none
_refine_ls_goodness_of_fit_all   1.919
_refine_ls_hydrogen_treatment    constr
_refine_ls_matrix_type           sparse
_refine_ls_number_constraints    1
_refine_ls_number_parameters     61
_refine_ls_number_restraints     56
_refine_ls_weighting_details     1/σ(Yobs)²
_refine_ls_weighting_scheme      sigma
_cod_data_source_file            c6sc05122g3.cif
_cod_data_source_block           ccp1_C2H4
_cod_depositor_comments
;
 Removed the underscore symbol ('_') from the value of the
 _space_group_name_Hall data item.
 
 Antanas Vaitkus,
 2019-03-01

The following automatic conversions were performed:

'_space_group_crystal_system' value 'Hexagonal' changed to
'hexagonal' according to
/usr/data/users/saulius/crontab/automatic-downloads/rss-feeds/RSC/lib/dictionaries/cif_core.dic
dictionary named 'cif_core.dic' version 2.4.2 from 2011-04-26.

Automatic conversion script
Id: cif_fix_values 4268 2015-11-12 08:31:59Z antanas 

 Adding full bibliography for 1545255--1545262.cif.
;
_cod_original_cell_volume        2261.25(4)
_cod_database_code               1545258
_pd_proc_ls_prof_r_wp_factor     0.01615
_pd_proc_ls_prof_r_wp_dash_factor 0.10951
loop_
_symmetry_equiv_pos_as_xyz
'-x, -y, -z'
'-x, -y, z+1/2'
'-x+y, -x, -z+1/2'
'-x+y, -x, z'
'-y, x-y, -z+1/2'
'-y, x-y, z'
'y, -x+y, -z'
'y, -x+y, z+1/2'
'x-y, x, -z'
'x-y, x, z+1/2'
'x, y, -z+1/2'
'x, y, z'
loop_
_atom_site_label
_atom_site_type_symbol
_atom_site_symmetry_multiplicity
_atom_site_fract_x
_atom_site_fract_y
_atom_site_fract_z
_atom_site_occupancy
_atom_site_B_iso_or_equiv
Fe1 Fe 0 1 1 0.5 1 3.65836
O1 O 0 0.802 0.4505 0.4954 1 10.09675
Cl1 Cl 0 0.6666667 0.3333333 0.5075 0.61813 10.70945
O2 O 0 0.6666667 0.3333333 0.5655 0.61813 10.70945
Cl1b Cl 0 0.6666667 0.3333333 0.4871 0.38187 0.15756
O2b O 0 0.6666667 0.3333333 0.4284 0.38187 0.15756
N1 N 0 0.95445 0.81195 0.55218 1 6.1921
C2 C 0 1.0339 0.7515 0.562 1 6.1921
H2 H 0 1.13473 0.777316 0.539773 1 -1.2
N3 N 0 0.9733 0.6528 0.6027 1 6.1921
N4 N 0 0.8471 0.6465 0.6184 1 6.1921
N5 N 0 0.8391 0.7484 0.5887 1 6.1921
C6 C 0 1.0125 0.548 0.6262 1 6.1921
H6A H 0 1.12021 0.574205 0.610433 1 -1.2
H6B H 0 0.933469 0.43789 0.61177 1 -1.2
C7 C 0 1.0152 0.5501 0.6909 1 6.1921
C8 C 0 1.1143 0.6718 0.7201 1 6.1921
H8 H 0 1.19355 0.769212 0.697077 1 -1.2
C9 C 0 0.9163 0.4277 0.7208 1 6.1921
H9 H 0 0.837233 0.329763 0.697994 1 -1.2
C1S C 0 5.96853 2.86406 0.73234 0.1363(14) 15.0(27)
H1S H 0 6.059052 2.864041 0.7183312 0.1363(14) 18.0
H2S H 0 5.890563 2.816325 0.7075238 0.1363(14) 18.0
C2S C 0 5.961254 2.916856 0.7827942 0.1363(14) 15.0(27)
H3S H 0 5.872087 2.910197 0.7958121 0.1363(14) 18.0
H4S H 0 6.048693 2.962506 0.8087035 0.1363(14) 18.0
loop_
_atom_type_symbol
_atom_type_description
_atom_type_scat_dispersion_real
_atom_type_scat_dispersion_imag
_atom_type_scat_source
C C 0.003 0.002 'International Tables Vol C Tables 4.2.6.8 and 6.1.1.4'
H H 0.0000 0.0000 'International Tables Vol C Tables 4.2.6.8 and 6.1.1.4'
N N 0.006 0.003 'International Tables Vol C Tables 4.2.6.8 and 6.1.1.4'
Cl Cl 0.1484 0.1585 'International Tables Vol C Tables 4.2.6.8 and 6.1.1.4'
Fe Fe 0.346 0.844 'International Tables Vol C Tables 4.2.6.8 and 6.1.1.4'
O O 0.011 0.006 'International Tables Vol C Tables 4.2.6.8 and 6.1.1.4'
loop_
_geom_angle_atom_site_label_1
_geom_angle_atom_site_label_2
_geom_angle_atom_site_label_3
_geom_angle
_geom_angle_site_symmetry_3
_geom_angle_publ_flag
N1 Fe1 N1 91.00 3_555 no
N1 Fe1 N1 180.00 7_555 no
N1 Fe1 N1 89.00 9_555 no
Fe1 N1 N5 122.91 . no
Fe1 N1 C2 130.12 . no
N5 N1 C2 106.30 . no
N4 N3 C2 108.35 . no
N4 N3 C6 119.99 . no
C2 N3 C6 131.27 . no
N3 N4 N5 106.01 . no
N1 N5 N4 109.41 . no
N1 C2 N3 109.79 . no
N3 C6 C7 112.18 . no
C6 C7 C8 121.18 . no
C6 C7 C9 119.90 . no
C8 C7 C9 118.92 . no
C7 C8 C8 120.29 10_556 no
C7 C9 C9 120.79 10_556 no
N1 C2 H2 125 . no
N3 C2 H2 125 . no
N3 C6 H6A 109 . no
N3 C6 H6B 109 . no
C7 C6 H6A 109 . no
C7 C6 H6B 109 . no
H6A C6 H6B 108 . no
C7 C8 H8 120 . no
H8 C8 C8 120 10_555 no
C7 C9 H9 120 . no
H9 C9 C9 120 10_555 no
C2S C1S H1S 123 . no
C2S C1S H2S 125 . no
H1S C1S H2S 112 . no
C1S C2S H3S 121 . no
C1S C2S H4S 121 . no
H3S C2S H4S 118 . no
O1 Cl1 O2 102.04 . no
O1 Cl1 O1 115.77 3_655 no
O1 Cl1B O2B 98.32 . no
O1 Cl1B O1 117.94 3_655 no
loop_
_geom_bond_atom_site_label_1
_geom_bond_atom_site_label_2
_geom_bond_distance
_geom_bond_publ_flag
Fe1 N1 2.1705(1) no
N1 N5 1.3604(1) no
N1 C2 1.2993(1) no
N3 N4 1.3477(1) no
N3 C2 1.3208(1) no
N3 C6 1.4655(1) no
N4 N5 1.3181(1) no
C6 C7 1.5266(1) no
C7 C8 1.3660(1) no
C7 C9 1.3779(1) no
C2 H2 1.09 no
C6 H6A 1.09 no
C6 H6B 1.09 no
C8 H8 1.09 no
C9 H9 1.09 no
C1S C2S 1.3318 no
C1S H1S 1.01 no
C1S H2S 0.93 no
C2S H3S 0.96 no
C2S H4S 1.00 no
Cl1 O1 1.3686(1) no
Cl1 O2 1.3683(1) no
Cl1B O1 1.3527(1) no
Cl1B O2B 1.3848(1) no
loop_
_geom_torsion_atom_site_label_1
_geom_torsion_atom_site_label_2
_geom_torsion_atom_site_label_3
_geom_torsion_atom_site_label_4
_geom_torsion
_geom_torsion_site_symmetry_1
_geom_torsion_site_symmetry_3
_geom_torsion_site_symmetry_4
_geom_torsion_publ_flag
N1 Fe1 N1 N5 107.46 3_555 . . no
N1 Fe1 N1 C2 -61.78 3_555 . . no
N1 Fe1 N1 N5 16.44 5_555 . . no
N1 Fe1 N1 C2 -152.80 5_555 . . no
N1 Fe1 N1 N5 -72.54 9_555 . . no
N1 Fe1 N1 C2 118.22 9_555 . . no
N1 Fe1 N1 N5 -163.56 11_555 . . no
N1 Fe1 N1 C2 27.20 11_555 . . no
Fe1 N1 N5 N4 -173.98 . . . no
C2 N1 N5 N4 -2.54 . . . no
Fe1 N1 C2 N3 170.89 . . . no
N5 N1 C2 N3 0.30 . . . no
C2 N3 N4 N5 -3.48 . . . no
C6 N3 N4 N5 -177.18 . . . no
N4 N3 C2 N1 1.99 . . . no
C6 N3 C2 N1 174.72 . . . no
N4 N3 C6 C7 -55.69 . . . no
C2 N3 C6 C7 132.28 . . . no
N3 N4 N5 N1 3.69 . . . no
N3 C6 C7 C8 -64.60 . . . no
N3 C6 C7 C9 115.34 . . . no
C6 C7 C8 C8 179.57 . . 10_555 no
C9 C7 C8 C8 -0.36 . . 10_555 no
C6 C7 C9 C9 -179.57 . . 10_555 no
C8 C7 C9 C9 0.36 . . 10_555 no
Fe1 N1 C2 H2 -10 . . . no
N5 N1 C2 H2 180 . . . no
N4 N3 C2 H2 -177 . . . no
C6 N3 C2 H2 -5 . . . no
N4 N3 C6 H6A -177 . . . no
N4 N3 C6 H6B 65 . . . no
C2 N3 C6 H6A 11 . . . no
C2 N3 C6 H6B -107 . . . no
H6A C6 C7 C8 57 . . . no
H6A C6 C7 C9 -123 . . . no
H6B C6 C7 C8 174 . . . no
H6B C6 C7 C9 -6 . . . no
C6 C7 C8 H8 0 . . . no
C9 C7 C8 H8 180 . . . no
C6 C7 C9 H9 0 . . . no
C8 C7 C9 H9 -180 . . . no
C7 C8 C8 H8 -180 . 10_555 10_555 no
C7 C9 C9 H9 -180 . 10_555 10_555 no
