#------------------------------------------------------------------------------
#$Date: 2016-02-14 15:26:36 +0100 (dom 14 de feb de 2016) $
#$Revision: 176435 $
#$URL: svn://www.crystallography.net/cod/cif/2/00/31/2003163.cif $
#------------------------------------------------------------------------------
#
# This file is available in the Crystallography Open Database (COD),
# http://www.crystallography.net/. The original data for this entry
# were provided by IUCr Journals, http://journals.iucr.org/.
#
# The file may be used within the scientific community so long as
# proper attribution is given to the journal article from which the
# data were obtained.
#
data_2003163
loop_
_publ_author_name
'Figgis, B. N.'
'Sobolev, A. N.'
'Reynolds, P. A.'
_publ_section_title
;
 Phase Transitions and Structures at 10, 92 and 293 K in Eight Trigonal
 Double Salts
 MI[MIII(NH₃)₆](ClO₄)₂X₂
;
_journal_issue                   5
_journal_name_full               'Acta Crystallographica Section B'
_journal_page_first              613
_journal_page_last               625
_journal_paper_doi               10.1107/S0108768198002328
_journal_volume                  54
_journal_year                    1998
_chemical_formula_iupac          'Cs[Cr(N H3)6],2(Cl O4),2Br'
_chemical_formula_moiety         'Cs1,Cr1 N6 H18,2(Cl1 O4),2Br'
_chemical_formula_sum            'Br2 Cl2 Cr Cs H18 N6 O8'
_chemical_formula_weight         645.83
_chemical_name_systematic
;
 ?
;
_space_group_IT_number           166
_symmetry_cell_setting           trigonal
_symmetry_space_group_name_Hall  '-R 3 2"'
_symmetry_space_group_name_H-M   'R -3 m :H'
_audit_creation_method           SHELXL-97
_cell_angle_alpha                90.00
_cell_angle_beta                 90.00
_cell_angle_gamma                120.00
_cell_formula_units_Z            3
_cell_length_a                   7.4130(10)
_cell_length_b                   7.4130(10)
_cell_length_c                   27.780(7)
_cell_measurement_reflns_used    18
_cell_measurement_temperature    293(2)
_cell_measurement_theta_max      19.4
_cell_measurement_theta_min      15.9
_cell_volume                     1322.1(4)
_computing_cell_refinement       'Local diffractometer control software'
_computing_data_collection       'Local diffractometer control software'
_computing_data_reduction        'PROFIT (Streltsov & Zavodnik, 1989)'
_computing_molecular_graphics    'SHELXTL (Sheldrick, 1983)'
_computing_publication_material  'SHELXTL (Sheldrick, 1983)'
_computing_structure_refinement  'SHELXL-97 (Sheldrick, 1997)'
_computing_structure_solution    'SHELXS-86 (Sheldrick, 1990)'
_diffrn_ambient_temperature      293(2)
_diffrn_measured_fraction_theta_full 0.336
_diffrn_measured_fraction_theta_max 0.336
_diffrn_measurement_device_type  'Huber 512'
_diffrn_measurement_method       ω/2θ
_diffrn_radiation_monochromator  none
_diffrn_radiation_source         'fine-focus sealed tube'
_diffrn_radiation_type           MoK\a
_diffrn_radiation_wavelength     0.71073
_diffrn_reflns_av_R_equivalents  0.0494
_diffrn_reflns_av_sigmaI/netI    0.0170
_diffrn_reflns_limit_h_max       10
_diffrn_reflns_limit_h_min       -10
_diffrn_reflns_limit_k_max       10
_diffrn_reflns_limit_k_min       -10
_diffrn_reflns_limit_l_max       39
_diffrn_reflns_limit_l_min       -39
_diffrn_reflns_number            5198
_diffrn_reflns_theta_full        30.07
_diffrn_reflns_theta_max         30.07
_diffrn_reflns_theta_min         2.20
_diffrn_standards_decay_%        0.5
_diffrn_standards_interval_count 100
_diffrn_standards_number         3
_exptl_absorpt_coefficient_mu    7.557
_exptl_absorpt_correction_T_max  0.3860
_exptl_absorpt_correction_T_min  0.1991
_exptl_absorpt_correction_type   gaussian
_exptl_crystal_colour            yellow
_exptl_crystal_density_diffrn    2.434
_exptl_crystal_density_method    'not measured'
_exptl_crystal_description       Plate
_exptl_crystal_F_000             921
_exptl_crystal_size_max          0.38
_exptl_crystal_size_mid          0.25
_exptl_crystal_size_min          0.14
_refine_diff_density_max         0.320
_refine_diff_density_min         -0.502
_refine_ls_extinction_coef       0.0087(3)
_refine_ls_extinction_method     'SHELXTL (Sheldrick, 1983)'
_refine_ls_goodness_of_fit_ref   1.130
_refine_ls_hydrogen_treatment    mixed
_refine_ls_matrix_type           full
_refine_ls_number_parameters     38
_refine_ls_number_reflns         533
_refine_ls_number_restraints     12
_refine_ls_restrained_S_all      1.116
_refine_ls_R_factor_all          0.0155
_refine_ls_R_factor_gt           0.0150
_refine_ls_shift/su_max          0.001
_refine_ls_shift/su_mean         0.000
_refine_ls_structure_factor_coef Fsqd
_refine_ls_weighting_details
'w=1/[σ²(Fo²)+(0.0147P)²+1.7364P] where P=(Fo²+2Fc²)/3'
_refine_ls_weighting_scheme      calc
_refine_ls_wR_factor_ref         0.0396
_reflns_number_gt                518
_reflns_number_total             533
_reflns_threshold_expression     >2sigma(I)
_cod_data_source_file            ta0002.cif
_cod_data_source_block           VIII
_cod_depositor_comments
;
The following automatic conversions were performed:
'_symmetry_cell_setting' value 'Trigonal' changed to 'trigonal' according
to '/home/saulius/struct/CIF-dictionaries/cif_core.dic' dictionary named
'cif_core.dic' version 2.4.1 from
2010-06-29.

'_exptl_absorpt_correction_type' value 'Gaussian' changed to
'gaussian' according to
'/home/saulius/struct/CIF-dictionaries/cif_core.dic' dictionary named
'cif_core.dic' version 2.4.1 from 2010-06-29.

Automatic conversion script
Id: cif_fix_enum 1527 2010-12-29 10:47:43Z saulius 

The following automatic conversions were performed:

'_symmetry_cell_setting' value 'Trigonal' changed to 'trigonal'
according to /home/saulius/struct/CIF-dictionaries/cif_core.dic
dictionary named 'cif_core.dic' version 2.4.1 from
2010-06-29.

'_exptl_absorpt_correction_type' value 'Gaussian'
changed to 'gaussian' according to
/home/saulius/struct/CIF-dictionaries/cif_core.dic dictionary named
'cif_core.dic' version 2.4.1 from 2010-06-29.

Automatic conversion script
Id: cif_fix_values 1715 2011-07-08 13:25:40Z adriana 

The following automatic conversions were performed:

'_refine_ls_weighting_scheme' value 'calc
w=1/[\s^2^(Fo^2^)+(0.0147P)^2^+1.7364P] where P=(Fo^2^+2Fc^2^)/3' was
changed to 'calc'. New tag '_refine_ls_weighting_details' was
created. The value of the new tag was set to
'w=1/[\s^2^(Fo^2^)+(0.0147P)^2^+1.7364P] where P=(Fo^2^+2Fc^2^)/3'.

Automatic conversion script
Id: cif_fix_values 3143 2015-03-26 13:38:13Z robertas 
;
_cod_original_sg_symbol_H-M      R-3m
_cod_original_formula_sum        'Br2 Cl2 Cr1 Cs1 H18 N6 O8'
_cod_database_code               2003163
loop_
_symmetry_equiv_pos_as_xyz
'x, y, z'
'-y, x-y, z'
'-x+y, -x, z'
'y, x, -z'
'x-y, -y, -z'
'-x, -x+y, -z'
'x+2/3, y+1/3, z+1/3'
'-y+2/3, x-y+1/3, z+1/3'
'-x+y+2/3, -x+1/3, z+1/3'
'y+2/3, x+1/3, -z+1/3'
'x-y+2/3, -y+1/3, -z+1/3'
'-x+2/3, -x+y+1/3, -z+1/3'
'x+1/3, y+2/3, z+2/3'
'-y+1/3, x-y+2/3, z+2/3'
'-x+y+1/3, -x+2/3, z+2/3'
'y+1/3, x+2/3, -z+2/3'
'x-y+1/3, -y+2/3, -z+2/3'
'-x+1/3, -x+y+2/3, -z+2/3'
'-x, -y, -z'
'y, -x+y, -z'
'x-y, x, -z'
'-y, -x, z'
'-x+y, y, z'
'x, x-y, z'
'-x+2/3, -y+1/3, -z+1/3'
'y+2/3, -x+y+1/3, -z+1/3'
'x-y+2/3, x+1/3, -z+1/3'
'-y+2/3, -x+1/3, z+1/3'
'-x+y+2/3, y+1/3, z+1/3'
'x+2/3, x-y+1/3, z+1/3'
'-x+1/3, -y+2/3, -z+2/3'
'y+1/3, -x+y+2/3, -z+2/3'
'x-y+1/3, x+2/3, -z+2/3'
'-y+1/3, -x+2/3, z+2/3'
'-x+y+1/3, y+2/3, z+2/3'
'x+1/3, x-y+2/3, z+2/3'
loop_
_atom_site_label
_atom_site_fract_x
_atom_site_fract_y
_atom_site_fract_z
_atom_site_U_iso_or_equiv
_atom_site_adp_type
_atom_site_calc_flag
_atom_site_refinement_flags
_atom_site_occupancy
_atom_site_disorder_assembly
_atom_site_disorder_group
_atom_site_type_symbol
Cr 0.0000 0.0000 0.0000 0.01756(15) Uani d S 1 . . Cr
N 0.13090(15) -0.13090(15) -0.04370(6) 0.0352(4) Uani d SD 1 . . N
Cl 0.0000 0.0000 0.18866(3) 0.02758(18) Uani d S 1 . . Cl
O(1) 0.0000 0.0000 0.13715(11) 0.0666(12) Uani d S 1 . . O
O(2) 0.10475(15) -0.10475(15) 0.20634(7) 0.0530(5) Uani d S 1 . . O
Br 0.0000 0.0000 0.371590(12) 0.03203(12) Uani d S 1 . . Br
Cs 0.0000 0.0000 0.5000 0.03172(12) Uani d S 1 . . Cs
H(1) 0.1898(18) -0.1898(18) -0.0293(13) 0.050(7) Uiso d SPD 0.50 . . H
H(2) 0.224(2) -0.041(3) -0.0624(4) 0.050(7) Uiso d PD 0.50 . . H
H(1') 0.117(3) -0.117(3) -0.0738(6) 0.050(7) Uiso d SPD 0.50 . . H
H(2') 0.262(2) -0.078(2) -0.0394(10) 0.050(7) Uiso d PD 0.50 . . H
loop_
_atom_site_aniso_label
_atom_site_aniso_U_11
_atom_site_aniso_U_22
_atom_site_aniso_U_33
_atom_site_aniso_U_12
_atom_site_aniso_U_13
_atom_site_aniso_U_23
Cr 0.0196(2) 0.0196(2) 0.0136(3) 0.00978(10) 0.000 0.000
N 0.0473(9) 0.0473(9) 0.0242(7) 0.0334(10) 0.0028(3) -0.0028(3)
Cl 0.0303(3) 0.0303(3) 0.0222(3) 0.01514(13) 0.000 0.000
O(1) 0.089(2) 0.089(2) 0.0222(12) 0.0444(10) 0.000 0.000
O(2) 0.0588(10) 0.0588(10) 0.0607(11) 0.0439(11) -0.0020(4) 0.0020(4)
Br 0.03402(15) 0.03402(15) 0.02805(18) 0.01701(8) 0.000 0.000
Cs 0.03496(14) 0.03496(14) 0.02524(16) 0.01748(7) 0.000 0.000
loop_
_atom_type_symbol
_atom_type_description
_atom_type_scat_dispersion_real
_atom_type_scat_dispersion_imag
_atom_type_scat_source
N N 0.0061 0.0033 'International Tables Vol C Tables 4.2.6.8 and 6.1.1.4'
H H 0.0000 0.0000 'International Tables Vol C Tables 4.2.6.8 and 6.1.1.4'
O O 0.0106 0.0060 'International Tables Vol C Tables 4.2.6.8 and 6.1.1.4'
Cl Cl 0.1484 0.1585 'International Tables Vol C Tables 4.2.6.8 and 6.1.1.4'
Cr Cr 0.3209 0.6236 'International Tables Vol C Tables 4.2.6.8 and 6.1.1.4'
Cs Cs -0.3680 2.1192 'International Tables Vol C Tables 4.2.6.8 and 6.1.1.4'
Br Br -0.2901 2.4595 'International Tables Vol C Tables 4.2.6.8 and 6.1.1.4'
loop_
_geom_angle_atom_site_label_1
_geom_angle_atom_site_label_2
_geom_angle_atom_site_label_3
_geom_angle_site_symmetry_1
_geom_angle_site_symmetry_3
_geom_angle
N Cr N 21 3 180.0
N Cr N 21 20 89.18(7)
N Cr N 3 20 90.82(7)
N Cr N 21 19 89.18(7)
N Cr N 3 19 90.82(7)
N Cr N 20 19 89.18(7)
N Cr N 21 . 90.82(7)
N Cr N 3 . 89.18(7)
N Cr N 20 . 90.82(7)
N Cr N 19 . 180.0
N Cr N 21 2 90.82(7)
N Cr N 3 2 89.18(7)
N Cr N 20 2 180.0
N Cr N 19 2 90.82(7)
N Cr N . 2 89.18(7)
Cr N H(1) . . 116(3)
Cr N H(2) . . 112(2)
H(1) N H(2) . . 105.3(14)
Cr N H(1') . . 113(3)
H(1) N H(1') . . 130(4)
H(2) N H(1') . . 54.1(9)
Cr N H(2') . . 113.4(19)
H(1) N H(2') . . 54.1(9)
H(2) N H(2') . . 55.9(19)
H(1') N H(2') . . 105.3(15)
O(1) Cl O(2) . 2 110.05(8)
O(1) Cl O(2) . . 110.05(8)
O(2) Cl O(2) 2 . 108.88(8)
O(1) Cl O(2) . 3 110.05(8)
O(2) Cl O(2) 2 3 108.88(8)
O(2) Cl O(2) . 3 108.88(8)
Cl O(2) Cs . 13_544 139.37(11)
O(2) Cs O(2) 32 31_545 108.34(4)
O(2) Cs O(2) 32 7_455 71.66(4)
O(2) Cs O(2) 31_545 7_455 180.0
O(2) Cs O(2) 32 33_445 108.34(4)
O(2) Cs O(2) 31_545 33_445 108.34(4)
O(2) Cs O(2) 7_455 33_445 71.66(4)
O(2) Cs O(2) 32 9 71.66(4)
O(2) Cs O(2) 31_545 9 71.66(4)
O(2) Cs O(2) 7_455 9 108.34(4)
O(2) Cs O(2) 33_445 9 180.0
O(2) Cs O(2) 32 8_445 180.0
O(2) Cs O(2) 31_545 8_445 71.66(4)
O(2) Cs O(2) 7_455 8_445 108.34(4)
O(2) Cs O(2) 33_445 8_445 71.66(4)
O(2) Cs O(2) 9 8_445 108.34(4)
O(2) Cs Br 32 . 69.42(3)
O(2) Cs Br 31_545 . 69.42(3)
O(2) Cs Br 7_455 . 110.58(3)
O(2) Cs Br 33_445 . 69.42(3)
O(2) Cs Br 9 . 110.58(3)
O(2) Cs Br 8_445 . 110.58(3)
O(2) Cs Br 32 19_556 110.58(3)
O(2) Cs Br 31_545 19_556 110.58(3)
O(2) Cs Br 7_455 19_556 69.42(3)
O(2) Cs Br 33_445 19_556 110.58(3)
O(2) Cs Br 9 19_556 69.42(3)
O(2) Cs Br 8_445 19_556 69.42(3)
Br Cs Br . 19_556 180.0
loop_
_geom_bond_atom_site_label_1
_geom_bond_atom_site_label_2
_geom_bond_site_symmetry_2
_geom_bond_distance
Cr N 21 2.0733(18)
Cr N 3 2.0733(18)
Cr N 20 2.0733(18)
Cr N 19 2.0733(18)
Cr N . 2.0733(18)
Cr N 2 2.0733(18)
N H(1) . 0.857(14)
N H(2) . 0.857(14)
N H(1') . 0.857(14)
N H(2') . 0.857(14)
Cl O(1) . 1.431(3)
Cl O(2) 2 1.4317(19)
Cl O(2) . 1.4317(19)
Cl O(2) 3 1.4317(19)
O(2) Cs 13_544 3.135(2)
Br Cs . 3.5672(10)
Cs O(2) 32 3.135(2)
Cs O(2) 31_545 3.135(2)
Cs O(2) 7_455 3.135(2)
Cs O(2) 33_445 3.135(2)
Cs O(2) 9 3.135(2)
Cs O(2) 8_445 3.135(2)
Cs Br 19_556 3.5672(10)
