#------------------------------------------------------------------------------
#$Date: 2017-10-13 02:48:21 +0200 (vie 13 de oct de 2017) $
#$Revision: 201957 $
#$URL: svn://www.crystallography.net/cod/cif/2/01/16/2011689.cif $
#------------------------------------------------------------------------------
#
# This file is available in the Crystallography Open Database (COD),
# http://www.crystallography.net/. The original data for this entry
# were provided by IUCr Journals, http://journals.iucr.org/.
#
# The file may be used within the scientific community so long as
# proper attribution is given to the journal article from which the
# data were obtained.
#
data_2011689
loop_
_publ_author_name
'Chernyshev, Vladimir V.'
'Paseshnichenko, Ksenia A.'
'Makarov, Vadim A.'
'Sonneveld, Eduard J.'
'Schenk, Hendrik'
_publ_section_title
;
 Metabolic pathways of dithiocarbamates from laboratory powder
 diffraction data
;
_journal_issue                   1
_journal_name_full               'Acta Crystallographica Section C'
_journal_page_first              72
_journal_page_last               75
_journal_paper_doi               10.1107/S0108270100013457
_journal_volume                  57
_journal_year                    2001
_chemical_formula_moiety         'C10 H15 N5 O2 S2'
_chemical_formula_sum            'C10 H15 N5 O2 S2'
_chemical_formula_weight         301.39
_chemical_name_systematic
;
6-Methylamino-5-nitropyrimidin-4-yl diethyldithiocarbamate
;
_space_group_IT_number           14
_symmetry_cell_setting           monoclinic
_symmetry_space_group_name_Hall  '-P 2ybc'
_symmetry_space_group_name_H-M   'P 1 21/c 1'
_cell_angle_alpha                90.0
_cell_angle_beta                 97.33(2)
_cell_angle_gamma                90.0
_cell_formula_units_Z            4
_cell_length_a                   7.354(3)
_cell_length_b                   9.098(4)
_cell_length_c                   21.738(8)
_cell_measurement_temperature    295(2)
_cell_volume                     1442.5(10)
_computing_cell_refinement       'LSPAID (Visser et al., 1986)'
_computing_data_collection
'Johannson LS18 linescanner data collection program'
_computing_data_reduction        'PROFIT (Philips, 1996)'
_computing_molecular_graphics    'PLUTON (Spek, 1992)'
_computing_publication_material
'MRIA, SHELXL93 (Sheldrick, 1993) and PARST (Nardelli, 1983)'
_computing_structure_refinement  MRIA
_computing_structure_solution    'MRIA (Zlokazov & Chernyshev, 1992)'
_diffrn_ambient_temperature      295(2)
_diffrn_measurement_device_type
'Enraf-Nonius Guinier Johannson camera FR 552'
_diffrn_radiation_monochromator  quartz
_diffrn_radiation_type           CuK\a
_diffrn_radiation_wavelength     1.54059
_diffrn_reflns_limit_h_max       6
_diffrn_reflns_limit_h_min       0
_diffrn_reflns_limit_k_max       7
_diffrn_reflns_limit_k_min       0
_diffrn_reflns_limit_l_max       17
_diffrn_reflns_limit_l_min       -18
_exptl_absorpt_coefficient_mu    3.417
_exptl_absorpt_correction_type   none
_exptl_crystal_density_diffrn    1.388
_exptl_crystal_density_method    'not measured'
_exptl_crystal_F_000             632
_refine_diff_density_max         .7
_refine_diff_density_min         -.4
_refine_ls_extinction_method     none
_refine_ls_goodness_of_fit_all   2.94
_refine_ls_hydrogen_treatment    constr
_refine_ls_matrix_type           fullcycle
_refine_ls_number_constraints    17
_refine_ls_number_parameters     142
_refine_ls_number_restraints     83
_refine_ls_shift/su_max          .05
_refine_ls_shift/su_mean         .01
_refine_ls_structure_factor_coef Inet
_refine_ls_weighting_scheme      sigma
_cod_data_source_file            br1303.cif
_cod_data_source_block           Ib
_cod_original_cell_volume        1443.0(10)
_cod_original_sg_symbol_H-M      'P 21/c'
_cod_database_code               2011689
loop_
_symmetry_equiv_pos_as_xyz
'x, y, z'
'-x, -y, -z'
'-x, 1/2+y, 1/2-z'
'x, 1/2-y, 1/2+z'
loop_
_atom_site_label
_atom_site_fract_x
_atom_site_fract_y
_atom_site_fract_z
_atom_site_U_iso_or_equiv
_atom_site_thermal_displace_type
_atom_site_calc_flag
_atom_site_refinement_flags
_atom_site_occupancy
_atom_site_disorder_group
_atom_site_type_symbol
N1 .1935(7) .6766(5) .0773(2) .059(2) Uiso d . 1 . N
C2 .2112(9) .5761(7) .1252(3) .059(2) Uiso d . 1 . C
N3 .2627(7) .4352(5) .1250(2) .059(2) Uiso d . 1 . N
C4 .288(10) .3648(6) .0729(3) .059(2) Uiso d . 1 . C
C5 .2686(9) .4614(8) .0228(3) .059(2) Uiso d . 1 . C
C6 .215(10) .6127(7) .0211(3) .059(2) Uiso d . 1 . C
N5 .2912(8) .3860(5) -.0359(3) .059(2) Uiso d . 1 . N
O51 .2945(6) .4570(4) -.0836(2) .059(2) Uiso d . 1 . O
O52 .2871(6) .2537(4) -.0385(2) .059(2) Uiso d . 1 . O
N6 .2034(8) .7037(6) -.0285(2) .059(2) Uiso d . 1 . N
C7 .1612(9) .8546(8) -.0236(3) .059(2) Uiso d . 1 . C
S4 .3563(3) .1882(2) .08030(10) .0470(10) Uiso d . 1 . S
C9 .4572(9) .1976(7) .1603(3) .059(2) Uiso d . 1 . C
N4 .3404(7) .1586(6) .2007(2) .059(2) Uiso d . 1 . N
S3 .6672(2) .2286(2) .18180(10) .0530(10) Uiso d . 1 . S
C10 .147(11) .1180(7) .1884(3) .059(2) Uiso d . 1 . C
C11 .0820(10) -.0406(8) .1707(3) .059(2) Uiso d . 1 . C
C12 .3980(10) .1445(8) .2682(4) .059(2) Uiso d . 1 . C
C13 .4060(10) .2976(9) .2988(3) .059(2) Uiso d . 1 . C
H71 .186(6) .915(4) -.064(2) .051 Uiso d . 1 . H
H72 .252(6) .896(4) .016(2) .051 Uiso d . 1 . H
H73 .027(6) .865(4) -.014(2) .051 Uiso d . 1 . H
H2 .192(6) .628(4) .169(2) .051 Uiso d . 1 . H
H6 .241(5) .667(4) -.066(2) .051 Uiso d . 1 . H
H101 .091(5) .184(4) .153(2) .051 Uiso d . 1 . H
H102 .093(7) .142(4) .229(2) .051 Uiso d . 1 . H
H121 .529(6) .104(4) .273(2) .051 Uiso d . 1 . H
H122 .303(6) .083(4) .286(2) .051 Uiso d . 1 . H
H131 .445(6) .282(4) .3450(10) .051 Uiso d . 1 . H
H132 .275(5) .341(4) .289(2) .051 Uiso d . 1 . H
H133 .501(6) .358(4) .278(2) .051 Uiso d . 1 . H
H111 -.059(6) -.037(4) .168(2) .051 Uiso d . 1 . H
H112 .143(6) -.105(3) .206(2) .051 Uiso d . 1 . H
H113 .129(6) -.062(4) .129(2) .051 Uiso d . 1 . H
loop_
_atom_type_symbol
_atom_type_description
_atom_type_scat_dispersion_real
_atom_type_scat_dispersion_imag
_atom_type_scat_source
S S .3331 .5567 'International Tables Vol C Tables 4.2.6.8 and 6.1.1.4'
O O .0492 .0322 'International Tables Vol C Tables 4.2.6.8 and 6.1.1.4'
N N .0311 .0180 'International Tables Vol C Tables 4.2.6.8 and 6.1.1.4'
C C .0181 .0091 'International Tables Vol C Tables 4.2.6.8 and 6.1.1.4'
H H .0000 .0000 'International Tables Vol C Tables 4.2.6.8 and 6.1.1.4'
loop_
_geom_angle_atom_site_label_1
_geom_angle_atom_site_label_2
_geom_angle_atom_site_label_3
_geom_angle
_geom_angle_publ_flag
C2 N1 C6 112.2(5) no
N1 C2 H2 111(2) no
N1 C2 N3 129.3(6) no
N3 C2 H2 119(2) no
C2 N3 C4 122.2(5) no
N3 C4 S4 116.7(4) no
N3 C4 C5 110.5(6) no
C5 C4 S4 132.5(5) no
C4 C5 N5 111.8(6) no
C4 C5 C6 128.9(6) no
C6 C5 N5 119.0(6) no
N1 C6 C5 116.4(6) no
C5 C6 N6 126.8(6) no
N1 C6 N6 116.4(5) no
C5 N5 O52 120.0(5) no
C5 N5 O51 120.2(6) no
O51 N5 O52 119.4(5) no
C6 N6 H6 118(2) no
C6 N6 C7 121.8(5) no
C7 N6 H6 119(2) no
N6 C7 H73 109(2) no
N6 C7 H72 106(2) no
N6 C7 H71 112(2) no
H72 C7 H73 109(3) no
H71 C7 H73 112(3) no
H71 C7 H72 108(3) no
C4 S4 C9 97.4(3) no
S4 C9 S3 124.0(4) no
S4 C9 N4 113.4(5) no
N4 C9 S3 122.2(5) no
C9 N4 C12 122.8(5) no
C9 N4 C10 129.2(6) no
C10 N4 C12 108.0(5) no
N4 C10 H102 105(3) no
N4 C10 H101 106(2) no
N4 C10 C11 123.0(6) no
H101 C10 H102 111(3) no
C11 C10 H102 105(2) no
C11 C10 H101 106(2) no
C10 C11 H113 105(2) no
C10 C11 H112 105(2) no
C10 C11 H111 105(2) no
H112 C11 H113 113(3) no
H111 C11 H113 113(4) no
H111 C11 H112 114(3) no
N4 C12 H122 108(2) no
N4 C12 H121 107(3) no
N4 C12 C13 109.9(6) no
H121 C12 H122 117(4) no
C13 C12 H122 109(2) no
C13 C12 H121 107(2) no
C12 C13 H133 106(2) no
C12 C13 H132 105(2) no
C12 C13 H131 107(2) no
H132 C13 H133 112(3) no
H131 C13 H133 113(3) no
H131 C13 H132 114(3) no
loop_
_geom_bond_atom_site_label_1
_geom_bond_atom_site_label_2
_geom_bond_site_symmetry_2
_geom_bond_distance
_geom_bond_publ_flag
N1 C2 . 1.379(8) no
N1 C6 . 1.381(8) no
C2 N3 . 1.337(8) no
C2 H2 . 1.09(4) no
N3 C4 . 1.335(8) no
C4 C5 . 1.393(9) no
C4 S4 . 1.685(6) no
C5 C6 . 1.430(10) no
C5 N5 . 1.477(9) no
C6 N6 . 1.353(8) no
N5 O51 . 1.225(7) no
N5 O52 . 1.205(6) no
N6 C7 . 1.415(9) no
N6 H6 . .96(4) no
C7 H71 . 1.06(4) no
C7 H72 . 1.08(4) no
C7 H73 . 1.04(4) no
S4 C9 . 1.804(7) no
C9 N4 . 1.352(9) no
C9 S3 . 1.581(7) no
N4 C10 . 1.459(9) no
N4 C12 . 1.480(9) no
C10 C11 . 1.550(10) no
C10 H101 . 1.03(3) no
C10 H102 . 1.04(5) no
C11 H111 . 1.03(5) no
C11 H112 . 1.03(4) no
C11 H113 . 1.03(4) no
C12 C13 . 1.540(10) no
C12 H121 . 1.02(4) no
C12 H122 . 1.01(4) no
C13 H131 . 1.03(3) no
C13 H132 . 1.04(4) no
C13 H133 . 1.04(4) no
loop_
_geom_torsion_atom_site_label_1
_geom_torsion_atom_site_label_2
_geom_torsion_atom_site_label_3
_geom_torsion_atom_site_label_4
_geom_torsion
_geom_torsion_publ_flag
C5 C4 S4 C9 148.9(7) no
C4 C5 N5 O52 14.3(9) no
C5 C6 N6 C7 -175.5(6) no
S3 C9 S4 C4 -93.8(5) no
loop_
_cod_related_entry_id
_cod_related_entry_database
_cod_related_entry_code
1 ChemSpider 4981503
