#------------------------------------------------------------------------------
#$Date: 2016-02-14 15:26:36 +0100 (dom 14 de feb de 2016) $
#$Revision: 176435 $
#$URL: svn://www.crystallography.net/cod/cif/2/10/15/2101593.cif $
#------------------------------------------------------------------------------
#
# This file is available in the Crystallography Open Database (COD),
# http://www.crystallography.net/. The original data for this entry
# were provided by IUCr Journals, http://journals.iucr.org/.
#
# The file may be used within the scientific community so long as
# proper attribution is given to the journal article from which the
# data were obtained.
#
data_2101593
loop_
_publ_author_name
'Abrahams, S. C.'
_publ_section_title
;
 New ferroelectric inorganic materials predicted in point group
 4mm
;
_journal_issue                   5
_journal_name_full               'Acta Crystallographica Section B'
_journal_page_first              790
_journal_page_last               805
_journal_paper_doi               10.1107/S0108768196004594
_journal_volume                  52
_journal_year                    1996
_chemical_formula_sum            'Cl6 H3 In K3 O1.5'
_symmetry_cell_setting           tetragonal
_symmetry_space_group_name_Hall  'I 4 -2'
_symmetry_space_group_name_H-M   'I 4 m m'
_cell_angle_alpha                90.0
_cell_angle_beta                 90.0
_cell_angle_gamma                90.0
_cell_length_a                   16.563(7)
_cell_length_b                   16.563(7)
_cell_length_c                   18.563(6)
_cell_volume                     5092(3)
_diffrn_radiation_type           MoK\a
_diffrn_radiation_wavelength     0.71069
_cod_data_source_file            an0527.cif
_cod_data_source_block           AN0527s
_cod_original_formula_sum        'H3 Cl6 In1 K3 O1.5'
_cod_database_code               2101593
loop_
_atom_site_label
_atom_site_fract_x
_atom_site_fract_y
_atom_site_fract_z
In1 .2431(2) .2431 .2432(3)
In2 .0 .5000 .4950
In3 .0 .0 .5117(3)
K1 .2108(3) .2108 .4939(6)
K2 .0 .2924(6) .3633(6)
K3 .0 .2956(5) .6335(5)
K4 .5000 .2155(6) .3711(6)
K5 .5000 .2208(6) .6156(6)
K6 .5000 .5000 .3573(16)
K7 .5000 .5000 .611(4)
Cl1 .3562(3) .1313(3) .2448(5)
Cl2 .1495(4) .1495 .3278(6)
Cl3 .3070(4) .3070 .3578(6)
Cl4 .3341(4) .3341 .1600(6)
Cl5 .1786(4) .1786 .1300(6)
Cl6 .0 .5000 .3616(9)
Cl7 .0 .5000 .6292(8)
Cl8 .1141(3) .6156(3) .4960(6)
Cl9 .0 .0 .6454(9)
Cl10 .0 .1601(4) .4986(6)
Cl11 .5000 .3645(14) .4898(12)
O1 .0 .0 .393(2)
O2 .5000 .338(2) .2677(17)
O4 .5000 .375(7) .710(4)
