#------------------------------------------------------------------------------
#$Date: 2017-10-13 07:28:26 +0200 (vie 13 de oct de 2017) $
#$Revision: 201972 $
#$URL: svn://www.crystallography.net/cod/cif/2/10/19/2101958.cif $
#------------------------------------------------------------------------------
#
# This file is available in the Crystallography Open Database (COD),
# http://www.crystallography.net/. The original data for this entry
# were provided by IUCr Journals, http://journals.iucr.org/.
#
# The file may be used within the scientific community so long as
# proper attribution is given to the journal article from which the
# data were obtained.
#
data_2101958
loop_
_publ_author_name
'Nigović, Biljana'
'Antolić, Snježana'
'Kojić-Prodić, Biserka'
'Kiralj, Rudolf'
'Magnus, Volker'
'Salopek, Branka'
_publ_section_title
;
 Correlation of structural and physico-chemical parameters with the
 bioactivity of alkylated derivatives of indole-3-acetic acid, a
 phytohormone (auxin)
;
_journal_issue                   1
_journal_name_full               'Acta Crystallographica Section B'
_journal_page_first              94
_journal_page_last               111
_journal_paper_doi               10.1107/S0108768199006199
_journal_volume                  56
_journal_year                    2000
_chemical_formula_moiety         ' C11 H11 N O2'
_chemical_formula_sum            'C11 H11 N O2'
_chemical_formula_weight         189.21
_chemical_name_systematic
;
 2-methyl-idole-3-acetic acid
;
_space_group_IT_number           14
_symmetry_cell_setting           monoclinic
_symmetry_space_group_name_Hall  '-P 2ybc'
_symmetry_space_group_name_H-M   'P 1 21/c 1'
_cell_angle_alpha                90
_cell_angle_beta                 99.700(10)
_cell_angle_gamma                90
_cell_formula_units_Z            4
_cell_length_a                   8.5420(10)
_cell_length_b                   13.4080(10)
_cell_length_c                   8.6380(10)
_cell_measurement_reflns_used    25
_cell_measurement_temperature    297
_cell_measurement_theta_max      18
_cell_measurement_theta_min      7
_cell_volume                     975.18(18)
_computing_cell_refinement
'CAD4 (Enraf Nonius 1988) software <CELDIM> routine'
_computing_data_collection       'CAD4 (Enraf Nonius 1988) software'
_computing_data_reduction        'SDP (Frenz, 1982)'
_computing_molecular_graphics
;
PLATON93 (Spek, 1982, 1990) & ORTEP (Johnson, 1965), PLUTON93 (Spek 1991)
;
_computing_publication_material  'PLATON93 (Spek 1982, 1990)'
_computing_structure_refinement  'SHELX76 (Sheldrick, 1976)'
_computing_structure_solution    'SHELXS-86 (Sheldrick,1985, 1990)'
_diffrn_ambient_temperature      297
_diffrn_measurement_device       'Enraf-Nonius CAD4'
_diffrn_measurement_method       ω/2θ
_diffrn_radiation_monochromator  graphite
_diffrn_radiation_source         'fine-focus sealed tube'
_diffrn_radiation_type           'Mo K\a'
_diffrn_radiation_wavelength     .71073
_diffrn_reflns_av_R_equivalents  .013
_diffrn_reflns_limit_h_max       10
_diffrn_reflns_limit_h_min       0
_diffrn_reflns_limit_k_max       15
_diffrn_reflns_limit_k_min       0
_diffrn_reflns_limit_l_max       10
_diffrn_reflns_limit_l_min       -10
_diffrn_reflns_number            1920
_diffrn_reflns_reduction_process
;
 ?
;
_diffrn_reflns_theta_max         25
_diffrn_reflns_theta_min         2
_diffrn_standards_decay_%        .3
_diffrn_standards_interval_count 87
_diffrn_standards_interval_time  180
_diffrn_standards_number         3
_exptl_absorpt_coefficient_mu    .09
_exptl_absorpt_correction_type   none
_exptl_crystal_colour            colourless
_exptl_crystal_density_diffrn    1.289
_exptl_crystal_density_method    'not measured'
_exptl_crystal_description       prismatic
_exptl_crystal_F_000             400
_exptl_crystal_size_max          .40
_exptl_crystal_size_mid          .15
_exptl_crystal_size_min          .15
_refine_diff_density_max         .17
_refine_diff_density_min         -.18
_refine_ls_abs_structure_details
;
 ?
;
_refine_ls_extinction_method     none
_refine_ls_goodness_of_fit_obs   .39
_refine_ls_hydrogen_treatment
;
all H-atom parameters refined except Uiso for H101, H102, H103
;
_refine_ls_matrix_type           full
_refine_ls_number_constraints    0
_refine_ls_number_parameters     168
_refine_ls_number_reflns         1052
_refine_ls_number_restraints     0
_refine_ls_R_factor_obs          .039
_refine_ls_shift/esd_max         .05
_refine_ls_shift/esd_mean        .05
_refine_ls_structure_factor_coef F
_refine_ls_weighting_details     'w = 1.4784/[σ²(Fo)+0.001075(Fo²)]'
_refine_ls_weighting_scheme      calc
_refine_ls_wR_factor_obs         .043
_reflns_number_observed          1052
_reflns_number_total             1467
_reflns_observed_criterion       I>3\s(I)
_cod_data_source_file            ha0181.cif
_cod_data_source_block           2-Me-IAA
_cod_depositor_comments
;
The following automatic conversions were performed:
'_symmetry_cell_setting' value 'Monoclinic' changed to 'monoclinic'
according to '/home/saulius/struct/CIF-dictionaries/cif_core.dic'
dictionary named 'cif_core.dic' version 2.4.1 from 2010-06-29.

Automatic conversion script
Id: cif_fix_enum 1527 2010-12-29 10:47:43Z saulius 

The following automatic conversions were performed:

'_symmetry_cell_setting' value 'Monoclinic' changed to 'monoclinic'
according to /home/saulius/struct/CIF-dictionaries/cif_core.dic
dictionary named 'cif_core.dic' version 2.4.1 from 2010-06-29.

Automatic conversion script
Id: cif_fix_values 1715 2011-07-08 13:25:40Z adriana 

The following automatic conversions were performed:

'_refine_ls_weighting_scheme' value 'calc w =
1.4784/[\s^2^(Fo)+0.001075(Fo^2^)]' was changed to 'calc'. New tag
'_refine_ls_weighting_details' was created. The value of the new tag
was set to 'w = 1.4784/[\s^2^(Fo)+0.001075(Fo^2^)]'.

Automatic conversion script
Id: cif_fix_values 3143 2015-03-26 13:38:13Z robertas 
;
_cod_original_cell_volume        975.18(8)
_cod_original_sg_symbol_H-M      'P 21/c'
_cod_original_formula_sum        ' C11 H11 N O2'
_cod_database_code               2101958
loop_
_symmetry_equiv_pos_as_xyz
x,y,z
-x,1/2+y,1/2-z
-x,-y,-z
x,1/2-y,1/2+z
loop_
_atom_site_aniso_label
_atom_site_aniso_U_11
_atom_site_aniso_U_22
_atom_site_aniso_U_33
_atom_site_aniso_U_12
_atom_site_aniso_U_13
_atom_site_aniso_U_23
O1 .0610(11) .0482(10) .0593(11) .0132(8) -.0083(9) -.0045(7)
O2 .0845(13) .0579(11) .0543(10) .0241(9) -.0194(9) -.0124(8)
N1 .0704(14) .0503(12) .0469(11) .0153(11) .0021(11) .0074(10)
C2 .0584(15) .0511(13) .0382(12) .0034(12) .0000(11) -.0028(10)
C3 .0556(15) .0450(12) .0351(11) .0046(10) -.0060(11) -.0049(9)
C4 .0748(19) .0615(17) .0470(15) -.0136(15) .0048(14) -.0031(12)
C5 .075(2) .104(3) .0560(17) -.029(2) .0191(16) -.0158(17)
C6 .0612(19) .108(3) .0606(18) .0063(19) -.0013(16) -.0189(18)
C7 .0662(18) .083(2) .0468(15) .0159(16) -.0021(14) -.0108(14)
C8 .0688(18) .0523(15) .0445(14) .0123(14) -.0049(13) -.0056(12)
C9 .0464(13) .0396(11) .0462(12) .0017(10) .0032(10) .0008(10)
C10 .084(2) .075(2) .0733(19) .0008(16) .0258(18) .0059(16)
C31 .0557(14) .0498(13) .0346(11) -.0009(11) -.0063(10) -.0060(10)
C71 .0536(15) .0603(15) .0338(11) .0075(12) -.0029(11) -.0059(10)
loop_
_atom_site_label
_atom_site_fract_x
_atom_site_fract_y
_atom_site_fract_z
_atom_site_U_iso_or_equiv
_atom_site_thermal_displace_type
_atom_site_calc_flag
_atom_site_occupancy
O1 .9544(2) -.07940(10) .8285(2) .0583(6) Uani d 1.000
O2 .8698(2) .06810(10) .8907(2) .0692(7) Uani d 1.000
N1 .5467(3) .2278(2) .5059(2) .0568(7) Uani d 1.000
C2 .6732(3) .1639(2) .5051(2) .0502(8) Uani d 1.000
C3 .6586(3) .0868(2) .6046(2) .0468(7) Uani d 1.000
C4 .4384(4) .0496(2) .7716(3) .0617(10) Uani d 1.000
C5 .2965(4) .0862(3) .8023(4) .0774(13) Uani d 1.000
C6 .2313(4) .1739(3) .7354(4) .0779(13) Uani d 1.000
C7 .3063(3) .2276(2) .6360(3) .0667(10) Uani d 1.000
C8 .7676(4) .0000(2) .6379(3) .0569(9) Uani d 1.000
C9 .8678(3) .0001(2) .7971(3) .0446(7) Uani d 1.000
C10 .7939(4) .1848(2) .4057(4) .0760(11) Uani d 1.000
C31 .5171(3) .1024(2) .6679(2) .0483(7) Uani d 1.000
C71 .4486(3) .1914(2) .6023(2) .0504(8) Uani d 1.000
H1 .531(3) .282(2) .443(3) .078(9) Uiso d 1.000
H4 .485(3) -.015(2) .816(3) .079(9) Uiso d 1.000
H5 .249(4) .052(2) .871(3) .083(10) Uiso d 1.000
H6 .125(4) .197(2) .762(4) .103(11) Uiso d 1.000
H7 .260(4) .291(2) .590(4) .095(10) Uiso d 1.000
H11 1.017(4) -.075(2) .938(4) .097(10) Uiso d 1.000
H81 .847(3) -.0034(19) .567(3) .069(8) Uiso d 1.000
H82 .714(3) -.062(2) .632(3) .081(9) Uiso d 1.000
H101 .870(5) .132(3) .401(5) .1500 Uiso d 1.000
H102 .750(5) .190(3) .295(6) .1500 Uiso d 1.000
H103 .854(5) .234(4) .430(6) .1500 Uiso d 1.000
loop_
_atom_type_symbol
_atom_type_description
_atom_type_scat_dispersion_real
_atom_type_scat_dispersion_imag
_atom_type_scat_source
O O .0106 .0060 'International Tables Vol C Tables 4.2.6.8 and 6.1.1.4'
N N .0061 .0033 'International Tables Vol C Tables 4.2.6.8 and 6.1.1.4'
H H .0000 .0000 'International Tables Vol C Tables 4.2.6.8 and 6.1.1.4'
C C .0033 .0016 'International Tables Vol C Tables 4.2.6.8 and 6.1.1.4'
loop_
_diffrn_standard_refln_index_h
_diffrn_standard_refln_index_k
_diffrn_standard_refln_index_l
-3 -2 2
-3 2 2
-2 -4 1
loop_
_geom_angle_atom_site_label_1
_geom_angle_atom_site_label_2
_geom_angle_atom_site_label_3
_geom_angle
_geom_angle_publ_flag
C2 N1 C71 110.0(2) no
N1 C2 C3 108.2(2) no
N1 C2 C10 120.6(2) no
C3 C2 C10 131.1(2) no
C2 C3 C8 126.5(2) no
C2 C3 C31 107.7(2) no
C8 C3 C31 125.8(2) no
C5 C4 C31 118.5(3) no
C4 C5 C6 121.9(3) no
C5 C6 C7 120.9(3) no
C6 C7 C71 118.1(3) no
C3 C8 C9 114.9(2) no
O1 C9 O2 122.1(2) no
O1 C9 C8 114.2(2) no
O2 C9 C8 123.7(2) no
C3 C31 C4 134.6(3) no
C3 C31 C71 107.0(2) no
C4 C31 C71 118.4(2) no
N1 C71 C7 130.8(2) no
N1 C71 C31 107.0(2) no
C7 C71 C31 122.2(2) no
C9 O1 H11 110.0(16) no
C2 N1 H1 122.2(17) no
C71 N1 H1 127.5(17) no
C5 C4 H4 122.8(15) no
C31 C4 H4 118.7(15) no
C4 C5 H5 117(2) no
C6 C5 H5 121(2) no
C5 C6 H6 118.3(17) no
C7 C6 H6 120.8(17) no
C6 C7 H7 121(2) no
C71 C7 H7 121(2) no
C3 C8 H81 112.9(15) no
C3 C8 H82 113.3(16) no
C9 C8 H81 102.9(15) no
C9 C8 H82 104.3(16) no
H81 C8 H82 108(2) no
C2 C10 H101 115(3) no
C2 C10 H102 113(3) no
C2 C10 H103 117(3) no
H101 C10 H102 99(4) no
H101 C10 H103 101(4) no
H102 C10 H103 108(4) no
loop_
_geom_bond_atom_site_label_1
_geom_bond_atom_site_label_2
_geom_bond_distance
_geom_bond_publ_flag
O1 C9 1.300(3) no
O2 C9 1.217(3) no
N1 C2 1.380(4) no
N1 C71 1.367(3) no
C2 C3 1.363(3) no
C2 C10 1.475(4) no
C3 C8 1.488(4) no
C3 C31 1.424(4) no
C4 C5 1.374(5) no
C4 C31 1.399(4) no
C5 C6 1.385(5) no
C6 C7 1.361(4) no
C7 C71 1.385(4) no
C8 C9 1.492(4) no
C31 C71 1.406(4) no
O1 H11 1.01(3) no
N1 H1 .90(3) no
C4 H4 1.00(3) no
C5 H5 .90(3) no
C6 H6 1.02(3) no
C7 H7 .99(3) no
C8 H81 .99(3) no
C8 H82 .95(3) no
C10 H101 .97(4) no
C10 H102 .97(5) no
C10 H103 .84(5) no
loop_
_geom_torsion_atom_site_label_1
_geom_torsion_atom_site_label_2
_geom_torsion_atom_site_label_3
_geom_torsion_atom_site_label_4
_geom_torsion
_geom_torsion_publ_flag
C71 N1 C2 C3 -1.4(3) no
C71 N1 C2 C10 178.0(2) no
C2 N1 C71 C7 -177.7(2) no
C2 N1 C71 C31 1.4(3) no
N1 C2 C3 C8 179.1(2) no
N1 C2 C3 C31 .8(3) no
C10 C2 C3 C8 -.2(4) no
C10 C2 C3 C31 -178.5(3) no
C2 C3 C8 C9 108.5(3) no
C31 C3 C8 C9 -73.6(3) no
C2 C3 C31 C4 178.6(3) no
C2 C3 C31 C71 .0(9) no
C8 C3 C31 C4 .4(4) no
C8 C3 C31 C71 -178.2(2) no
C31 C4 C5 C6 -.9(5) no
C5 C4 C31 C3 -177.3(3) no
C5 C4 C31 C71 1.2(4) no
C4 C5 C6 C7 -.1(7) no
C5 C6 C7 C71 .8(5) no
C6 C7 C71 N1 178.5(3) no
C6 C7 C71 C31 -.4(4) no
C3 C8 C9 O1 175.5(2) no
C3 C8 C9 O2 -4.5(4) no
C3 C31 C71 N1 -.8(2) no
C3 C31 C71 C7 178.4(2) no
C4 C31 C71 N1 -179.7(2) no
C4 C31 C71 C7 -.5(3) no
loop_
_cod_related_entry_id
_cod_related_entry_database
_cod_related_entry_code
1 ChemSpider 512099
