#------------------------------------------------------------------------------
#$Date: 2017-08-03 01:37:41 +0200 (jue 03 de ago de 2017) $
#$Revision: 199473 $
#$URL: svn://www.crystallography.net/cod/cif/2/10/33/2103397.cif $
#------------------------------------------------------------------------------
#
# This file is available in the Crystallography Open Database (COD),
# http://www.crystallography.net/. The original data for this entry
# were provided by IUCr Journals, http://journals.iucr.org/.
#
# The file may be used within the scientific community so long as
# proper attribution is given to the journal article from which the
# data were obtained.
#
data_2103397
loop_
_publ_author_name
'Marsh, Richard E.'
_publ_section_title
;
 The space groups of point group C₃: some corrections, some
 comments
;
_journal_issue                   5
_journal_name_full               'Acta Crystallographica Section B'
_journal_page_first              893
_journal_page_last               899
_journal_paper_doi               10.1107/S0108768102011758
_journal_volume                  58
_journal_year                    2002
_chemical_formula_moiety         'C28 H60 Ga4 S4'
_chemical_formula_sum            'C28 H60 Ga4 S4'
_symmetry_cell_setting           cubic
_symmetry_space_group_name_H-M   'I -4 3 m'
_cell_angle_alpha                90.0
_cell_angle_beta                 90.0
_cell_angle_gamma                90.0
_cell_formula_units_Z            2
_cell_length_a                   12.209
_cell_length_b                   12.209
_cell_length_c                   12.209
_cell_volume                     1819.870
_cod_data_source_file            bk0117.cif
_cod_data_source_block           NATWAG
_cod_depositor_comments
;
 Adding the _cell_formula_units_Z and _chemical_formula_moiety data items
 after consulting the original publication.

 Antanas Vaitkus,
 2017-08-03
;
_cod_original_formula_sum        'C28 H60 S4 Ga4'
_cod_database_code               2103397
loop_
_atom_site_label
_atom_site_fract_x
_atom_site_fract_y
_atom_site_fract_z
S -0.0987 -0.0987 -0.0987
Ga 0.0913 0.0913 0.0913
C1 0.1967 0.1967 0.1967
C2 0.2905 0.2016 0.1336
C3 0.3659 0.1144 0.1144
