#------------------------------------------------------------------------------
#$Date: 2016-02-14 15:26:36 +0100 (dom 14 de feb de 2016) $
#$Revision: 176435 $
#$URL: svn://www.crystallography.net/cod/cif/2/10/37/2103762.cif $
#------------------------------------------------------------------------------
#
# This file is available in the Crystallography Open Database (COD),
# http://www.crystallography.net/. The original data for this entry
# were provided by IUCr Journals, http://journals.iucr.org/.
#
# The file may be used within the scientific community so long as
# proper attribution is given to the journal article from which the
# data were obtained.
#
data_2103762
loop_
_publ_author_name
'Friedrich, Alexandra'
'Kunz, Martin'
'Suard, Emmanuelle'
_publ_section_title
;
 Temperature-dependent neutron powder diffraction study of the
 Ba(OD)₂ polymorphs: a new low-temperature phase
;
_journal_issue                   6
_journal_name_full               'Acta Crystallographica Section B'
_journal_page_first              747
_journal_page_last               758
_journal_paper_doi               10.1107/S0108768101013647
_journal_volume                  57
_journal_year                    2001
_chemical_formula_iupac          'Ba (O D)2'
_chemical_formula_moiety         'Ba, 2(O D)'
_chemical_formula_structural     'Ba (O D)2'
_chemical_formula_sum            'Ba D2 O2'
_chemical_formula_weight         3467.320
_chemical_name_systematic
;
deuterated barium hydroxide
;
_space_group_IT_number           62
_symmetry_cell_setting           orthorhombic
_symmetry_space_group_name_Hall  '-P 2ac 2n'
_symmetry_space_group_name_H-M   'P n m a'
_cell_angle_alpha                90.0
_cell_angle_beta                 90.0
_cell_angle_gamma                90.0
_cell_formula_units_Z            20
_cell_length_a                   10.9577(3)
_cell_length_b                   16.4138(5)
_cell_length_c                   7.07374(18)
_cell_measurement_temperature    150
_cell_volume                     1272.27(6)
_computing_cell_refinement       'GSAS (Larson and Von Dreele, 1994)'
_computing_data_reduction        GSAS
_computing_molecular_graphics
'Crystal Maker, version 4.0.1 (Palmer, D.C., 1994-99)'
_computing_publication_material  GSAS
_computing_structure_refinement  GSAS
_diffrn_measurement_device_type  'diffractometer D 2B, ILL'
_diffrn_radiation_probe          neutron
_diffrn_radiation_source         'high-flux isotope reactor'
_diffrn_radiation_type           neutron
_diffrn_radiation_wavelength     1.59432
_refine_ls_extinction_method     none
_refine_ls_goodness_of_fit_all   1.80
_refine_ls_number_parameters     77
_refine_ls_structure_factor_coef rietveld
_reflns_number_observed          1360
_cod_data_source_file            os0074.cif
_cod_data_source_block           a150
_cod_original_cell_volume        1272.26(6)
_cod_original_formula_sum        'D2 O2 Ba1'
_cod_database_code               2103762
loop_
_symmetry_equiv_pos_as_xyz
+x,+y,+z
-x+1/2,+y+1/2,+z+1/2
+x,-y+1/2,+z
-x+1/2,-y,+z+1/2
-x,-y,-z
+x+1/2,-y+1/2,-z+1/2
-x,+y+1/2,-z
+x+1/2,+y,-z+1/2
loop_
_atom_site_label
_atom_site_fract_x
_atom_site_fract_y
_atom_site_fract_z
_atom_site_U_iso_or_equiv
_atom_site_thermal_displace_type
_atom_site_occupancy
Ba1 .3187(6) .25 .4353(9) .002 Uiso 1.0
Ba2 .4771(4) .3764(3) .9167(6) .00562 Uiso 1.0
Ba3 .3324(4) .4890(3) .4305(7) .00134 Uiso 1.0
O1 .0762(6) .25 .3738(9) .00914 Uiso 1.0
O2 .3216(7) .25 .8151(11) .02342 Uiso 1.0
O3 .4992(4) .3650(3) .5213(7) .01015 Uiso 1.0
O4 .2872(4) .3788(3) .1619(7) .00865 Uiso 1.0
O5 .2188(5) .3942(3) .6573(7) .00788 Uiso 1.0
O6 .0562(5) .4759(3) .2922(7) .0116 Uiso 1.0
D1 .0551(13) .25 .2589(18) .09487 Uiso 1.0
D2 .2808(8) .25 .9393(14) .05533 Uiso 1.0
D3 .5663(6) .3333(4) .5155(10) .05763 Uiso 1.0
D4 .2129(6) .3616(5) .1566(10) .0663 Uiso 1.0
D5 .2379(4) .3469(3) .7417(7) .02435 Uiso 1.0
D6 .0579(6) .4279(3) .2274(8) .04106 Uiso 1.0
loop_
_atom_type_symbol
_atom_type_description
_atom_type_scat_source
Ba Ba 'Koster & Yelon (1982), Neutron Diffraction Newsletter'
O O 'Koster & Yelon (1982), Neutron Diffraction Newsletter'
D D 'Koster & Yelon (1982), Neutron Diffraction Newsletter'
