#------------------------------------------------------------------------------
#$Date: 2016-02-20 01:53:41 +0100 (Sat 20 de Feb de 2016) $
#$Revision: 176768 $
#$URL: svn://www.crystallography.net/cod/cif/2/10/59/2105900.cif $
#------------------------------------------------------------------------------
#
# This file is available in the Crystallography Open Database (COD),
# http://www.crystallography.net/. The original data for this entry
# were provided by IUCr Journals, http://journals.iucr.org/.
#
# The file may be used within the scientific community so long as
# proper attribution is given to the journal article from which the
# data were obtained.
#
data_2105900
loop_
_publ_author_name
'Allan, David R.'
'Bailey, Daniel'
'Bird, Nigel'
'Blake, Alexander J.'
'Champness, Neil R.'
'Huang, Deguang'
'Keane, Conal P.'
'McMaster, Jonathan'
'Prior, Timothy J.'
'Tidey, Jeremiah P.'
'Schröder, Martin'
_publ_section_title
;
 High-pressure studies of palladium and platinum thioether macrocyclic
 dihalide complexes
;
_journal_coeditor_code           XK5015
_journal_issue                   3
_journal_name_full               'Acta Crystallographica Section B'
_journal_page_first              469
_journal_page_last               486
_journal_paper_doi               10.1107/S2052520614008786
_journal_volume                  70
_journal_year                    2014
_chemical_formula_moiety         'C6 H12 Br2 Pd S3'
_chemical_formula_sum            'C6 H12 Br2 Pd S3'
_chemical_formula_weight         446.56
_chemical_name_systematic
;
 ?
;
_space_group_IT_number           19
_symmetry_cell_setting           orthorhombic
_symmetry_space_group_name_Hall  'P 2ac 2ab'
_symmetry_space_group_name_H-M   'P 21 21 21'
_atom_sites_solution_hydrogens   geom
_atom_sites_solution_primary     isomor
_audit_creation_method           SHELXL97
_cell_angle_alpha                90.00
_cell_angle_beta                 90.00
_cell_angle_gamma                90.00
_cell_formula_units_Z            4
_cell_length_a                   7.0751(19)
_cell_length_b                   11.356(2)
_cell_length_c                   11.80(5)
_cell_measurement_pressure       6470000
_cell_measurement_reflns_used    2657
_cell_measurement_temperature    296(2)
_cell_measurement_theta_max      29.6378
_cell_measurement_theta_min      1.7381
_cell_volume                     948(4)
_computing_cell_refinement
;CrysAlisPro, Oxford Diffraction Ltd.,
Version 1.171.34.9 (release 08-12-2009 CrysAlis171 .NET)
(compiled Dec  8 2009,17:31:18)
;
_computing_data_collection       'CrystalClear (Rigaku, 2008)'
_computing_data_reduction
;
CrysAlisPro, Oxford Diffraction Ltd.,
Version 1.171.34.9 (release 08-12-2009 CrysAlis171 .NET)
(compiled Dec  8 2009,17:31:18)
;
_computing_publication_material
'enCIFer (Allen et al., 2004); PLATON (Spek, 2009)'
_computing_structure_refinement  'SHELXL97 (Sheldrick, 2008)'
_computing_structure_solution    'SHELXS97 (Sheldrick, 2008)'
_diffrn_ambient_temperature      296(2)
_diffrn_detector_area_resol_mean 28.5714
_diffrn_measured_fraction_theta_full 0.299
_diffrn_measured_fraction_theta_max 0.260
_diffrn_measurement_device_type
'Rigaku 724 CCD area detector on Crystal Logic 4-circle kappa goniometer'
_diffrn_measurement_method       omega
_diffrn_radiation_monochromator  'silicon double crystal'
_diffrn_radiation_source         'Diamond Light Source Beamline I19'
_diffrn_radiation_type           synchrotron
_diffrn_radiation_wavelength     0.6889
_diffrn_reflns_av_R_equivalents  0.089
_diffrn_reflns_av_sigmaI/netI    0.073
_diffrn_reflns_limit_h_max       9
_diffrn_reflns_limit_h_min       -8
_diffrn_reflns_limit_k_max       14
_diffrn_reflns_limit_k_min       -16
_diffrn_reflns_limit_l_max       3
_diffrn_reflns_limit_l_min       -3
_diffrn_reflns_number            3373
_diffrn_reflns_theta_full        27.50
_diffrn_reflns_theta_max         29.64
_diffrn_reflns_theta_min         3.29
_exptl_absorpt_coefficient_mu    10.987
_exptl_absorpt_correction_T_max  1.00000
_exptl_absorpt_correction_T_min  0.64312
_exptl_absorpt_correction_type   multi-scan
_exptl_absorpt_process_details
;
CrysAlisPro, Oxford Diffraction Ltd.,
Version 1.171.34.9 (release 08-12-2009 CrysAlis171 .NET)
(compiled Dec  8 2009,17:31:18)
Empirical absorption correction using spherical harmonics,
 implemented in SCALE3 ABSPACK scaling algorithm.
;
_exptl_crystal_colour            Brown
_exptl_crystal_density_diffrn    3.130
_exptl_crystal_description       Block
_exptl_crystal_F_000             848
_exptl_crystal_size_max          0.14
_exptl_crystal_size_mid          0.09
_exptl_crystal_size_min          0.07
_refine_diff_density_max         1.30
_refine_diff_density_min         -1.44
_refine_ls_abs_structure_details 'Flack H D (1983), Acta Cryst. A39, 876-881'
_refine_ls_abs_structure_Flack   0.00(4)
_refine_ls_extinction_method     none
_refine_ls_goodness_of_fit_ref   1.09
_refine_ls_hydrogen_treatment    constr
_refine_ls_matrix_type           full
_refine_ls_number_parameters     49
_refine_ls_number_reflns         691
_refine_ls_number_restraints     18
_refine_ls_restrained_S_all      1.08
_refine_ls_R_factor_all          0.0556
_refine_ls_R_factor_gt           0.0507
_refine_ls_shift/su_max          0.000
_refine_ls_shift/su_mean         0.000
_refine_ls_structure_factor_coef Fsqd
_refine_ls_weighting_details
'calc w=1/[σ²(Fo²)+(0.072P)²+5.025P] where P=(Fo²+2Fc²)/3'
_refine_ls_weighting_scheme      calc
_refine_ls_wR_factor_gt          0.122
_refine_ls_wR_factor_ref         0.130
_reflns_number_gt                652
_reflns_number_total             691
_reflns_threshold_expression     >2sigma(I)
_cod_data_source_file            xk5015sup1.cif
_cod_data_source_block           cmpd_3_64.7_kbar
_cod_database_code               2105900
_cod_database_fobs_code          2105900
loop_
_symmetry_equiv_pos_as_xyz
'x, y, z'
'-x+1/2, -y, z+1/2'
'-x, y+1/2, -z+1/2'
'x+1/2, -y+1/2, -z'
loop_
_atom_site_type_symbol
_atom_site_label
_atom_site_fract_x
_atom_site_fract_y
_atom_site_fract_z
_atom_site_U_iso_or_equiv
_atom_site_adp_type
_atom_site_calc_flag
_atom_site_refinement_flags
_atom_site_occupancy
_atom_site_symmetry_multiplicity
Pd Pd1 0.90938(15) 0.12492(9) 0.6152(4) 0.0141(4) Uiso d U 1 1
Br Br1 0.7425(2) 0.24997(13) 0.7498(5) 0.0256(5) Uiso d U 1 1
Br Br2 1.1667(2) 0.06865(12) 0.7433(5) 0.0215(5) Uiso d U 1 1
S S1 0.6932(5) -0.0984(3) 0.6087(14) 0.0210(9) Uiso d DU 1 1
C C2 0.535(2) -0.0442(10) 0.498(2) 0.0191(16) Uiso d DU 1 1
H H2A 0.5909 -0.0611 0.4250 0.023 Uiso calc R 1 1
H H2B 0.4166 -0.0864 0.5032 0.023 Uiso calc R 1 1
C C3 0.4962(16) 0.0866(8) 0.506(4) 0.0166(16) Uiso d DU 1 1
H H3B 0.4379 0.1017 0.5792 0.020 Uiso calc R 1 1
H H3A 0.4035 0.1060 0.4486 0.020 Uiso calc R 1 1
S S4 0.6927(5) 0.1873(3) 0.4906(12) 0.0148(8) Uiso d DU 1 1
C C5 0.784(2) 0.1479(10) 0.3516(16) 0.0169(16) Uiso d DU 1 1
H H5A 0.6783 0.1365 0.3004 0.020 Uiso calc R 1 1
H H5B 0.8585 0.2131 0.3228 0.020 Uiso calc R 1 1
C C6 0.906(2) 0.0372(10) 0.3504(18) 0.0176(16) Uiso d DU 1 1
H H6A 0.9805 0.0353 0.2815 0.021 Uiso calc R 1 1
H H6B 0.8250 -0.0319 0.3511 0.021 Uiso calc R 1 1
S S7 1.0618(5) 0.0340(3) 0.4729(12) 0.0159(8) Uiso d DU 1 1
C C8 1.0601(17) -0.1212(9) 0.506(4) 0.0168(16) Uiso d DU 1 1
H H8B 1.1185 -0.1627 0.4435 0.020 Uiso calc R 1 1
H H8A 1.1404 -0.1330 0.5720 0.020 Uiso calc R 1 1
C C9 0.8717(19) -0.1797(11) 0.530(3) 0.0187(16) Uiso d DU 1 1
H H9B 0.8969 -0.2519 0.5716 0.022 Uiso calc R 1 1
H H9A 0.8168 -0.2021 0.4581 0.022 Uiso calc R 1 1
loop_
_atom_type_symbol
_atom_type_description
_atom_type_scat_dispersion_real
_atom_type_scat_dispersion_imag
_atom_type_scat_source
C C 0.0033 0.0016 'International Tables Vol C Tables 4.2.6.8 and 6.1.1.4'
H H 0.0000 0.0000 'International Tables Vol C Tables 4.2.6.8 and 6.1.1.4'
S S 0.1246 0.1234 'International Tables Vol C Tables 4.2.6.8 and 6.1.1.4'
Br Br -0.2901 2.4595 'International Tables Vol C Tables 4.2.6.8 and 6.1.1.4'
Pd Pd -0.9988 1.0072 'International Tables Vol C Tables 4.2.6.8 and 6.1.1.4'
loop_
_geom_angle_atom_site_label_1
_geom_angle_atom_site_label_2
_geom_angle_atom_site_label_3
_geom_angle_site_symmetry_3
_geom_angle
S4 Pd1 S7 . 89.1(5)
S4 Pd1 Br1 . 84.9(4)
S7 Pd1 Br1 . 171.0(3)
S4 Pd1 Br2 . 174.8(2)
S7 Pd1 Br2 . 89.1(4)
Br1 Pd1 Br2 . 96.3(3)
S4 Pd1 S1 . 84.3(2)
S7 Pd1 S1 . 80.5(3)
Br1 Pd1 S1 . 105.4(2)
Br2 Pd1 S1 . 100.2(2)
S4 Pd1 S4 4_556 87.80(16)
S7 Pd1 S4 4_556 73.3(2)
Br1 Pd1 S4 4_556 99.83(19)
Br2 Pd1 S4 4_556 87.0(2)
S1 Pd1 S4 4_556 152.7(4)
C9 S1 C2 . 103.5(12)
C9 S1 Pd1 . 95.1(5)
C2 S1 Pd1 . 92.6(5)
C3 C2 S1 . 113.6(18)
C3 C2 H2A . 108.8
S1 C2 H2A . 108.8
C3 C2 H2B . 108.8
S1 C2 H2B . 108.8
H2A C2 H2B . 107.7
C2 C3 S4 . 118.2(10)
C2 C3 H3B . 107.8
S4 C3 H3B . 107.8
C2 C3 H3A . 107.8
S4 C3 H3A . 107.8
H3B C3 H3A . 107.1
C3 S4 C5 . 102.0(15)
C3 S4 Pd1 . 105.0(13)
C5 S4 Pd1 . 105.7(6)
C6 C5 S4 . 114.4(13)
C6 C5 H5A . 108.7
S4 C5 H5A . 108.7
C6 C5 H5B . 108.7
S4 C5 H5B . 108.7
H5A C5 H5B . 107.6
C5 C6 S7 . 110.6(12)
C5 C6 H6A . 109.5
S7 C6 H6A . 109.5
C5 C6 H6B . 109.5
S7 C6 H6B . 109.5
H6A C6 H6B . 108.1
C8 S7 C6 . 100.9(13)
C8 S7 Pd1 . 106.4(13)
C6 S7 Pd1 . 107.0(6)
C9 C8 S7 . 118.3(10)
C9 C8 H8B . 107.7
S7 C8 H8B . 107.7
C9 C8 H8A . 107.7
S7 C8 H8A . 107.7
H8B C8 H8A . 107.1
C8 C9 S1 . 118.9(14)
C8 C9 H9B . 107.6
S1 C9 H9B . 107.6
C8 C9 H9A . 107.6
S1 C9 H9A . 107.6
H9B C9 H9A . 107.0
loop_
_geom_bond_atom_site_label_1
_geom_bond_atom_site_label_2
_geom_bond_site_symmetry_2
_geom_bond_distance
Pd1 S4 . 2.239(11)
Pd1 S7 . 2.247(13)
Pd1 Br1 . 2.435(7)
Pd1 Br2 . 2.450(6)
Pd1 S1 . 2.962(4)
Pd1 S4 4_556 3.182(7)
S1 C9 . 1.818(10)
S1 C2 . 1.821(11)
C2 C3 . 1.513(9)
C2 H2A . 0.9700
C2 H2B . 0.9700
C3 S4 . 1.810(9)
C3 H3B . 0.9700
C3 H3A . 0.9700
S4 C5 . 1.819(12)
C5 C6 . 1.524(9)
C5 H5A . 0.9700
C5 H5B . 0.9700
C6 S7 . 1.819(11)
C6 H6A . 0.9700
C6 H6B . 0.9700
S7 C8 . 1.806(9)
C8 C9 . 1.516(9)
C8 H8B . 0.9700
C8 H8A . 0.9700
C9 H9B . 0.9700
C9 H9A . 0.9700
loop_
_geom_torsion_atom_site_label_1
_geom_torsion_atom_site_label_2
_geom_torsion_atom_site_label_3
_geom_torsion_atom_site_label_4
_geom_torsion
C9 S1 C2 C3 -129.2(17)
S1 C2 C3 S4 62(4)
C2 C3 S4 C5 58(3)
C3 S4 C5 C6 -78.8(13)
S4 C5 C6 S7 -41.3(14)
C5 C6 S7 C8 142.9(14)
C6 S7 C8 C9 -57(3)
S7 C8 C9 S1 -38(4)
C2 S1 C9 C8 100(2)
