#------------------------------------------------------------------------------
#$Date: 2018-09-27 06:13:35 +0200 (jue 27 de sep de 2018) $
#$Revision: 211196 $
#$URL: svn://www.crystallography.net/cod/cif/2/31/10/2311054.cif $
#------------------------------------------------------------------------------
#
# This file is available in the Crystallography Open Database (COD),
# http://www.crystallography.net/. The original data for this entry
# were provided by IUCr Journals, http://journals.iucr.org/.
#
# The file may be used within the scientific community so long as
# proper attribution is given to the journal article from which the
# data were obtained.
#
data_2311054
loop_
_publ_author_name
'Moriarty, J.L.'
'Humphreys, J.E.'
'Gordon, R.O.'
'Baenziger, N.C.'
_publ_section_title
;
 X-ray examination of some rare-earth-containing binary alloy systems
;
_journal_name_full               'Acta Crystallographica (1,1948-23,1967)'
_journal_page_first              840
_journal_page_last               841
_journal_volume                  21
_journal_year                    1966
_chemical_formula_sum            'Tl3 Tm'
_space_group_IT_number           221
_symmetry_space_group_name_Hall  '-P 4 2 3'
_symmetry_space_group_name_H-M   'P m -3 m'
_cell_angle_alpha                90
_cell_angle_beta                 90
_cell_angle_gamma                90
_cell_formula_units_Z            1
_cell_length_a                   4.6554
_cell_length_b                   4.6554
_cell_length_c                   4.6554
_cell_volume                     100.895
_citation_journal_id_ASTM        ACCRA9
_cod_data_source_file            Moriarty_ACCRA9_1966_189.cif
_cod_data_source_block           Tl3Tm1
_cod_original_cell_volume        100.8953
_cod_original_formula_sum        'Tl3 Tm1'
_cod_database_code               2311054
loop_
_symmetry_equiv_pos_as_xyz
x,y,z
-y,x,z
-x,-y,z
y,-x,z
x,-y,-z
y,x,-z
-x,y,-z
-y,-x,-z
z,x,y
-x,z,y
-z,-x,y
x,-z,y
z,-x,-y
x,z,-y
-z,x,-y
-x,-z,-y
y,z,x
y,-z,-x
z,y,-x
-y,z,-x
-z,-y,-x
-y,-z,x
z,-y,x
-z,y,x
-x,-y,-z
y,-x,-z
x,y,-z
-y,x,-z
-x,y,z
-y,-x,z
x,-y,z
y,x,z
-z,-x,-y
x,-z,-y
z,x,-y
-x,z,-y
-z,x,y
-x,-z,y
z,-x,y
x,z,y
-y,-z,-x
-y,z,x
-z,-y,x
y,-z,x
z,y,x
y,z,-x
-z,y,-x
z,-y,-x
loop_
_atom_site_label
_atom_site_type_symbol
_atom_site_fract_x
_atom_site_fract_y
_atom_site_fract_z
_atom_site_occupancy
_atom_site_U_iso_or_equiv
Tl1 Tl 0 0.5 0.5 1 0.0
Tm1 Tm 0 0 0 1 0.0
