#------------------------------------------------------------------------------
#$Date: 2023-04-11 18:23:53 +0200 (Tue 11 de Apr de 2023) $
#$Revision: 282587 $
#$URL: svn://www.crystallography.net/cod/cif/3/00/03/3000382.cif $
#------------------------------------------------------------------------------
#
# This file is available in the Crystallography Open Database (COD),
# http://www.crystallography.net/
#
# All data on this site have been placed in the public domain by the
# contributors.
#
data_3000382
loop_
_publ_author_name
'Wilson, Catrina E.'
'Gibson, Amanda E.'
'Cuillier, Paul M.'
'Li, Cheng-Han'
'Crosby, Patrice H.N.'
'Trigg, Edward B.'
'Najmr, Stan'
'Murray, Christopher B.'
'Jinschek, Joerg R.'
'Doan-Nguyen, Vicky'
_publ_section_title
;
 Local structure elucidation of tungsten- substituted vanadium dioxide
 (V1-xWxO2)
;
_journal_name_full               'Scientific Reports'
_journal_page_first              14767
_journal_volume                  12
_journal_year                    2022
_chemical_formula_sum            'Cr0.005 O2 V0.995'
_chemical_formula_weight         82.95
_space_group_IT_number           14
_space_group_name_Hall           '-P 2ybc'
_space_group_name_H-M_alt        'P 1 21/c 1'
_symmetry_cell_setting           monoclinic
_symmetry_space_group_name_H-M   'P 1 21/c 1'
_cell_angle_alpha                90
_cell_angle_beta                 122.5878
_cell_angle_gamma                90
_cell_formula_units_Z            4
_cell_length_a                   5.753169
_cell_length_b                   4.526911
_cell_length_c                   5.381891
_cell_volume                     118.100
_exptl_crystal_density_diffrn    4.6650
_pd_phase_name                   P21/c
_journal_article_reference       https://doi.org/10.1038/s41598-022-18575-0
_cod_data_source_file            Cr0p005V0p995O2_MW_AG82_P21overc_01_6p418.cif
_cod_data_source_block           P21/c
_cod_depositor_comments
'Releasing structure 3000382 into public domain as published material.'
_cod_original_cell_volume        118.1
_cod_original_sg_symbol_H-M      'P 21/c'
_cod_database_code               3000382
loop_
_space_group_symop_id
_space_group_symop_operation_xyz
1 x,y,z
2 -x,1/2+y,1/2-z
3 -x,-y,-z
4 x,1/2-y,1/2+z
loop_
_atom_site_label
_atom_site_type_symbol
_atom_site_fract_x
_atom_site_fract_y
_atom_site_fract_z
_atom_site_occupancy
_atom_site_adp_type
_atom_site_U_iso_or_equiv
_atom_site_symmetry_multiplicity
V1 V 0.23947 0.97894 0.02646 0.995 Uiso 0.004 4
O1 O 0.10620 0.21190 0.20860 1.000 Uiso 0.005 4
O2 O 0.40050 0.70260 0.29880 1.000 Uiso 0.006 4
Cr1 Cr 0.23947 0.97894 0.02646 0.005 Uiso 0.004 4
loop_
_atom_type_symbol
_atom_type_number_in_cell
Cr 0.02
O 8
V 3.98
