#------------------------------------------------------------------------------
#$Date: 2020-01-24 14:31:19 +0100 (vie 24 de ene de 2020) $
#$Revision: 247189 $
#$URL: svn://www.crystallography.net/cod/cif/3/50/00/3500097.cif $
#------------------------------------------------------------------------------
#
# This file is available in the Crystallography Open Database (COD),
# http://www.crystallography.net/
#
# All data on this site have been placed in the public domain by the
# contributors.
#
data_3500097
loop_
_publ_author_name
'Thierry Maris'
_publ_section_references
;
Dolomanov, O.V., Bourhis, L.J., Gildea, R.J, Howard, J.A.K. & Puschmann, H.
 (2009), J. Appl. Cryst. 42, 339-341.

Sheldrick, G.M. (2015). Acta Cryst. C71, 3-8.

Sheldrick, G.M. (2015). Acta Cryst. A71, 3-8.
;
_publ_section_title
;
 Ethyl p-hydroxybenzoate
;
_journal_name_full               'Personal communication to COD'
_journal_year                    2020
_chemical_formula_moiety         'C9 H10 O3'
_chemical_formula_sum            'C9 H10 O3'
_chemical_formula_weight         166.17
_chemical_name_common            'Ethyl p-hydroxybenzoate'
_chemical_name_systematic        'Benzoic acid, 4-hydroxy-, ethyl ester'
_space_group_crystal_system      monoclinic
_space_group_IT_number           14
_space_group_name_Hall           '-P 2ybc'
_space_group_name_H-M_alt        'P 1 21/c 1'
_atom_sites_solution_hydrogens   mixed
_atom_sites_solution_primary     dual
_audit_creation_date             2018-10-17
_audit_creation_method
;
Olex2 1.2
(compiled 2018.05.29 svn.r3508 for OlexSys, GUI svn.r5506)
;
_cell_angle_alpha                90
_cell_angle_beta                 109.0980(10)
_cell_angle_gamma                90
_cell_formula_units_Z            8
_cell_length_a                   11.6577(4)
_cell_length_b                   13.1592(4)
_cell_length_c                   11.5340(4)
_cell_measurement_reflns_used    9974
_cell_measurement_temperature    150
_cell_measurement_theta_max      60.636
_cell_measurement_theta_min      3.491
_cell_volume                     1672.00(10)
_computing_cell_refinement
;
SAINT (2013) V8.37A; Integration Software for Single Crystal Data. 
Bruker AXS Inc., Madison, WI 53719-1173.'
;
_computing_data_collection
;
APEX 2 (2013) Bruker AXS Inc., Madison, WI 53719-1173.
;
_computing_data_reduction
;
SAINT (2013) V8.37A; Integration Software for Single Crystal Data. 
Bruker AXS Inc., Madison, WI 53719-1173.'
;
_computing_molecular_graphics    'Olex2 (Dolomanov et al., 2009)'
_computing_publication_material  'Olex2 (Dolomanov et al., 2009)'
_computing_structure_refinement  'XL (Sheldrick, 2008)'
_computing_structure_solution    'XT (Sheldrick, 2015)'
_diffrn_ambient_temperature      150
_diffrn_detector                 'CMOS Area detector'
_diffrn_detector_area_resol_mean 10.24
_diffrn_detector_type            'Bruker Photon 100 CMOS Detector'
_diffrn_measured_fraction_theta_full 1.000
_diffrn_measured_fraction_theta_max 1.000
_diffrn_measurement_device       'k-geometry diffractometer'
_diffrn_measurement_device_type  'Bruker Venture Metaljet'
_diffrn_measurement_method       'ω and φ scans'
_diffrn_radiation_collimation    'Focusing mirrors'
_diffrn_radiation_monochromator  'Helios MX Mirror Optics'
_diffrn_radiation_probe          x-ray
_diffrn_radiation_type           GaK\a
_diffrn_radiation_wavelength     1.34139
_diffrn_reflns_av_R_equivalents  0.0363
_diffrn_reflns_av_unetI/netI     0.0283
_diffrn_reflns_Laue_measured_fraction_full 1.000
_diffrn_reflns_Laue_measured_fraction_max 1.000
_diffrn_reflns_limit_h_max       15
_diffrn_reflns_limit_h_min       -14
_diffrn_reflns_limit_k_max       17
_diffrn_reflns_limit_k_min       -16
_diffrn_reflns_limit_l_max       14
_diffrn_reflns_limit_l_min       -14
_diffrn_reflns_number            16940
_diffrn_reflns_point_group_measured_fraction_full 1.000
_diffrn_reflns_point_group_measured_fraction_max 1.000
_diffrn_reflns_theta_full        53.594
_diffrn_reflns_theta_max         60.605
_diffrn_reflns_theta_min         3.491
_diffrn_source                   'Metal Jet'
_diffrn_source_target            Ga
_diffrn_source_type              'Gallium Liquid Metal Jet Source'
_exptl_absorpt_coefficient_mu    0.527
_exptl_absorpt_correction_T_max  0.7519
_exptl_absorpt_correction_T_min  0.6580
_exptl_absorpt_correction_type   multi-scan
_exptl_absorpt_process_details
;
SADABS-2016/2 (Bruker,2016/2) was used for absorption correction. 
wR2(int) was 0.1196 before and 0.0463 after correction. 
The Ratio of minimum to maximum transmission is 0.8751. 
The λ/2 correction factor is Not present.'
;
_exptl_crystal_colour            'clear light colourless'
_exptl_crystal_colour_lustre     clear
_exptl_crystal_colour_modifier   light
_exptl_crystal_colour_primary    colourless
_exptl_crystal_density_diffrn    1.320
_exptl_crystal_description       Block
_exptl_crystal_F_000             704
_exptl_crystal_size_max          0.168
_exptl_crystal_size_mid          0.15
_exptl_crystal_size_min          0.11
_exptl_special_details
;
X-ray crystallographic data for I were collected from a single crystal
sample, which was mounted on a loop fiber. Data were collected using
a Bruker Venture diffractometer equipped with a Photon 100 CMOS Detector,
a Helios MX optics and a Kappa goniometer. The crystal-to-detector distance 
was 4.0 cm, and the data collection was carried out in 1024 x 1024 pixel mode.
;
_geom_special_details
;
 All esds (except the esd in the dihedral angle between two l.s. planes)
 are estimated using the full covariance matrix.  The cell esds are taken
 into account individually in the estimation of esds in distances, angles
 and torsion angles; correlations between esds in cell parameters are only
 used when they are defined by crystal symmetry.  An approximate (isotropic)
 treatment of cell esds is used for estimating esds involving l.s. planes.
;
_refine_diff_density_max         0.339
_refine_diff_density_min         -0.240
_refine_diff_density_rms         0.057
_refine_ls_extinction_coef       0.0059(7)
_refine_ls_extinction_expression Fc^*^=kFc[1+0.001xFc²λ³/sin(2θ)]^-1/4^
_refine_ls_extinction_method     'SHELXL-2014/7 (Sheldrick 2014'
_refine_ls_goodness_of_fit_ref   1.052
_refine_ls_hydrogen_treatment    mixed
_refine_ls_matrix_type           full
_refine_ls_number_parameters     228
_refine_ls_number_reflns         3835
_refine_ls_number_restraints     0
_refine_ls_restrained_S_all      1.052
_refine_ls_R_factor_all          0.0413
_refine_ls_R_factor_gt           0.0375
_refine_ls_shift/su_max          0.001
_refine_ls_shift/su_mean         0.000
_refine_ls_structure_factor_coef Fsqd
_refine_ls_weighting_details
'w=1/[σ²(Fo²)+(0.0644P)²+0.2960P] where P=(Fo²+2Fc²)/3'
_refine_ls_weighting_scheme      calc
_refine_ls_wR_factor_gt          0.1068
_refine_ls_wR_factor_ref         0.1109
_reflns_Friedel_coverage         0.000
_reflns_Friedel_fraction_full    .
_reflns_Friedel_fraction_max     .
_reflns_number_gt                3420
_reflns_number_total             3835
_reflns_special_details
;
 Reflections were merged by SHELXL according to the crystal
 class for the calculation of statistics and refinement.
 
 _reflns_Friedel_fraction is defined as the number of unique
 Friedel pairs measured divided by the number that would be
 possible theoretically, ignoring centric projections and
 systematic absences.
;
_reflns_threshold_expression     'I > 2σ(I)'
_cod_data_source_file            t06063.cif
_cod_data_source_block           t06063
_cod_database_code               3500097
loop_
_space_group_symop_id
_space_group_symop_operation_xyz
1 'x, y, z'
2 '-x, y+1/2, -z+1/2'
3 '-x, -y, -z'
4 'x, -y-1/2, z-1/2'
loop_
_atom_site_label
_atom_site_type_symbol
_atom_site_fract_x
_atom_site_fract_y
_atom_site_fract_z
_atom_site_U_iso_or_equiv
_atom_site_adp_type
_atom_site_occupancy
_atom_site_site_symmetry_order
_atom_site_calc_flag
_atom_site_refinement_flags_posn
_atom_site_refinement_flags_adp
_atom_site_refinement_flags_occupancy
_atom_site_disorder_assembly
_atom_site_disorder_group
O1A O 0.94040(8) 0.89184(6) 0.28737(8) 0.0375(2) Uani 1 1 d . . . . .
H1A H 0.9849(16) 0.8953(13) 0.2385(17) 0.061(5) Uiso 1 1 d . . . . .
O2A O 0.90124(6) 0.41015(5) 0.33628(6) 0.03038(18) Uani 1 1 d . . . . .
O3A O 0.80540(6) 0.47062(5) 0.46096(6) 0.02705(17) Uani 1 1 d . . . . .
C1A C 0.92405(9) 0.79259(7) 0.30797(9) 0.0270(2) Uani 1 1 d . . . . .
C2A C 0.87200(9) 0.76910(8) 0.39783(9) 0.0301(2) Uani 1 1 d . . . . .
H2A H 0.8493 0.8220 0.4420 0.036 Uiso 1 1 calc R . . . .
C3A C 0.85351(9) 0.66883(7) 0.42235(9) 0.0270(2) Uani 1 1 d . . . . .
H3A H 0.8184 0.6532 0.4838 0.032 Uiso 1 1 calc R . . . .
C4A C 0.88584(8) 0.59018(7) 0.35767(8) 0.02324(19) Uani 1 1 d . . . . .
C5A C 0.93788(8) 0.61449(7) 0.26771(8) 0.0254(2) Uani 1 1 d . . . . .
H5A H 0.9602 0.5616 0.2232 0.031 Uiso 1 1 calc R . . . .
C6A C 0.95711(9) 0.71482(7) 0.24296(9) 0.0271(2) Uani 1 1 d . . . . .
H6A H 0.9927 0.7307 0.1819 0.032 Uiso 1 1 calc R . . . .
C7A C 0.86604(8) 0.48248(7) 0.38200(8) 0.02352(19) Uani 1 1 d . . . . .
C8A C 0.78273(9) 0.36634(7) 0.48955(9) 0.0287(2) Uani 1 1 d . . . . .
H8AA H 0.8594 0.3270 0.5155 0.034 Uiso 1 1 calc R . . . .
H8AB H 0.7252 0.3330 0.4167 0.034 Uiso 1 1 calc R . . . .
C9A C 0.72968(11) 0.37142(9) 0.59209(11) 0.0382(3) Uani 1 1 d . . . . .
H9AA H 0.6527 0.4086 0.5643 0.057 Uiso 1 1 calc GR . . . .
H9AB H 0.7864 0.4066 0.6626 0.057 Uiso 1 1 calc GR . . . .
H9AC H 0.7154 0.3024 0.6162 0.057 Uiso 1 1 calc GR . . . .
O1B O 0.52059(8) 0.95862(6) 0.17390(8) 0.0405(2) Uani 1 1 d . . . . .
H1B H 0.4844(16) 0.9622(13) 0.2291(17) 0.063(5) Uiso 1 1 d . . . . .
O2B O 0.60276(7) 0.47930(6) 0.16666(7) 0.0360(2) Uani 1 1 d . . . . .
O3B O 0.69564(6) 0.53747(5) 0.03876(6) 0.02775(17) Uani 1 1 d . . . . .
C1B C 0.54808(9) 0.85992(7) 0.16342(9) 0.0289(2) Uani 1 1 d . . . . .
C2B C 0.52008(9) 0.78373(8) 0.23334(9) 0.0284(2) Uani 1 1 d . . . . .
H2B H 0.4817 0.8003 0.2919 0.034 Uiso 1 1 calc R . . . .
C3B C 0.54829(9) 0.68378(8) 0.21735(9) 0.0281(2) Uani 1 1 d . . . . .
H3B H 0.5289 0.6319 0.2651 0.034 Uiso 1 1 calc R . . . .
C4B C 0.60506(8) 0.65823(7) 0.13155(8) 0.0235(2) Uani 1 1 d . . . . .
C5B C 0.63321(9) 0.73555(7) 0.06263(9) 0.0283(2) Uani 1 1 d . . . . .
H5B H 0.6722 0.7191 0.0045 0.034 Uiso 1 1 calc R . . . .
C6B C 0.60525(10) 0.83577(8) 0.07773(10) 0.0335(2) Uani 1 1 d . . . . .
H6B H 0.6248 0.8878 0.0302 0.040 Uiso 1 1 calc R . . . .
C7B C 0.63290(8) 0.55070(7) 0.11563(8) 0.0250(2) Uani 1 1 d . . . . .
C8B C 0.72683(9) 0.43264(7) 0.02006(9) 0.0299(2) Uani 1 1 d . . . . .
H8BA H 0.6523 0.3914 -0.0139 0.036 Uiso 1 1 calc R . . . .
H8BB H 0.7769 0.4022 0.0988 0.036 Uiso 1 1 calc R . . . .
C9B C 0.79654(14) 0.43576(9) -0.06820(12) 0.0469(3) Uani 1 1 d . . . . .
H9BA H 0.7471 0.4684 -0.1446 0.070 Uiso 1 1 calc GR . . . .
H9BB H 0.8166 0.3663 -0.0857 0.070 Uiso 1 1 calc GR . . . .
H9BC H 0.8715 0.4746 -0.0322 0.070 Uiso 1 1 calc GR . . . .
loop_
_atom_site_aniso_label
_atom_site_aniso_U_11
_atom_site_aniso_U_22
_atom_site_aniso_U_33
_atom_site_aniso_U_23
_atom_site_aniso_U_13
_atom_site_aniso_U_12
O1A 0.0520(5) 0.0225(4) 0.0512(5) 0.0011(3) 0.0348(4) -0.0016(3)
O2A 0.0388(4) 0.0239(3) 0.0342(4) -0.0018(3) 0.0197(3) 0.0020(3)
O3A 0.0337(4) 0.0219(3) 0.0311(3) -0.0002(3) 0.0182(3) -0.0009(3)
C1A 0.0294(5) 0.0228(4) 0.0323(5) 0.0009(4) 0.0148(4) -0.0010(3)
C2A 0.0361(5) 0.0243(5) 0.0371(5) -0.0027(4) 0.0220(4) -0.0002(4)
C3A 0.0302(4) 0.0259(5) 0.0308(5) -0.0016(4) 0.0180(4) -0.0011(4)
C4A 0.0235(4) 0.0234(4) 0.0239(4) -0.0005(3) 0.0092(3) 0.0007(3)
C5A 0.0284(4) 0.0257(5) 0.0248(4) -0.0011(3) 0.0122(3) 0.0020(3)
C6A 0.0309(5) 0.0278(5) 0.0272(4) 0.0018(4) 0.0158(4) 0.0011(4)
C7A 0.0244(4) 0.0247(4) 0.0222(4) -0.0010(3) 0.0087(3) 0.0007(3)
C8A 0.0336(5) 0.0220(4) 0.0332(5) 0.0011(4) 0.0146(4) -0.0025(4)
C9A 0.0456(6) 0.0336(5) 0.0444(6) 0.0053(5) 0.0271(5) -0.0011(4)
O1B 0.0577(5) 0.0234(4) 0.0568(5) 0.0020(3) 0.0411(4) 0.0046(3)
O2B 0.0470(4) 0.0251(4) 0.0466(4) 0.0008(3) 0.0301(4) -0.0016(3)
O3B 0.0353(4) 0.0233(3) 0.0299(3) -0.0023(3) 0.0178(3) 0.0012(3)
C1B 0.0327(5) 0.0239(5) 0.0350(5) -0.0002(4) 0.0177(4) 0.0021(4)
C2B 0.0325(5) 0.0286(5) 0.0297(5) -0.0007(4) 0.0179(4) 0.0015(4)
C3B 0.0340(5) 0.0264(5) 0.0281(4) 0.0015(4) 0.0161(4) -0.0001(4)
C4B 0.0238(4) 0.0246(4) 0.0235(4) -0.0010(3) 0.0096(3) -0.0003(3)
C5B 0.0322(5) 0.0282(5) 0.0311(4) 0.0010(4) 0.0192(4) 0.0017(4)
C6B 0.0424(6) 0.0269(5) 0.0412(5) 0.0050(4) 0.0273(5) 0.0028(4)
C7B 0.0256(4) 0.0260(5) 0.0249(4) -0.0015(3) 0.0102(3) -0.0020(3)
C8B 0.0359(5) 0.0230(5) 0.0333(5) -0.0045(4) 0.0148(4) 0.0004(4)
C9B 0.0717(8) 0.0346(6) 0.0498(7) 0.0015(5) 0.0407(6) 0.0126(6)
loop_
_atom_type_symbol
_atom_type_description
_atom_type_scat_dispersion_real
_atom_type_scat_dispersion_imag
_atom_type_scat_source
C C 0.0137 0.0067 'International Tables Vol C Tables 4.2.6.8 and 6.1.1.4'
H H 0.0000 0.0000 'International Tables Vol C Tables 4.2.6.8 and 6.1.1.4'
O O 0.0387 0.0241 'International Tables Vol C Tables 4.2.6.8 and 6.1.1.4'
loop_
_geom_angle_atom_site_label_1
_geom_angle_atom_site_label_2
_geom_angle_atom_site_label_3
_geom_angle
_geom_angle_site_symmetry_1
_geom_angle_site_symmetry_3
C1A O1A H1A 107.9(11) . .
C7A O3A C8A 116.20(7) . .
O1A C1A C2A 117.70(9) . .
O1A C1A C6A 122.30(9) . .
C6A C1A C2A 120.00(9) . .
C1A C2A H2A 120.1 . .
C3A C2A C1A 119.90(9) . .
C3A C2A H2A 120.1 . .
C2A C3A H3A 119.6 . .
C2A C3A C4A 120.71(8) . .
C4A C3A H3A 119.6 . .
C3A C4A C5A 118.97(8) . .
C3A C4A C7A 121.52(8) . .
C5A C4A C7A 119.51(8) . .
C4A C5A H5A 119.7 . .
C6A C5A C4A 120.63(8) . .
C6A C5A H5A 119.7 . .
C1A C6A H6A 120.1 . .
C5A C6A C1A 119.79(8) . .
C5A C6A H6A 120.1 . .
O2A C7A O3A 122.14(9) . .
O2A C7A C4A 124.72(8) . .
O3A C7A C4A 113.14(8) . .
O3A C8A H8AA 110.4 . .
O3A C8A H8AB 110.4 . .
O3A C8A C9A 106.73(8) . .
H8AA C8A H8AB 108.6 . .
C9A C8A H8AA 110.4 . .
C9A C8A H8AB 110.4 . .
C8A C9A H9AA 109.5 . .
C8A C9A H9AB 109.5 . .
C8A C9A H9AC 109.5 . .
H9AA C9A H9AB 109.5 . .
H9AA C9A H9AC 109.5 . .
H9AB C9A H9AC 109.5 . .
C1B O1B H1B 107.6(11) . .
C7B O3B C8B 116.04(7) . .
O1B C1B C2B 122.20(9) . .
O1B C1B C6B 117.61(9) . .
C2B C1B C6B 120.19(9) . .
C1B C2B H2B 120.1 . .
C3B C2B C1B 119.82(8) . .
C3B C2B H2B 120.1 . .
C2B C3B H3B 119.6 . .
C2B C3B C4B 120.73(9) . .
C4B C3B H3B 119.6 . .
C3B C4B C7B 119.49(8) . .
C5B C4B C3B 118.79(9) . .
C5B C4B C7B 121.73(8) . .
C4B C5B H5B 119.5 . .
C6B C5B C4B 120.98(9) . .
C6B C5B H5B 119.5 . .
C1B C6B H6B 120.2 . .
C5B C6B C1B 119.50(9) . .
C5B C6B H6B 120.2 . .
O2B C7B O3B 121.86(9) . .
O2B C7B C4B 124.63(8) . .
O3B C7B C4B 113.51(8) . .
O3B C8B H8BA 110.3 . .
O3B C8B H8BB 110.3 . .
O3B C8B C9B 106.94(8) . .
H8BA C8B H8BB 108.6 . .
C9B C8B H8BA 110.3 . .
C9B C8B H8BB 110.3 . .
C8B C9B H9BA 109.5 . .
C8B C9B H9BB 109.5 . .
C8B C9B H9BC 109.5 . .
H9BA C9B H9BB 109.5 . .
H9BA C9B H9BC 109.5 . .
H9BB C9B H9BC 109.5 . .
loop_
_geom_bond_atom_site_label_1
_geom_bond_atom_site_label_2
_geom_bond_distance
_geom_bond_site_symmetry_2
O1A H1A 0.883(19) .
O1A C1A 1.3520(12) .
O2A C7A 1.2223(11) .
O3A C7A 1.3322(11) .
O3A C8A 1.4556(11) .
C1A C2A 1.3962(13) .
C1A C6A 1.3954(13) .
C2A H2A 0.9500 .
C2A C3A 1.3811(13) .
C3A H3A 0.9500 .
C3A C4A 1.3978(12) .
C4A C5A 1.3997(12) .
C4A C7A 1.4775(13) .
C5A H5A 0.9500 .
C5A C6A 1.3845(13) .
C6A H6A 0.9500 .
C8A H8AA 0.9900 .
C8A H8AB 0.9900 .
C8A C9A 1.5048(14) .
C9A H9AA 0.9800 .
C9A H9AB 0.9800 .
C9A H9AC 0.9800 .
O1B H1B 0.87(2) .
O1B C1B 1.3526(12) .
O2B C7B 1.2199(12) .
O3B C7B 1.3326(11) .
O3B C8B 1.4605(11) .
C1B C2B 1.3908(13) .
C1B C6B 1.3975(13) .
C2B H2B 0.9500 .
C2B C3B 1.3827(13) .
C3B H3B 0.9500 .
C3B C4B 1.3996(13) .
C4B C5B 1.3949(13) .
C4B C7B 1.4765(13) .
C5B H5B 0.9500 .
C5B C6B 1.3830(14) .
C6B H6B 0.9500 .
C8B H8BA 0.9900 .
C8B H8BB 0.9900 .
C8B C9B 1.4965(15) .
C9B H9BA 0.9800 .
C9B H9BB 0.9800 .
C9B H9BC 0.9800 .
loop_
_geom_hbond_atom_site_label_D
_geom_hbond_atom_site_label_H
_geom_hbond_atom_site_label_A
_geom_hbond_distance_DH
_geom_hbond_distance_HA
_geom_hbond_distance_DA
_geom_hbond_angle_DHA
_geom_hbond_site_symmetry_A
O1A H1A O2A 0.883(19) 1.815(19) 2.6875(10) 169.2(17) 2_755
O1B H1B O2B 0.87(2) 1.82(2) 2.6933(11) 173.8(17) 2_655
loop_
_geom_torsion_atom_site_label_1
_geom_torsion_atom_site_label_2
_geom_torsion_atom_site_label_3
_geom_torsion_atom_site_label_4
_geom_torsion
_geom_torsion_site_symmetry_1
_geom_torsion_site_symmetry_2
_geom_torsion_site_symmetry_3
_geom_torsion_site_symmetry_4
O1A C1A C2A C3A -179.95(9) . . . .
O1A C1A C6A C5A -179.80(9) . . . .
C1A C2A C3A C4A -0.31(15) . . . .
C2A C1A C6A C5A 0.14(15) . . . .
C2A C3A C4A C5A 0.26(14) . . . .
C2A C3A C4A C7A -179.59(9) . . . .
C3A C4A C5A C6A -0.01(14) . . . .
C3A C4A C7A O2A -173.60(9) . . . .
C3A C4A C7A O3A 5.99(13) . . . .
C4A C5A C6A C1A -0.19(14) . . . .
C5A C4A C7A O2A 6.55(14) . . . .
C5A C4A C7A O3A -173.86(8) . . . .
C6A C1A C2A C3A 0.10(15) . . . .
C7A O3A C8A C9A 172.27(8) . . . .
C7A C4A C5A C6A 179.84(8) . . . .
C8A O3A C7A O2A -0.28(13) . . . .
C8A O3A C7A C4A -179.88(7) . . . .
O1B C1B C2B C3B 178.84(9) . . . .
O1B C1B C6B C5B -178.96(10) . . . .
C1B C2B C3B C4B 0.11(15) . . . .
C2B C1B C6B C5B 0.30(16) . . . .
C2B C3B C4B C5B 0.26(14) . . . .
C2B C3B C4B C7B -179.36(9) . . . .
C3B C4B C5B C6B -0.36(15) . . . .
C3B C4B C7B O2B 5.13(15) . . . .
C3B C4B C7B O3B -174.80(8) . . . .
C4B C5B C6B C1B 0.08(16) . . . .
C5B C4B C7B O2B -174.48(9) . . . .
C5B C4B C7B O3B 5.59(13) . . . .
C6B C1B C2B C3B -0.40(15) . . . .
C7B O3B C8B C9B -179.84(9) . . . .
C7B C4B C5B C6B 179.26(9) . . . .
C8B O3B C7B O2B -0.44(13) . . . .
C8B O3B C7B C4B 179.50(7) . . . .

_cod_database_fobs_code 3500097
