#------------------------------------------------------------------------------
#$Date: 2020-05-08 09:43:01 +0200 (vie 08 de may de 2020) $
#$Revision: 251901 $
#$URL: svn://www.crystallography.net/cod/cif/3/50/01/3500101.cif $
#------------------------------------------------------------------------------
#
# This file is available in the Crystallography Open Database (COD),
# http://www.crystallography.net/
#
# All data on this site have been placed in the public domain by the
# contributors.
#
data_3500101
loop_
_publ_author_name
'Thierry Maris'
_publ_section_references
;
Dolomanov, O.V., Bourhis, L.J., Gildea, R.J, Howard, J.A.K. & Puschmann, H.
 (2009), J. Appl. Cryst. 42, 339-341.

Sheldrick, G.M. (2008). Acta Cryst. A64, 112-122.
;
_journal_name_full               'Personal communication to COD'
_journal_year                    2020
_chemical_absolute_configuration ad
_chemical_formula_moiety         'C9 H12 O3'
_chemical_formula_sum            'C9 H12 O3'
_chemical_formula_weight         168.19
_chemical_name_common            1,2,3-trimethoxybenzene
_chemical_name_systematic        1,2,3-trimethoxybenzene
_space_group_crystal_system      orthorhombic
_space_group_IT_number           33
_space_group_name_Hall           'P 2c -2n'
_space_group_name_H-M_alt        'P n a 21'
_atom_sites_solution_hydrogens   geom
_atom_sites_solution_primary     dual
_audit_creation_date             2019-09-06
_audit_creation_method
;
Olex2 1.2
(compiled 2018.05.29 svn.r3508 for OlexSys, GUI svn.r5506)
;
_cell_angle_alpha                90
_cell_angle_beta                 90
_cell_angle_gamma                90
_cell_formula_units_Z            4
_cell_length_a                   12.9744(12)
_cell_length_b                   5.1182(5)
_cell_length_c                   12.7942(13)
_cell_measurement_reflns_used    9918
_cell_measurement_temperature    100
_cell_measurement_theta_max      60.819
_cell_measurement_theta_min      6.659
_cell_volume                     849.61(14)
_computing_cell_refinement
; 
SAINT (2013) V8.34A; Integration Software for Single Crystal Data. 
Bruker AXS Inc., Madison, WI 53719-1173.'
;
_computing_data_collection
;
APEX 2 (2013) Bruker AXS Inc., Madison, WI 53719-1173.
;
_computing_data_reduction
;
SAINT (2013) V8.34A; Integration Software for Single Crystal Data. 
Bruker AXS Inc., Madison, WI 53719-1173.'
;
_computing_molecular_graphics    'Olex2 (Dolomanov et al., 2009)'
_computing_publication_material  'Olex2 (Dolomanov et al., 2009)'
_computing_structure_refinement  'XL (Sheldrick, 2008)'
_computing_structure_solution    'SHELXT 2014/4 (Sheldrick, 2014)'
_diffrn_ambient_temperature      100
_diffrn_detector                 'CMOS Area detector'
_diffrn_detector_area_resol_mean 10.24
_diffrn_detector_type            'Bruker Photon 100 CMOS Detector'
_diffrn_measured_fraction_theta_full 0.996
_diffrn_measured_fraction_theta_max 0.995
_diffrn_measurement_device       'k-geometry diffractometer'
_diffrn_measurement_device_type  'Bruker Venture Metaljet'
_diffrn_measurement_method       'ω and φ scans'
_diffrn_radiation_collimation    'Focusing mirrors'
_diffrn_radiation_monochromator  'Helios MX Mirror Optics'
_diffrn_radiation_probe          x-ray
_diffrn_radiation_type           GaK\a
_diffrn_radiation_wavelength     1.34139
_diffrn_reflns_av_R_equivalents  0.0498
_diffrn_reflns_av_unetI/netI     0.0393
_diffrn_reflns_Laue_measured_fraction_full 0.996
_diffrn_reflns_Laue_measured_fraction_max 0.995
_diffrn_reflns_limit_h_max       16
_diffrn_reflns_limit_h_min       -16
_diffrn_reflns_limit_k_max       6
_diffrn_reflns_limit_k_min       -6
_diffrn_reflns_limit_l_max       16
_diffrn_reflns_limit_l_min       -14
_diffrn_reflns_number            16067
_diffrn_reflns_theta_full        53.594
_diffrn_reflns_theta_max         60.788
_diffrn_reflns_theta_min         6.657
_diffrn_source                   'Metal Jet'
_diffrn_source_target            Ga
_diffrn_source_type              'Gallium Liquid Metal Jet Source'
_exptl_absorpt_coefficient_mu    0.519
_exptl_absorpt_correction_T_max  0.7519
_exptl_absorpt_correction_T_min  0.6029
_exptl_absorpt_correction_type   multi-scan
_exptl_absorpt_process_details
; 
SADABS-2014/5 (Bruker,2014/5) was used for absorption correction. 
wR2(int) was 0.1248 before and 0.0714 after correction. 
The Ratio of minimum to maximum transmission is 0.8018. 
The λ/2 correction factor is 0.00150.'
;
_exptl_crystal_colour            'clear light colourless'
_exptl_crystal_colour_lustre     clear
_exptl_crystal_colour_modifier   light
_exptl_crystal_colour_primary    colourless
_exptl_crystal_density_diffrn    1.315
_exptl_crystal_description       Block
_exptl_crystal_F_000             360
_exptl_crystal_size_max          0.19
_exptl_crystal_size_mid          0.18
_exptl_crystal_size_min          0.14
_exptl_special_details
;
X-ray crystallographic data for I were collected from a single crystal
sample, which was mounted on a loop fiber. Data were collected using
a Bruker Venture diffractometer equipped with a Photon 100 CMOS Detector,
a Helios MX optics and a Kappa goniometer. The crystal-to-detector distance 
was 4.0 cm, and the data collection was carried out in 1024 x 1024 pixel mode.
;
_geom_special_details
;
 All esds (except the esd in the dihedral angle between two l.s. planes)
 are estimated using the full covariance matrix.  The cell esds are taken
 into account individually in the estimation of esds in distances, angles
 and torsion angles; correlations between esds in cell parameters are only
 used when they are defined by crystal symmetry.  An approximate (isotropic)
 treatment of cell esds is used for estimating esds involving l.s. planes.
;
_refine_diff_density_max         0.256
_refine_diff_density_min         -0.159
_refine_diff_density_rms         0.051
_refine_ls_abs_structure_details
;
 Flack x determined using 714 quotients [(I+)-(I-)]/[(I+)+(I-)]
 (Parsons, Flack and Wagner, Acta Cryst. B69 (2013) 249-259).
;
_refine_ls_abs_structure_Flack   0.00(11)
_refine_ls_extinction_coef       .
_refine_ls_extinction_method     none
_refine_ls_goodness_of_fit_ref   1.051
_refine_ls_hydrogen_treatment    constr
_refine_ls_matrix_type           full
_refine_ls_number_parameters     112
_refine_ls_number_reflns         1840
_refine_ls_number_restraints     1
_refine_ls_restrained_S_all      1.050
_refine_ls_R_factor_all          0.0348
_refine_ls_R_factor_gt           0.0318
_refine_ls_shift/su_max          0.000
_refine_ls_shift/su_mean         0.000
_refine_ls_structure_factor_coef Fsqd
_refine_ls_weighting_details
'w=1/[σ²(Fo²)+(0.0365P)²+0.1475P] where P=(Fo²+2Fc²)/3'
_refine_ls_weighting_scheme      calc
_refine_ls_wR_factor_gt          0.0745
_refine_ls_wR_factor_ref         0.0765
_refine_special_details
;
1. Fixed Uiso
 At 1.2 times of:
  All C(H) groups
 At 1.5 times of:
  All C(H,H,H) groups
2.a Aromatic/amide H refined with riding coordinates:
 C4(H4), C5(H5), C6(H6)
2.b Idealised Me refined as rotating group:
 C7(H7A,H7B,H7C), C8(H8A,H8B,H8C), C9(H9A,H9B,H9C)
;
_reflns_Friedel_coverage         0.806
_reflns_Friedel_fraction_full    0.882
_reflns_Friedel_fraction_max     0.878
_reflns_number_gt                1727
_reflns_number_total             1840
_reflns_special_details
;
 Reflections were merged by SHELXL according to the crystal
 class for the calculation of statistics and refinement.
 
 _reflns_Friedel_fraction is defined as the number of unique
 Friedel pairs measured divided by the number that would be
 possible theoretically, ignoring centric projections and
 systematic absences.
;
_reflns_threshold_expression     'I > 2σ(I)'
_cod_data_source_file            123meo.cif
_cod_data_source_block           123meo
_cod_database_code               3500101
loop_
_space_group_symop_id
_space_group_symop_operation_xyz
1 'x, y, z'
2 '-x, -y, z+1/2'
3 'x+1/2, -y+1/2, z'
4 '-x+1/2, y+1/2, z+1/2'
loop_
_atom_site_label
_atom_site_type_symbol
_atom_site_fract_x
_atom_site_fract_y
_atom_site_fract_z
_atom_site_U_iso_or_equiv
_atom_site_adp_type
_atom_site_occupancy
_atom_site_site_symmetry_order
_atom_site_calc_flag
_atom_site_refinement_flags_posn
_atom_site_refinement_flags_adp
_atom_site_refinement_flags_occupancy
_atom_site_disorder_assembly
_atom_site_disorder_group
O1 O 0.37394(9) 0.3478(2) 0.45724(11) 0.0226(3) Uani 1 1 d . . . . .
O2 O 0.41726(9) 0.6423(2) 0.62357(10) 0.0214(3) Uani 1 1 d . . . . .
O3 O 0.57702(9) 0.9756(2) 0.62479(11) 0.0264(3) Uani 1 1 d . . . . .
C1 C 0.45814(12) 0.5081(3) 0.44888(14) 0.0188(3) Uani 1 1 d . . . . .
C2 C 0.47788(12) 0.6659(3) 0.53566(14) 0.0186(3) Uani 1 1 d . . . . .
C3 C 0.56261(12) 0.8363(3) 0.53495(14) 0.0204(4) Uani 1 1 d . . . . .
C4 C 0.62585(12) 0.8514(3) 0.44717(17) 0.0236(4) Uani 1 1 d . . . . .
H4 H 0.682766 0.968072 0.445695 0.028 Uiso 1 1 calc R . . . .
C5 C 0.60421(13) 0.6925(3) 0.36167(15) 0.0236(4) Uani 1 1 d . . . . .
H5 H 0.647297 0.702414 0.301761 0.028 Uiso 1 1 calc R . . . .
C6 C 0.52175(13) 0.5203(3) 0.36118(14) 0.0217(4) Uani 1 1 d . . . . .
H6 H 0.508815 0.412564 0.302153 0.026 Uiso 1 1 calc R . . . .
C7 C 0.35746(15) 0.1701(4) 0.37278(16) 0.0259(4) Uani 1 1 d . . . . .
H7A H 0.346206 0.268610 0.308103 0.039 Uiso 1 1 calc GR . . . .
H7B H 0.296800 0.062127 0.387555 0.039 Uiso 1 1 calc GR . . . .
H7C H 0.418065 0.057587 0.364752 0.039 Uiso 1 1 calc GR . . . .
C8 C 0.34894(14) 0.8591(3) 0.63873(16) 0.0255(4) Uani 1 1 d . . . . .
H8A H 0.294796 0.855207 0.585337 0.038 Uiso 1 1 calc GR . . . .
H8B H 0.387769 1.022675 0.632965 0.038 Uiso 1 1 calc GR . . . .
H8C H 0.317534 0.847576 0.708239 0.038 Uiso 1 1 calc GR . . . .
C9 C 0.65389(14) 1.1762(3) 0.62285(18) 0.0286(4) Uani 1 1 d . . . . .
H9A H 0.639234 1.297857 0.565598 0.043 Uiso 1 1 calc GR . . . .
H9B H 0.721879 1.097119 0.612216 0.043 Uiso 1 1 calc GR . . . .
H9C H 0.653194 1.270942 0.689410 0.043 Uiso 1 1 calc GR . . . .
loop_
_atom_site_aniso_label
_atom_site_aniso_U_11
_atom_site_aniso_U_22
_atom_site_aniso_U_33
_atom_site_aniso_U_23
_atom_site_aniso_U_13
_atom_site_aniso_U_12
O1 0.0192(5) 0.0252(6) 0.0235(7) -0.0033(5) 0.0003(5) -0.0028(4)
O2 0.0218(5) 0.0233(5) 0.0190(6) 0.0013(5) 0.0034(5) 0.0006(4)
O3 0.0242(6) 0.0288(6) 0.0261(7) -0.0038(6) -0.0022(5) -0.0062(5)
C1 0.0155(6) 0.0191(6) 0.0216(9) 0.0028(7) -0.0011(7) 0.0026(5)
C2 0.0167(7) 0.0213(7) 0.0179(8) 0.0026(6) 0.0012(6) 0.0034(6)
C3 0.0183(7) 0.0203(7) 0.0225(9) 0.0017(6) -0.0035(7) 0.0025(6)
C4 0.0168(7) 0.0237(8) 0.0303(10) 0.0052(8) 0.0009(7) 0.0003(6)
C5 0.0199(7) 0.0273(8) 0.0235(10) 0.0061(7) 0.0062(7) 0.0051(7)
C6 0.0213(8) 0.0239(8) 0.0197(8) -0.0002(7) -0.0005(7) 0.0057(6)
C7 0.0245(8) 0.0263(8) 0.0270(10) -0.0041(7) -0.0036(7) -0.0012(7)
C8 0.0222(8) 0.0262(8) 0.0280(11) -0.0028(7) 0.0056(7) 0.0009(6)
C9 0.0224(8) 0.0235(8) 0.0399(11) -0.0022(8) -0.0065(9) -0.0015(6)
loop_
_atom_type_symbol
_atom_type_description
_atom_type_scat_dispersion_real
_atom_type_scat_dispersion_imag
_atom_type_scat_source
C C 0.0137 0.0067 'International Tables Vol C Tables 4.2.6.8 and 6.1.1.4'
H H 0.0000 0.0000 'International Tables Vol C Tables 4.2.6.8 and 6.1.1.4'
O O 0.0389 0.0241 'International Tables Vol C Tables 4.2.6.8 and 6.1.1.4'
loop_
_geom_angle_atom_site_label_1
_geom_angle_atom_site_label_2
_geom_angle_atom_site_label_3
_geom_angle
_geom_angle_site_symmetry_1
_geom_angle_site_symmetry_3
C1 O1 C7 116.19(14) . .
C2 O2 C8 113.29(12) . .
C3 O3 C9 117.09(15) . .
O1 C1 C2 115.49(15) . .
O1 C1 C6 124.17(16) . .
C6 C1 C2 120.34(14) . .
O2 C2 C1 119.56(14) . .
O2 C2 C3 120.48(15) . .
C1 C2 C3 119.87(15) . .
O3 C3 C2 115.24(15) . .
O3 C3 C4 124.69(15) . .
C4 C3 C2 120.07(16) . .
C3 C4 H4 120.6 . .
C5 C4 C3 118.86(15) . .
C5 C4 H4 120.6 . .
C4 C5 H5 119.0 . .
C6 C5 C4 122.06(17) . .
C6 C5 H5 119.0 . .
C1 C6 H6 120.6 . .
C5 C6 C1 118.80(17) . .
C5 C6 H6 120.6 . .
O1 C7 H7A 109.5 . .
O1 C7 H7B 109.5 . .
O1 C7 H7C 109.5 . .
H7A C7 H7B 109.5 . .
H7A C7 H7C 109.5 . .
H7B C7 H7C 109.5 . .
O2 C8 H8A 109.5 . .
O2 C8 H8B 109.5 . .
O2 C8 H8C 109.5 . .
H8A C8 H8B 109.5 . .
H8A C8 H8C 109.5 . .
H8B C8 H8C 109.5 . .
O3 C9 H9A 109.5 . .
O3 C9 H9B 109.5 . .
O3 C9 H9C 109.5 . .
H9A C9 H9B 109.5 . .
H9A C9 H9C 109.5 . .
H9B C9 H9C 109.5 . .
loop_
_geom_bond_atom_site_label_1
_geom_bond_atom_site_label_2
_geom_bond_distance
_geom_bond_site_symmetry_2
O1 C1 1.3703(19) .
O1 C7 1.429(2) .
O2 C2 1.378(2) .
O2 C8 1.434(2) .
O3 C3 1.365(2) .
O3 C9 1.431(2) .
C1 C2 1.397(2) .
C1 C6 1.394(3) .
C2 C3 1.403(2) .
C3 C4 1.393(3) .
C4 H4 0.9500 .
C4 C5 1.392(3) .
C5 H5 0.9500 .
C5 C6 1.386(2) .
C6 H6 0.9500 .
C7 H7A 0.9800 .
C7 H7B 0.9800 .
C7 H7C 0.9800 .
C8 H8A 0.9800 .
C8 H8B 0.9800 .
C8 H8C 0.9800 .
C9 H9A 0.9800 .
C9 H9B 0.9800 .
C9 H9C 0.9800 .
loop_
_geom_hbond_atom_site_label_D
_geom_hbond_atom_site_label_H
_geom_hbond_atom_site_label_A
_geom_hbond_distance_DH
_geom_hbond_distance_HA
_geom_hbond_distance_DA
_geom_hbond_angle_DHA
_geom_hbond_site_symmetry_A
_geom_hbond_publ_flag
C6 H6 O2 0.95 2.49 3.250(2) 136.5 2_664 yes
C8 H8B O3 0.98 2.47 3.024(2) 115.5 . yes
loop_
_geom_torsion_atom_site_label_1
_geom_torsion_atom_site_label_2
_geom_torsion_atom_site_label_3
_geom_torsion_atom_site_label_4
_geom_torsion
_geom_torsion_site_symmetry_1
_geom_torsion_site_symmetry_2
_geom_torsion_site_symmetry_3
_geom_torsion_site_symmetry_4
O1 C1 C2 O2 3.4(2) . . . .
O1 C1 C2 C3 179.77(13) . . . .
O1 C1 C6 C5 179.36(15) . . . .
O2 C2 C3 O3 -1.6(2) . . . .
O2 C2 C3 C4 177.48(15) . . . .
O3 C3 C4 C5 178.09(16) . . . .
C1 C2 C3 O3 -177.96(14) . . . .
C1 C2 C3 C4 1.1(2) . . . .
C2 C1 C6 C5 -0.4(2) . . . .
C2 C3 C4 C5 -0.9(2) . . . .
C3 C4 C5 C6 0.1(2) . . . .
C4 C5 C6 C1 0.6(2) . . . .
C6 C1 C2 O2 -176.87(14) . . . .
C6 C1 C2 C3 -0.5(2) . . . .
C7 O1 C1 C2 -175.12(14) . . . .
C7 O1 C1 C6 5.2(2) . . . .
C8 O2 C2 C1 -108.00(16) . . . .
C8 O2 C2 C3 75.65(18) . . . .
C9 O3 C3 C2 -171.98(13) . . . .
C9 O3 C3 C4 9.0(2) . . . .

_cod_database_fobs_code 3500101
