#------------------------------------------------------------------------------
#$Date: 2016-03-21 00:21:50 +0100 (Mon 21 de Mar de 2016) $
#$Revision: 178377 $
#$URL: svn://www.crystallography.net/cod/cif/4/00/07/4000770.cif $
#------------------------------------------------------------------------------
#
# This file is available in the Crystallography Open Database (COD),
# http://www.crystallography.net/
#
# All data on this site have been placed in the public domain by the
# contributors.
#
data_4000770
loop_
_publ_author_name
'Menard, Melissa C.'
'Ishii, Rieko'
'Higo, Tomoya'
'Nishibori, Eigi'
'Sawa, Hiroshi'
'Nakatsuji, Satoru'
'Chan, Julia Y.'
_publ_section_title
;
 High-Resolution Synchrotron Studies and Magnetic Properties of Frustrated
 Antiferromagnets MAl2S4(M = Mn2+, Fe2+, Co2+)
;
_journal_issue                   12
_journal_name_full               'Chemistry of Materials'
_journal_page_first              3086
_journal_paper_doi               10.1021/cm200561p
_journal_volume                  23
_journal_year                    2011
_chemical_formula_moiety         'Al2 Co S4'
_chemical_formula_sum            'Al2 Co S4'
_chemical_formula_weight         241.13
_chemical_name_systematic
;
 ?
;
_space_group_IT_number           164
_symmetry_cell_setting           trigonal
_symmetry_space_group_name_Hall  '-P 3 2"'
_symmetry_space_group_name_H-M   'P -3 m 1'
_atom_sites_solution_primary     direct
_atom_sites_solution_secondary   difmap
_audit_creation_method           SHELXL-97
_cell_angle_alpha                90.00
_cell_angle_beta                 90.00
_cell_angle_gamma                120.00
_cell_formula_units_Z            1
_cell_length_a                   3.6200(13)
_cell_length_b                   3.6200(13)
_cell_length_c                   11.97000(12)
_cell_measurement_reflns_used    1420
_cell_measurement_temperature    150(2)
_cell_measurement_theta_max      29.0
_cell_measurement_theta_min      3.7
_cell_volume                     135.84(7)
_computing_cell_refinement       'Bruker SAINT v7.60A'
_computing_data_collection       'Bruker APEX2 v2010.3.0'
_computing_data_reduction        'Bruker SAINT v7.60A'
_computing_molecular_graphics    'Bruker SHELXTL v6.14'
_computing_publication_material  'Bruker SHELXTL v6.14'
_computing_structure_refinement  'Bruker SHELXTL v6.14'
_computing_structure_solution    'Bruker SHELXTL v6.14'
_diffrn_ambient_temperature      150(2)
_diffrn_measured_fraction_theta_full 0.986
_diffrn_measured_fraction_theta_max 0.986
_diffrn_measurement_device_type  'Bruker APEXII CCD'
_diffrn_measurement_method       'omega scans'
_diffrn_radiation_monochromator  'Si-<111> channel cut crystal'
_diffrn_radiation_source         synchrotron
_diffrn_radiation_type           synchrotron
_diffrn_radiation_wavelength     0.77535
_diffrn_reflns_av_R_equivalents  0.0850
_diffrn_reflns_av_sigmaI/netI    0.0477
_diffrn_reflns_limit_h_max       4
_diffrn_reflns_limit_h_min       -4
_diffrn_reflns_limit_k_max       4
_diffrn_reflns_limit_k_min       -4
_diffrn_reflns_limit_l_max       14
_diffrn_reflns_limit_l_min       -14
_diffrn_reflns_number            1420
_diffrn_reflns_theta_full        28.99
_diffrn_reflns_theta_max         28.99
_diffrn_reflns_theta_min         3.71
_diffrn_standards_number         0
_exptl_absorpt_coefficient_mu    4.856
_exptl_absorpt_correction_T_max  0.9530
_exptl_absorpt_correction_T_min  0.8295
_exptl_absorpt_correction_type   multi-scan
_exptl_absorpt_process_details   'HKL Scalepack (Otowinowski& Minor1997)'
_exptl_crystal_colour            'dark brown'
_exptl_crystal_density_diffrn    2.948
_exptl_crystal_density_method    'not measured'
_exptl_crystal_description       plates
_exptl_crystal_F_000             117
_exptl_crystal_size_max          0.04
_exptl_crystal_size_mid          0.03
_exptl_crystal_size_min          0.01
_refine_diff_density_max         0.576
_refine_diff_density_min         -0.786
_refine_diff_density_rms         0.269
_refine_ls_extinction_coef       none
_refine_ls_extinction_expression Fc^*^=kFc[1+0.001xFc²λ³/sin(2θ)]^-1/4^
_refine_ls_extinction_method     SHELXL
_refine_ls_goodness_of_fit_ref   1.198
_refine_ls_matrix_type           full
_refine_ls_number_parameters     16
_refine_ls_number_reflns         141
_refine_ls_number_restraints     0
_refine_ls_restrained_S_all      1.198
_refine_ls_R_factor_all          0.0288
_refine_ls_R_factor_gt           0.0288
_refine_ls_shift/su_max          0.000
_refine_ls_shift/su_mean         0.000
_refine_ls_structure_factor_coef Fsqd
_refine_ls_weighting_details
'calc w=1/[σ²(Fo²)+(0.0291P)²+0.0000P] where P=(Fo²+2Fc²)/3'
_refine_ls_weighting_scheme      calc
_refine_ls_wR_factor_gt          0.0545
_refine_ls_wR_factor_ref         0.0545
_reflns_number_gt                141
_reflns_number_total             141
_reflns_threshold_expression     I>2σ(I)
_cod_data_source_file            cm200561p_si_001.cif
_cod_data_source_block           lsu007
_cod_depositor_comments
;
The following automatic conversions were performed:

'_symmetry_cell_setting' value 'Trigonal' changed to 'trigonal'
according to /home/saulius/struct/CIF-dictionaries/cif_core.dic
dictionary named 'cif_core.dic' version 2.4.1 from 2010-06-29.

Automatic conversion script
Id: cif_fix_values 1715 2011-07-08 13:25:40Z adriana 
;
_cod_original_sg_symbol_H-M      P-3m1
_cod_database_code               4000770
loop_
_symmetry_equiv_pos_as_xyz
'x, y, z'
'-y, x-y, z'
'-x+y, -x, z'
'x-y, -y, -z'
'-x, -x+y, -z'
'y, x, -z'
'-x, -y, -z'
'y, -x+y, -z'
'x-y, x, -z'
'-x+y, y, z'
'x, x-y, z'
'-y, -x, z'
loop_
_atom_site_label
_atom_site_type_symbol
_atom_site_fract_x
_atom_site_fract_y
_atom_site_fract_z
_atom_site_U_iso_or_equiv
_atom_site_adp_type
_atom_site_occupancy
_atom_site_symmetry_multiplicity
_atom_site_calc_flag
_atom_site_refinement_flags
Co2 Co 0.3333 0.6667 0.20719(9) 0.0075(4) Uani 0.30 6 d SP
Al2 Al 0.3333 0.6667 0.20719(9) 0.0075(4) Uani 0.70 6 d SP
S1 S 0.3333 1.6667 0.86581(8) 0.0078(4) Uani 1 6 d S
S2 S 0.3333 0.6667 0.39502(11) 0.0076(4) Uani 1 6 d S
Al1 Al 0.0000 0.0000 0.5000 0.0072(4) Uani 0.60 12 d SP
Co1 Co 0.0000 0.0000 0.5000 0.0072(4) Uani 0.40 12 d SP
loop_
_atom_site_aniso_label
_atom_site_aniso_U_11
_atom_site_aniso_U_22
_atom_site_aniso_U_33
_atom_site_aniso_U_23
_atom_site_aniso_U_13
_atom_site_aniso_U_12
Co2 0.0076(5) 0.0076(5) 0.0074(6) 0.000 0.000 0.0038(2)
Al2 0.0076(5) 0.0076(5) 0.0074(6) 0.000 0.000 0.0038(2)
S1 0.0071(5) 0.0071(5) 0.0093(7) 0.000 0.000 0.0035(2)
S2 0.0080(5) 0.0080(5) 0.0067(6) 0.000 0.000 0.0040(2)
Al1 0.0072(5) 0.0072(5) 0.0072(8) 0.000 0.000 0.0036(3)
Co1 0.0072(5) 0.0072(5) 0.0072(8) 0.000 0.000 0.0036(3)
loop_
_atom_type_symbol
_atom_type_description
_atom_type_scat_dispersion_real
_atom_type_scat_dispersion_imag
_atom_type_scat_source
Al Al 0.0660 0.0620 'International Tables Vol C Tables 4.2.6c.8 and 6.1.1.4'
S S 0.1210 0.1480 'International Tables Vol C Tables 4.2.6.8 and 6.1.1.4'
Co Co 0.1760 0.1430 'International Tables Vol C Tables 4.2.6.8 and 6.1.1.4'
loop_
_geom_angle_atom_site_label_1
_geom_angle_atom_site_label_2
_geom_angle_atom_site_label_3
_geom_angle
_geom_angle_site_symmetry_1
_geom_angle_site_symmetry_3
S2 Co2 S1 112.69(4) . 7_576
S2 Co2 S1 112.69(4) . 7_686
S1 Co2 S1 106.07(4) 7_576 7_686
S2 Co2 S1 112.69(4) . 7_676
S1 Co2 S1 106.07(4) 7_576 7_676
S1 Co2 S1 106.07(4) 7_686 7_676
Al2 S1 Co2 0.0 7_576 7_576
Al2 S1 Al2 106.07(4) 7_576 7_686
Co2 S1 Al2 106.07(4) 7_576 7_686
Al2 S1 Co2 106.07(4) 7_576 7_686
Co2 S1 Co2 106.07(4) 7_576 7_686
Al2 S1 Co2 0.00(5) 7_686 7_686
Al2 S1 Co2 106.07(4) 7_576 7_676
Co2 S1 Co2 106.07(4) 7_576 7_676
Al2 S1 Co2 106.07(4) 7_686 7_676
Co2 S1 Co2 106.07(4) 7_686 7_676
Al2 S1 Al2 106.07(4) 7_576 7_676
Co2 S1 Al2 106.07(4) 7_576 7_676
Al2 S1 Al2 106.07(4) 7_686 7_676
Co2 S1 Al2 106.07(4) 7_686 7_676
Co2 S1 Al2 0.00(5) 7_676 7_676
Co2 S2 Co1 121.02(3) . 1_565
Co2 S2 Al1 121.02(3) . 1_565
Co1 S2 Al1 0.0 1_565 1_565
Co2 S2 Co1 121.02(3) . 1_665
Co1 S2 Co1 95.84(4) 1_565 1_665
Al1 S2 Co1 95.84(4) 1_565 1_665
Co2 S2 Al1 121.02(3) . 1_665
Co1 S2 Al1 95.84(4) 1_565 1_665
Al1 S2 Al1 95.84(4) 1_565 1_665
Co1 S2 Al1 0.0 1_665 1_665
Co2 S2 Al1 121.02(3) . .
Co1 S2 Al1 95.84(4) 1_565 .
Al1 S2 Al1 95.84(4) 1_565 .
Co1 S2 Al1 95.84(4) 1_665 .
Al1 S2 Al1 95.84(4) 1_665 .
S2 Al1 S2 95.84(4) 7_566 7_666
S2 Al1 S2 180.00(5) 7_566 1_545
S2 Al1 S2 84.16(4) 7_666 1_545
S2 Al1 S2 84.16(4) 7_566 1_445
S2 Al1 S2 180.0 7_666 1_445
S2 Al1 S2 95.84(4) 1_545 1_445
S2 Al1 S2 95.84(4) 7_566 7_556
S2 Al1 S2 95.84(4) 7_666 7_556
S2 Al1 S2 84.16(4) 1_545 7_556
S2 Al1 S2 84.16(4) 1_445 7_556
S2 Al1 S2 84.16(4) 7_566 .
S2 Al1 S2 84.16(4) 7_666 .
S2 Al1 S2 95.84(4) 1_545 .
S2 Al1 S2 95.84(4) 1_445 .
S2 Al1 S2 180.0 7_556 .
loop_
_geom_bond_atom_site_label_1
_geom_bond_atom_site_label_2
_geom_bond_distance
_geom_bond_site_symmetry_2
Co2 S2 2.2484(19) .
Co2 S1 2.2653(9) 7_576
Co2 S1 2.2653(9) 7_686
Co2 S1 2.2653(9) 7_676
S1 Al2 2.2653(9) 7_576
S1 Co2 2.2653(9) 7_576
S1 Al2 2.2653(9) 7_686
S1 Co2 2.2653(9) 7_686
S1 Co2 2.2653(9) 7_676
S1 Al2 2.2653(9) 7_676
S2 Co1 2.4387(9) 1_565
S2 Al1 2.4387(9) 1_565
S2 Co1 2.4387(9) 1_665
S2 Al1 2.4387(9) 1_665
S2 Al1 2.4387(9) .
Al1 S2 2.4387(9) 7_566
Al1 S2 2.4387(9) 7_666
Al1 S2 2.4387(9) 1_545
Al1 S2 2.4387(9) 1_445
Al1 S2 2.4387(9) 7_556
