#------------------------------------------------------------------------------
#$Date: 2016-02-16 21:30:59 +0100 (mar 16 de feb de 2016) $
#$Revision: 176467 $
#$URL: svn://www.crystallography.net/cod/cif/4/11/88/4118892.cif $
#------------------------------------------------------------------------------
#
# This file is available in the Crystallography Open Database (COD),
# http://www.crystallography.net/
#
# All data on this site have been placed in the public domain by the
# contributors.
#
data_4118892
loop_
_publ_author_name
'Olga Karagiaridi'
'Marianne B. Lalonde'
'Wojciech Bury'
'Amy A. Sarjeant'
'Omar K. Farha'
'Joseph T. Hupp'
_publ_contact_author_name
;
;
_publ_section_title
;
 Opening ZIF-8: A Catalytically Active Zeolitic Imidazolate Framework of
 Sodalite Topology with Unsubstituted Linkers
;
_journal_name_full               'Journal of the American Chemical Society'
_journal_page_first              18790
_journal_page_last               18796
_journal_paper_doi               10.1021/ja308786r
_journal_volume                  134
_journal_year                    2012
_chemical_absolute_configuration ad
_chemical_formula_moiety         'C6.30 H6.60 N4 Zn'
_chemical_formula_sum            'C6.3 H6.6 N4 Zn'
_chemical_formula_weight         203.73
_chemical_name_systematic
;
 ? 
;
_space_group_crystal_system      cubic
_space_group_IT_number           217
_space_group_name_Hall           'I -4 2 3'
_space_group_name_H-M_alt        'I -4 3 m'
_symmetry_space_group_name_Hall  'I -4 2 3'
_symmetry_space_group_name_H-M   'I -4 3 m'
_atom_sites_solution_hydrogens   geom
_atom_sites_solution_primary     dual
_atom_sites_solution_secondary   difmap
_audit_creation_date             2012-06-13
_audit_creation_method
;
  Olex2 1.1
  (compiled Nov  1 2011 20:42:30, GUI svn.r3906)
;
_cell_angle_alpha                90.00
_cell_angle_beta                 90.00
_cell_angle_gamma                90.00
_cell_formula_units_Z            12
_cell_length_a                   16.8303(2)
_cell_length_b                   16.8303(2)
_cell_length_c                   16.8303(2)
_cell_measurement_reflns_used    7883
_cell_measurement_temperature    100(2)
_cell_measurement_theta_max      66.36
_cell_measurement_theta_min      3.71
_cell_volume                     4767.33(10)
_computing_cell_refinement       'SAINT V7.23A (Bruker, 2005)'
_computing_data_collection       'APEX2 V2.1-4 (Bruker, 2007)'
_computing_data_reduction        'Bruker SAINT'
_computing_molecular_graphics
;
O. V. Dolomanov, L. J. Bourhis, R. J. Gildea, J. A. K. Howard and H. Puschmann,
OLEX2: a complete structure solution, refinement and analysis program.
J. Appl. Cryst. (2009). 42, 339-341.
;
_computing_publication_material
;
O. V. Dolomanov, L. J. Bourhis, R. J. Gildea, J. A. K. Howard and H. Puschmann,
OLEX2: a complete structure solution, refinement and analysis program.
J. Appl. Cryst. (2009). 42, 339-341.
;
_computing_structure_refinement
;
XL, G.M. Sheldrick, Acta Cryst.
(2008). A64, 112-122
;
_computing_structure_solution
;
XM, G.M. Sheldrick, Acta Cryst.
(2008). A64, 112-122
;
_diffrn_ambient_temperature      100.01
_diffrn_detector_area_resol_mean 8
_diffrn_measured_fraction_theta_full 0.983
_diffrn_measured_fraction_theta_max 0.983
_diffrn_measurement_device_type  'Bruker Kappa APEX CCD area detector'
_diffrn_measurement_method       'ω and φ scans'
_diffrn_radiation_monochromator  'MX optics'
_diffrn_radiation_type           CuK\a
_diffrn_radiation_wavelength     1.54184
_diffrn_reflns_av_R_equivalents  0.0271
_diffrn_reflns_av_unetI/netI     0.0144
_diffrn_reflns_limit_h_max       19
_diffrn_reflns_limit_h_min       -20
_diffrn_reflns_limit_k_max       19
_diffrn_reflns_limit_k_min       -10
_diffrn_reflns_limit_l_max       17
_diffrn_reflns_limit_l_min       -19
_diffrn_reflns_number            10526
_diffrn_reflns_theta_full        67.36
_diffrn_reflns_theta_max         67.36
_diffrn_reflns_theta_min         3.71
_diffrn_source                   microsource
_diffrn_source_current           0.65
_diffrn_source_power             0.02925
_diffrn_source_voltage           45.0
_diffrn_standards_number         0
_exptl_absorpt_coefficient_mu    1.901
_exptl_absorpt_correction_T_max  0.7529
_exptl_absorpt_correction_T_min  0.6476
_exptl_absorpt_correction_type   multi-scan
_exptl_absorpt_process_details
;
SADABS-2008/1 (Bruker,2008) was used for absorption correction.
R(int) was 0.0745 before and 0.0412 after correction.
The Ratio of minimum to maximum transmission is 0.8601.
The λ/2 correction factor is 0.0015.
;
_exptl_crystal_colour            colourless
_exptl_crystal_colour_primary    colourless
_exptl_crystal_density_diffrn    0.852
_exptl_crystal_description       block
_exptl_crystal_F_000             1229
_exptl_crystal_size_max          0.177
_exptl_crystal_size_mid          0.16
_exptl_crystal_size_min          0.064
_refine_diff_density_max         0.300
_refine_diff_density_min         -0.169
_refine_diff_density_rms         0.047
_refine_ls_abs_structure_details 'Flack H D (1983), Acta Cryst. A39, 876-881'
_refine_ls_abs_structure_Flack   -0.01(4)
_refine_ls_extinction_method     none
_refine_ls_goodness_of_fit_ref   1.124
_refine_ls_hydrogen_treatment    constr
_refine_ls_matrix_type           full
_refine_ls_number_parameters     43
_refine_ls_number_reflns         822
_refine_ls_number_restraints     8
_refine_ls_restrained_S_all      1.126
_refine_ls_R_factor_all          0.0261
_refine_ls_R_factor_gt           0.0261
_refine_ls_shift/su_max          0.000
_refine_ls_shift/su_mean         0.000
_refine_ls_structure_factor_coef Fsqd
_refine_ls_weighting_details
'calc w=1/[σ²(Fo²)+(0.0520P)²+0.0000P] where P=(Fo²+2Fc²)/3'
_refine_ls_weighting_scheme      calc
_refine_ls_wR_factor_gt          0.0618
_refine_ls_wR_factor_ref         0.0618
_reflns_number_gt                821
_reflns_number_total             822
_reflns_threshold_expression     >2sigma(I)
_cod_data_source_file            ja308786r_si_003.cif
_cod_data_source_block           n1705
_cod_original_formula_sum        'C6.30 H6.60 N4 Zn'
_cod_database_code               4118892
#BEGIN Tags that were not found in dictionaries:
_smtbx_masks_special_details
;
The solvent masking procedure as implemented in Olex2 was used to remove the
electronic contribution of solvent molecules from the refinement.  Only the
atoms used in the refinement model are reported in the formula here.


Total solvent accessible volume / cell = 2191.4 Ang³ [46.0%]
Total electron count / cell = 496.1
;
#END Tags that were not found in dictionaries
loop_
_space_group_symop_id
_space_group_symop_operation_xyz
1 'x, y, z'
2 'y, -x, -z'
3 '-x, -y, z'
4 '-y, x, -z'
5 '-x, z, -y'
6 'x, -y, -z'
7 '-x, -z, y'
8 '-z, -y, x'
9 '-x, y, -z'
10 'z, -y, -x'
11 'z, x, y'
12 'y, z, x'
13 '-y, -z, x'
14 'z, -x, -y'
15 '-y, z, -x'
16 '-z, -x, y'
17 '-z, x, -y'
18 'y, -z, -x'
19 '-y, -x, z'
20 'y, x, z'
21 'x, -z, -y'
22 'x, z, y'
23 '-z, y, -x'
24 'z, y, x'
25 'x+1/2, y+1/2, z+1/2'
26 'y+1/2, -x+1/2, -z+1/2'
27 '-x+1/2, -y+1/2, z+1/2'
28 '-y+1/2, x+1/2, -z+1/2'
29 '-x+1/2, z+1/2, -y+1/2'
30 'x+1/2, -y+1/2, -z+1/2'
31 '-x+1/2, -z+1/2, y+1/2'
32 '-z+1/2, -y+1/2, x+1/2'
33 '-x+1/2, y+1/2, -z+1/2'
34 'z+1/2, -y+1/2, -x+1/2'
35 'z+1/2, x+1/2, y+1/2'
36 'y+1/2, z+1/2, x+1/2'
37 '-y+1/2, -z+1/2, x+1/2'
38 'z+1/2, -x+1/2, -y+1/2'
39 '-y+1/2, z+1/2, -x+1/2'
40 '-z+1/2, -x+1/2, y+1/2'
41 '-z+1/2, x+1/2, -y+1/2'
42 'y+1/2, -z+1/2, -x+1/2'
43 '-y+1/2, -x+1/2, z+1/2'
44 'y+1/2, x+1/2, z+1/2'
45 'x+1/2, -z+1/2, -y+1/2'
46 'x+1/2, z+1/2, y+1/2'
47 '-z+1/2, y+1/2, -x+1/2'
48 'z+1/2, y+1/2, x+1/2'
loop_
_atom_site_label
_atom_site_type_symbol
_atom_site_fract_x
_atom_site_fract_y
_atom_site_fract_z
_atom_site_U_iso_or_equiv
_atom_site_adp_type
_atom_site_occupancy
_atom_site_symmetry_multiplicity
_atom_site_calc_flag
_atom_site_refinement_flags
_atom_site_disorder_group
Zn1 Zn 0.5000 0.2500 0.0000 0.05161(16) Uani 1 4 d S .
N1 N 0.53642(9) 0.18275(9) 0.08956(10) 0.0630(3) Uani 1 1 d D .
C1 C 0.5042(3) 0.12078(8) 0.12078(8) 0.0576(4) Uani 1 2 d SD .
H1 H 0.4575 0.0984 0.0984 0.069 Uiso 0.425 1 calc PR 2
C2 C 0.6089(3) 0.1818(6) 0.1261(5) 0.095(3) Uani 0.63(3) 1 d PDU 1
H2 H 0.6523 0.2156 0.1136 0.114 Uiso 0.63(3) 1 calc PR 1
C2A C 0.5762(17) 0.2135(11) 0.1552(13) 0.131(9) Uani 0.37(3) 1 d PDU 2
H2A H 0.5991 0.2649 0.1593 0.157 Uiso 0.37(3) 1 calc PR 2
C3 C 0.4123(12) 0.0938(11) 0.0938(11) 0.078(5) Uani 0.15 2 d SP 1
H3A H 0.4146 0.0432 0.0649 0.117 Uiso 0.15 2 calc PR 1
H3B H 0.3893 0.1347 0.0593 0.117 Uiso 0.15 2 calc PR 1
H3C H 0.3791 0.0876 0.1413 0.117 Uiso 0.15 2 calc PR 1
loop_
_atom_site_aniso_label
_atom_site_aniso_U_11
_atom_site_aniso_U_22
_atom_site_aniso_U_33
_atom_site_aniso_U_23
_atom_site_aniso_U_13
_atom_site_aniso_U_12
Zn1 0.05506(17) 0.04471(19) 0.05506(17) 0.000 0.000 0.000
N1 0.0575(7) 0.0608(7) 0.0708(9) 0.0161(7) -0.0053(7) -0.0033(6)
C1 0.0625(12) 0.0552(6) 0.0552(6) 0.0006(7) -0.0036(11) -0.0036(11)
C2 0.056(2) 0.108(5) 0.121(4) 0.053(4) -0.015(2) -0.021(2)
C2A 0.127(14) 0.114(9) 0.150(12) 0.066(8) -0.069(10) -0.057(10)
C3 0.072(10) 0.081(8) 0.081(8) 0.027(9) -0.010(7) -0.010(7)
loop_
_atom_type_symbol
_atom_type_description
_atom_type_scat_dispersion_real
_atom_type_scat_dispersion_imag
_atom_type_scat_source
C C 0.0181 0.0091 'International Tables Vol C Tables 4.2.6.8 and 6.1.1.4'
H H 0.0000 0.0000 'International Tables Vol C Tables 4.2.6.8 and 6.1.1.4'
N N 0.0311 0.0180 'International Tables Vol C Tables 4.2.6.8 and 6.1.1.4'
Zn Zn -1.5491 0.6778 'International Tables Vol C Tables 4.2.6.8 and 6.1.1.4'
loop_
_geom_angle_atom_site_label_1
_geom_angle_atom_site_label_2
_geom_angle_atom_site_label_3
_geom_angle
_geom_angle_site_symmetry_1
_geom_angle_site_symmetry_3
N1 Zn1 N1 109.03(5) . 32_554
N1 Zn1 N1 109.03(5) 9_655 32_554
N1 Zn1 N1 110.36(10) 34 32_554
N1 Zn1 N1 110.36(10) . 9_655
N1 Zn1 N1 109.03(5) . 34
N1 Zn1 N1 109.03(5) 9_655 34
C1 N1 Zn1 130.0(2) . .
C1 N1 C2 100.5(3) . .
C1 N1 C2A 100.3(5) . .
C2 N1 Zn1 128.7(2) . .
C2 N1 C2A 38.5(11) . .
C2A N1 Zn1 122.7(5) . .
N1 C1 N1 119.0(4) 22 .
N1 C1 H1 120.5 22 .
N1 C1 H1 120.5 . .
N1 C1 C3 119.8(2) 22 .
N1 C1 C3 119.8(2) . .
C3 C1 H1 11.5 . .
N1 C2 H2 125.5 . .
C2 C2 N1 109.1(2) 22 .
C2 C2 H2 125.5 22 .
N1 C2A H2A 126.3 . .
C2A C2A N1 107.4(4) 22 .
C2A C2A H2A 126.3 22 .
C1 C3 H3A 109.5 . .
C1 C3 H3B 109.5 . .
C1 C3 H3C 109.5 . .
H3A C3 H3B 109.5 . .
H3A C3 H3C 109.5 . .
H3B C3 H3C 109.5 . .
loop_
_geom_bond_atom_site_label_1
_geom_bond_atom_site_label_2
_geom_bond_distance
_geom_bond_site_symmetry_2
Zn1 N1 1.9822(14) 32_554
Zn1 N1 1.9822(14) 34
Zn1 N1 1.9822(14) 9_655
Zn1 N1 1.9821(14) .
N1 C1 1.287(3) .
N1 C2 1.366(5) .
N1 C2A 1.391(11) .
C1 N1 1.287(3) 22
C1 H1 0.9500 .
C1 C3 1.676(19) .
C2 C2 1.326(11) 22
C2 H2 0.9500 .
C2A C2A 1.387(18) 22
C2A H2A 0.9500 .
C3 H3A 0.9800 .
C3 H3B 0.9800 .
C3 H3C 0.9800 .
loop_
_geom_torsion_atom_site_label_1
_geom_torsion_atom_site_label_2
_geom_torsion_atom_site_label_3
_geom_torsion_atom_site_label_4
_geom_torsion
_geom_torsion_site_symmetry_1
_geom_torsion_site_symmetry_4
Zn1 N1 C1 N1 -175.35(15) . 22
Zn1 N1 C1 C3 -8.6(11) . .
Zn1 N1 C2 C2 -178.2(3) . 22
Zn1 N1 C2A C2A 166.3(5) . 22
N1 Zn1 N1 C1 -45.2(2) 9_655 .
N1 Zn1 N1 C1 -164.9(2) 34 .
N1 Zn1 N1 C1 74.5(2) 32_554 .
N1 Zn1 N1 C2 122.6(7) 9_655 .
N1 Zn1 N1 C2 2.9(7) 34 .
N1 Zn1 N1 C2 -117.7(7) 32_554 .
N1 Zn1 N1 C2A 50.3(18) 34 .
N1 Zn1 N1 C2A 170.0(18) 9_655 .
N1 Zn1 N1 C2A -70.3(18) 32_554 .
C1 N1 C2 C2 -7.6(3) . 22
C1 N1 C2A C2A 12.9(8) . 22
C2 N1 C1 N1 14.3(7) . 22
C2 N1 C1 C3 -179.0(12) . .
C2 N1 C2A C2A -81.0(7) . 22
C2A N1 C1 N1 -24.9(16) . 22
C2A N1 C1 C3 141.8(19) . .
C2A N1 C2 C2 85.8(8) . 22
#BEGIN Loops that were not found in dictionaries:
loop_
_smtbx_masks_void_nr
_smtbx_masks_void_average_x
_smtbx_masks_void_average_y
_smtbx_masks_void_average_z
_smtbx_masks_void_volume
_smtbx_masks_void_count_electrons
1 -0.577 -0.975 -0.568 2191.4 496.1
#END Loops that were not found in dictionaries
