#------------------------------------------------------------------------------
#$Date: 2015-10-14 17:43:58 +0200 (Wed 14 de Oct de 2015) $
#$Revision: 168892 $
#$URL: svn://www.crystallography.net/cod/cif/4/12/47/4124700.cif $
#------------------------------------------------------------------------------
#
# This file is available in the Crystallography Open Database (COD),
# http://www.crystallography.net/
#
# All data on this site have been placed in the public domain by the
# contributors.
#
data_4124700
loop_
_publ_author_name
'Corbin, D.R.'
'Cox, D.E.'
'Abrams, L.'
'Jones, G.A.'
'Harrison, W.T.A.'
'Eddy, M.M.'
'Stucky, G.D.'
_publ_section_title
;
 Flexibility of the zeolite RHO framework. In situ X-ray and neutron
 powder structural characterization of divalent cation-exchanged zeolite
 RHO
;
_journal_name_full               'Journal of the American Chemical Society'
_journal_page_first              4821
_journal_page_last               4830
_journal_volume                  112
_journal_year                    1990
_chemical_formula_sum            'Al12 N4.104 O96 Si36'
_chemical_name_systematic        'Ca3.95 (N D4)4.1 (Al12 Si36 O96)'
_space_group_IT_number           217
_symmetry_space_group_name_Hall  'I -4 2 3'
_symmetry_space_group_name_H-M   'I -4 3 m'
_cell_angle_alpha                90
_cell_angle_beta                 90
_cell_angle_gamma                90
_cell_formula_units_Z            1
_cell_length_a                   14.41
_cell_length_b                   14.41
_cell_length_c                   14.41
_cell_volume                     2992.209
_citation_journal_id_ASTM        JACSAT
_cod_data_source_file            Corbin_JACSAT_1990_1349.cif
_cod_data_source_block           Al12N4.104O96Si36
_cod_database_code               4124700
loop_
_symmetry_equiv_pos_as_xyz
x,y,z
y,-x,-z
-x,-y,z
-y,x,-z
x,-y,-z
-y,-x,z
-x,y,-z
y,x,z
z,x,y
x,-z,-y
-z,-x,y
-x,z,-y
z,-x,-y
-x,-z,y
-z,x,-y
x,z,y
y,z,x
y,-z,-x
-z,-y,x
-y,z,-x
z,y,x
-y,-z,x
-z,y,-x
z,-y,-x
x+1/2,y+1/2,z+1/2
y+1/2,-x+1/2,-z+1/2
-x+1/2,-y+1/2,z+1/2
-y+1/2,x+1/2,-z+1/2
x+1/2,-y+1/2,-z+1/2
-y+1/2,-x+1/2,z+1/2
-x+1/2,y+1/2,-z+1/2
y+1/2,x+1/2,z+1/2
z+1/2,x+1/2,y+1/2
x+1/2,-z+1/2,-y+1/2
-z+1/2,-x+1/2,y+1/2
-x+1/2,z+1/2,-y+1/2
z+1/2,-x+1/2,-y+1/2
-x+1/2,-z+1/2,y+1/2
-z+1/2,x+1/2,-y+1/2
x+1/2,z+1/2,y+1/2
y+1/2,z+1/2,x+1/2
y+1/2,-z+1/2,-x+1/2
-z+1/2,-y+1/2,x+1/2
-y+1/2,z+1/2,-x+1/2
z+1/2,y+1/2,x+1/2
-y+1/2,-z+1/2,x+1/2
-z+1/2,y+1/2,-x+1/2
z+1/2,-y+1/2,-x+1/2
loop_
_atom_site_label
_atom_site_type_symbol
_atom_site_fract_x
_atom_site_fract_y
_atom_site_fract_z
_atom_site_occupancy
_atom_site_U_iso_or_equiv
N1 N-3 0.5 0 0 0.684 0.0
Si1 Si+4 0.2728 0.1205 0.4266 0.75 0.0
O1 O-2 0.2181 0.2181 0.4046 1 0.0
O2 O-2 0.1261 0.1261 0.6182 1 0.0
Al1 Al+3 0.2728 0.1205 0.4266 0.25 0.0
O3 O-2 0.037 0.2029 0.3924 1 0.0
