#------------------------------------------------------------------------------
#$Date: 2016-02-13 20:28:24 +0100 (Sat 13 de Feb de 2016) $
#$Revision: 176429 $
#$URL: svn://www.crystallography.net/cod/cif/4/12/48/4124856.cif $
#------------------------------------------------------------------------------
#
# This file is available in the Crystallography Open Database (COD),
# http://www.crystallography.net/
#
# All data on this site have been placed in the public domain by the
# contributors.
#
data_4124856
loop_
_publ_author_name
'Wold, A.'
'Ward, R.'
_publ_section_title
;
 Perowskite-type oxides of cobalt, chromium and vanadium with some rare
 earth elements
;
_journal_name_full               'Journal of the American Chemical Society'
_journal_page_first              1029
_journal_page_last               1030
_journal_volume                  76
_journal_year                    1954
_chemical_formula_sum            'La O3 V'
_chemical_name_systematic        'La (V O3)'
_space_group_IT_number           221
_symmetry_space_group_name_Hall  '-P 4 2 3'
_symmetry_space_group_name_H-M   'P m -3 m'
_cell_angle_alpha                90
_cell_angle_beta                 90
_cell_angle_gamma                90
_cell_formula_units_Z            1
_cell_length_a                   3.91
_cell_length_b                   3.91
_cell_length_c                   3.91
_cell_volume                     59.776
_citation_journal_id_ASTM        JACSAT
_cod_data_source_file            Wold_JACSAT_1954_1036.cif
_cod_data_source_block           La1O3V1
_cod_original_cell_volume        59.77647
_cod_original_formula_sum        'La1 O3 V1'
_cod_database_code               4124856
loop_
_symmetry_equiv_pos_as_xyz
x,y,z
-y,x,z
-x,-y,z
y,-x,z
x,-y,-z
y,x,-z
-x,y,-z
-y,-x,-z
z,x,y
-x,z,y
-z,-x,y
x,-z,y
z,-x,-y
x,z,-y
-z,x,-y
-x,-z,-y
y,z,x
y,-z,-x
z,y,-x
-y,z,-x
-z,-y,-x
-y,-z,x
z,-y,x
-z,y,x
-x,-y,-z
y,-x,-z
x,y,-z
-y,x,-z
-x,y,z
-y,-x,z
x,-y,z
y,x,z
-z,-x,-y
x,-z,-y
z,x,-y
-x,z,-y
-z,x,y
-x,-z,y
z,-x,y
x,z,y
-y,-z,-x
-y,z,x
-z,-y,x
y,-z,x
z,y,x
y,z,-x
-z,y,-x
z,-y,-x
loop_
_atom_site_label
_atom_site_type_symbol
_atom_site_fract_x
_atom_site_fract_y
_atom_site_fract_z
_atom_site_occupancy
_atom_site_U_iso_or_equiv
O1 O-2 0.5 0.5 0 1 0.0
La1 La+3 0 0 0 1 0.0
V1 V+3 0.5 0.5 0.5 1 0.0
