#------------------------------------------------------------------------------
#$Date: 2016-02-16 21:30:59 +0100 (mar 16 de feb de 2016) $
#$Revision: 176467 $
#$URL: svn://www.crystallography.net/cod/cif/4/33/07/4330784.cif $
#------------------------------------------------------------------------------
#
# This file is available in the Crystallography Open Database (COD),
# http://www.crystallography.net/
#
# All data on this site have been placed in the public domain by the
# contributors.
#
data_4330784
loop_
_publ_author_name
'Tatsunori Sakaguchi'
'Yoji Kobayashi'
'Takeshi Yajima'
'Masatoshi Ohkura'
'Cédric Tassel'
'Fumitaka Takeiri'
'Shingo Mitsuoka'
'Hiroshi Ohkubo'
'Takafumi Yamamoto'
'Jung eun Kim'
'Naruki Tsuji'
'Akihiko Fujihara'
'Yoshitaka Matsushita'
'James Hester'
'Maxim Avdeev'
'Kenji Ohoyama'
'Hiroshi Kageyama'
_publ_contact_author_name        'Hiroshi Kageyama'
_publ_section_title
;
 Oxyhydrides of (Ca,Sr,Ba)TiO3 Perovskite Solid Solutions
;
_journal_name_full               'Inorganic Chemistry'
_journal_page_first              11371
_journal_page_last               11376
_journal_paper_doi               10.1021/ic300859n
_journal_volume                  51
_journal_year                    2012
_chemical_formula_sum            'Ba H0.19 O2.81 Ti'
_chemical_formula_weight         230.357
_chemical_name_common            'barium titanate oxyhydride'
_chemical_name_systematic        'barium titanate oxyhydride'
_space_group_IT_number           99
_symmetry_cell_setting           tetragonal
_symmetry_Int_Tables_number      99
_symmetry_space_group_name_Hall  'P 4 -2'
_symmetry_space_group_name_H-M   'P 4 m m'
_cell_angle_alpha                90.0
_cell_angle_beta                 90.0
_cell_angle_gamma                90.0
_cell_formula_units_Z            1
_cell_length_a                   4.0318(1)
_cell_length_b                   4.0318(1)
_cell_length_c                   4.0402(3)
_cell_volume                     65.675(5)
_computing_structure_refinement  GSAS
_diffrn_ambient_temperature      300
_diffrn_radiation_probe          neutron
_diffrn_radiation_wavelength     1.85
_pd_block_id                     2012-04-02T23:09|BTO-M-X-RIET1_phase1|yoji||
_pd_phase_name
'from C:/Users/Volos/Desktop/Katsura Work/XRD/Ref/BaTiO3.cif'
_refine_ls_matrix_type           full
_refine_ls_number_parameters     8
_refine_ls_number_restraints     0
_refine_ls_shift/su_max          0.02
_refine_ls_shift/su_mean         0.01
_cod_data_source_file            ic300859n_BaTiOH.cif
_cod_data_source_block           BTO-M-X-RIET1_phase_1
_cod_original_cell_volume        65.675
_cod_original_formula_sum        'Ba1.0 Ti1.0 O2.81 H0.19'
_cod_database_code               4330784
loop_
_symmetry_equiv_pos_site_id
_symmetry_equiv_pos_as_xyz
1 +x,+y,+z
2 -y,+x,+z
3 -x,-y,+z
4 +y,-x,+z
5 -x,+y,+z
6 -y,-x,+z
7 +x,-y,+z
8 +y,+x,+z
loop_
_atom_site_type_symbol
_atom_site_label
_atom_site_fract_x
_atom_site_fract_y
_atom_site_fract_z
_atom_site_occupancy
_atom_site_thermal_displace_type
_atom_site_U_iso_or_equiv
_atom_site_symmetry_multiplicity
Ba Ba1 0.0 0.0 0.0 1.0 Uiso 0.0044(7) 1
Ti Ti1 0.5 0.5 0.5 1.0 Uiso 0.008(2) 1
O- O1 0.5 0.5 0.0 0.9384(2) Uiso 0.0042(2) 1
O- O2 0.5 0.0 0.5 0.9384(2) Uiso 0.0042(2) 2
H- H1 0.5 0.5 0.0 0.0616(2) Uiso 0.0042(2) 1
H- H2 0.5 0.0 0.5 0.0616(2) Uiso 0.0042(2) 2
loop_
_atom_type_symbol
_atom_type_number_in_cell
Ba 1.0
Ti 1.0
O- 2.81
H- 0.19
