#------------------------------------------------------------------------------
#$Date: 2015-07-11 22:02:33 +0200 (Sat 11 de Jul de 2015) $
#$Revision: 146065 $
#$URL: svn://www.crystallography.net/cod/cif/4/34/36/4343687.cif $
#------------------------------------------------------------------------------
#
# This file is available in the Crystallography Open Database (COD),
# http://www.crystallography.net/
#
# All data on this site have been placed in the public domain by the
# contributors.
#
data_4343687
loop_
_publ_author_name
'Riley, P.E.'
'Seff, K.'
_publ_section_title
;
 Crystal structures of acetylene sorption complexes of partially
 manganese(II)-exchanged and partially cobalt(II)-exchanged forms of
 Zeolite A
;
_journal_name_full               'Inorganic Chemistry'
_journal_page_first              714
_journal_page_last               721
_journal_volume                  14
_journal_year                    1975
_chemical_formula_sum            'C8 H8 Al12 Co4 Na4 O48 Si12'
_chemical_name_systematic        '(Co4 Na4 (Al12 Si12 O48)) (C2 H2)4'
_space_group_IT_number           221
_symmetry_space_group_name_Hall  '-P 4 2 3'
_symmetry_space_group_name_H-M   'P m -3 m'
_cell_angle_alpha                90
_cell_angle_beta                 90
_cell_angle_gamma                90
_cell_formula_units_Z            1
_cell_length_a                   12.171
_cell_length_b                   12.171
_cell_length_c                   12.171
_cell_volume                     1802.930
_citation_journal_id_ASTM        INOCAJ
_cod_data_source_file            Riley_INOCAJ_1975_570.cif
_cod_data_source_block           C8H8Al12Co4Na4O48Si12
_cod_original_cell_volume        1802.929
_cod_database_code               4343687
loop_
_symmetry_equiv_pos_as_xyz
x,y,z
-y,x,z
-x,-y,z
y,-x,z
x,-y,-z
y,x,-z
-x,y,-z
-y,-x,-z
z,x,y
-x,z,y
-z,-x,y
x,-z,y
z,-x,-y
x,z,-y
-z,x,-y
-x,-z,-y
y,z,x
y,-z,-x
z,y,-x
-y,z,-x
-z,-y,-x
-y,-z,x
z,-y,x
-z,y,x
-x,-y,-z
y,-x,-z
x,y,-z
-y,x,-z
-x,y,z
-y,-x,z
x,-y,z
y,x,z
-z,-x,-y
x,-z,-y
z,x,-y
-x,z,-y
-z,x,y
-x,-z,y
z,-x,y
x,z,y
-y,-z,-x
-y,z,x
-z,-y,x
y,-z,x
z,y,x
y,z,-x
-z,y,-x
z,-y,-x
loop_
_atom_site_label
_atom_site_type_symbol
_atom_site_fract_x
_atom_site_fract_y
_atom_site_fract_z
_atom_site_occupancy
_atom_site_U_iso_or_equiv
Co1 Co+2 0.2111 0.2111 0.2111 0.5 0.0
O1 O-2 0 0.2022 0.5 1 0.0
Si1 Si+4 0 0.1818 0.3673 0.5 0.0
O2 O-2 0 0.298 0.298 1 0.0
C1 C-1 0.2903 0.3357 0.3572 0.167 0.0
O3 O-2 0.1129 0.1129 0.3256 1 0.0
Na1 Na+1 0.1778 0.1778 0.1778 0.5 0.0
Al1 Al+3 0 0.1818 0.3673 0.5 0.0
