#------------------------------------------------------------------------------
#$Date: 2016-02-16 21:30:59 +0100 (mar 16 de feb de 2016) $
#$Revision: 176467 $
#$URL: svn://www.crystallography.net/cod/cif/4/50/31/4503134.cif $
#------------------------------------------------------------------------------
#
# This file is available in the Crystallography Open Database (COD),
# http://www.crystallography.net/
#
# All data on this site have been placed in the public domain by the
# contributors.
#
data_4503134
loop_
_publ_author_name
'Wood, Peter A.'
'Haynes, Delia A.'
'Lennie, Alistair R.'
'Motherwell, W. D. Samuel'
'Parsons, Simon'
'Pidcock, Elna'
'Warren, John E.'
_publ_section_title
;
 The Anisotropic Compression of the Crystal Structure of
 3-Aza-bicyclo(3.3.1)nonane-2,4-dione to 7.1 GPa
;
_journal_issue                   2
_journal_name_full               'Crystal Growth & Design'
_journal_page_first              549
_journal_paper_doi               10.1021/cg0705815
_journal_volume                  8
_journal_year                    2008
_chemical_compound_source        'Sigma Aldrich'
_chemical_formula_moiety         'C8 H11 N1 O2'
_chemical_formula_sum            'C8 H11 N O2'
_chemical_formula_weight         153.18
_chemical_name_systematic        3-aza-bicyclo(3.3.1)nonane-2,4-dione
_space_group_IT_number           14
_symmetry_cell_setting           monoclinic
_symmetry_Int_Tables_number      14
_symmetry_space_group_name_Hall  '-P 2ybc'
_symmetry_space_group_name_H-M   'P 1 21/c 1'
_atom_sites_solution_hydrogens   geom
_atom_sites_solution_primary     direct
_audit_creation_date             06-08-08
_audit_creation_method           CRYSTALS_ver_12.84
_cell_angle_alpha                90
_cell_angle_beta                 96.63(3)
_cell_angle_gamma                90
_cell_formula_units_Z            4
_cell_length_a                   8.254(4)
_cell_length_b                   9.8542(15)
_cell_length_c                   7.5245(11)
_cell_measurement_reflns_used    614
_cell_measurement_temperature    298
_cell_measurement_theta_max      26
_cell_measurement_theta_min      6
_cell_volume                     607.9(3)
_computing_cell_refinement       'SAINT (Siemens ,1995)'
_computing_data_collection       'SMART (Siemens, 1993)'
_computing_data_reduction        'SAINT (Siemens ,1995)'
_computing_molecular_graphics    'CAMERON (Watkin et al., 1996)'
_computing_publication_material  'CRYSTALS (Betteridge et al., 2003)'
_computing_structure_refinement  'CRYSTALS (Betteridge et al., 2003)'
_computing_structure_solution    'Model taken from ambient pressure structure'
_diffrn_ambient_pressure         4400000
_diffrn_ambient_temperature      298
_diffrn_measured_fraction_theta_full 0.374
_diffrn_measured_fraction_theta_max 0.278
_diffrn_measurement_device_type  'Bruker-Nonius ApexII CCD'
_diffrn_measurement_method       ω
_diffrn_radiation_monochromator  graphite
_diffrn_radiation_type           synchrotron
_diffrn_radiation_wavelength     0.8460
_diffrn_reflns_av_R_equivalents  0.061
_diffrn_reflns_limit_h_max       3
_diffrn_reflns_limit_h_min       -3
_diffrn_reflns_limit_k_max       10
_diffrn_reflns_limit_k_min       -10
_diffrn_reflns_limit_l_max       7
_diffrn_reflns_limit_l_min       -7
_diffrn_reflns_number            1147
_diffrn_reflns_theta_full        17.078
_diffrn_reflns_theta_max         22.179
_diffrn_reflns_theta_min         4.827
_diffrn_standards_number         0
_exptl_absorpt_coefficient_mu    0.121
_exptl_absorpt_correction_T_max  0.99
_exptl_absorpt_correction_T_min  0.69
_exptl_absorpt_correction_type   multi-scan
_exptl_absorpt_process_details   'SADABS version 2006/1'
_exptl_crystal_colour            colourless
_exptl_crystal_density_diffrn    1.674
_exptl_crystal_description       block
_exptl_crystal_F_000             328
_exptl_crystal_recrystallization_method
'Recrystallised by application of pressure from methanol/ethanol solution'
_exptl_crystal_size_max          0.18
_exptl_crystal_size_mid          0.16
_exptl_crystal_size_min          0.10
_refine_diff_density_max         0.12
_refine_diff_density_min         -0.11
_refine_ls_extinction_method     None
_refine_ls_goodness_of_fit_ref   0.9013
_refine_ls_hydrogen_treatment    constr
_refine_ls_matrix_type           full
_refine_ls_number_parameters     45
_refine_ls_number_reflns         210
_refine_ls_number_restraints     29
_refine_ls_R_factor_all          0.0472
_refine_ls_R_factor_gt           0.0440
_refine_ls_shift/su_max          0.000046
_refine_ls_structure_factor_coef Fsqd
_refine_ls_weighting_details
;
 Method, part 1, Chebychev polynomial, (Watkin, 1994, Prince, 1982) 
 [weight] = 1.0/[A₀*T₀(x)+A₁*T₁(x) ... +Aₙ₋₁]*Tₙ₋₁(x)] 
 where Ai are the Chebychev coefficients listed below and x= Fcalc/Fmax 
 Method = Robust Weighting (Prince, 1982) 
 W = [weight] * [1-(deltaF/6*sigmaF)²]² 
 Ai are: 
 1.99 2.65 1.14 0.485 0.113 
;
_refine_ls_weighting_scheme      calc
_refine_ls_wR_factor_all         0.1092
_refine_ls_wR_factor_gt          0.1057
_refine_ls_wR_factor_ref         0.1092
_reflns_limit_h_max              2
_reflns_limit_h_min              -3
_reflns_limit_k_max              10
_reflns_limit_k_min              0
_reflns_limit_l_max              7
_reflns_limit_l_min              0
_reflns_number_gt                189
_reflns_number_total             229
_reflns_threshold_expression     I>2.0σ(I)
_oxford_diffrn_Wilson_B_factor   0.00
_oxford_diffrn_Wilson_scale      0.00
_oxford_refine_ls_scale          0.2873(16)
_cod_data_source_file            cg0705815-file001.cif
_cod_data_source_block           44kbar
_cod_depositor_comments
;
The following automatic conversions were performed:

'_symmetry_cell_setting' value 'Monoclinic' changed to 'monoclinic'
according to /home/saulius/struct/CIF-dictionaries/cif_core.dic
dictionary named 'cif_core.dic' version 2.4.1 from 2010-06-29.

Automatic conversion script
Id: cif_fix_values 1715 2011-07-08 13:25:40Z adriana 
;
_cod_original_sg_symbol_H-M      'P 21/c'
_cod_original_formula_sum        'C8 H11 N1 O2'
_cod_database_code               4503134
loop_
_symmetry_equiv_pos_as_xyz
x,y,z
-x,-y,-z
-x,y+1/2,-z+1/2
x,-y+1/2,z+1/2
loop_
_atom_site_label
_atom_site_type_symbol
_atom_site_fract_x
_atom_site_fract_y
_atom_site_fract_z
_atom_site_U_iso_or_equiv
_atom_site_occupancy
_atom_site_adp_type
_atom_site_refinement_flags_posn
_atom_site_refinement_flags_adp
N1 N 0.8048(14) -0.0864(3) 0.5101(5) 0.0087(10) 1.0000 Uiso . U
C1 C 0.8109(16) 0.0518(4) 0.4744(6) 0.0113(10) 1.0000 Uiso . U
O1 O 0.8185(11) 0.0876(2) 0.3201(4) 0.0131(10) 1.0000 Uiso . U
C2 C 0.803(2) 0.1446(5) 0.6272(6) 0.0129(11) 1.0000 Uiso . U
C3 C 0.8947(17) 0.0847(4) 0.7933(6) 0.0143(11) 1.0000 Uiso . U
C4 C 0.8169(17) -0.0487(4) 0.8360(6) 0.0122(10) 1.0000 Uiso . U
C5 C 0.7975(15) -0.1399(4) 0.6773(5) 0.0111(10) 1.0000 Uiso . U
O2 O 0.7784(11) -0.2637(3) 0.6907(4) 0.0132(10) 1.0000 Uiso . U
C6 C 0.6451(18) -0.0197(4) 0.8875(6) 0.0124(11) 1.0000 Uiso . U
C7 C 0.5410(17) 0.0454(4) 0.7339(6) 0.0144(11) 1.0000 Uiso . U
C8 C 0.626(2) 0.1680(4) 0.6594(6) 0.0138(11) 1.0000 Uiso . U
H1 H 0.8042 -0.1411 0.4220 0.0117 1.0000 Uiso R .
H2 H 0.8524 0.2317 0.5991 0.0150 1.0000 Uiso R .
H3 H 1.0076 0.0708 0.7735 0.0173 1.0000 Uiso R .
H4 H 0.8900 0.1475 0.8934 0.0169 1.0000 Uiso R .
H5 H 0.8832 -0.0948 0.9343 0.0152 1.0000 Uiso R .
H6 H 0.6543 0.0422 0.9892 0.0151 1.0000 Uiso R .
H7 H 0.5948 -0.1039 0.9198 0.0150 1.0000 Uiso R .
H8 H 0.4385 0.0751 0.7707 0.0175 1.0000 Uiso R .
H9 H 0.5195 -0.0229 0.6386 0.0169 1.0000 Uiso R .
H10 H 0.6248 0.2421 0.7486 0.0172 1.0000 Uiso R .
H11 H 0.5636 0.1953 0.5472 0.0167 1.0000 Uiso R .
loop_
_atom_type_symbol
_atom_type_scat_dispersion_real
_atom_type_scat_dispersion_imag
_atom_type_scat_Cromer_Mann_a1
_atom_type_scat_Cromer_Mann_b1
_atom_type_scat_Cromer_Mann_a2
_atom_type_scat_Cromer_Mann_b2
_atom_type_scat_Cromer_Mann_a3
_atom_type_scat_Cromer_Mann_b3
_atom_type_scat_Cromer_Mann_a4
_atom_type_scat_Cromer_Mann_b4
_atom_type_scat_Cromer_Mann_c
_atom_type_scat_source
C 0.0033 0.0016 2.3100 20.8439 1.0200 10.2075 1.5886 0.5687 0.8650 51.6512
0.2156 'International Tables Vol C 4.2.6.8 and 6.1.1.4'
H 0.0000 0.0000 0.4930 10.5109 0.3229 26.1257 0.1402 3.1424 0.0408 57.7998
0.0030 'International Tables Vol C 4.2.6.8 and 6.1.1.4'
N 0.0061 0.0033 12.2126 0.0057 3.1322 9.8933 2.0125 28.9975 1.1663 0.5826
-11.5290 'International Tables Vol C 4.2.6.8 and 6.1.1.4'
O 0.0106 0.0060 3.0485 13.2771 2.2868 5.7011 1.5463 0.3239 0.8670 32.9089
0.2508 'International Tables Vol C 4.2.6.8 and 6.1.1.4'
loop_
_geom_angle_atom_site_label_1
_geom_angle_atom_site_label_2
_geom_angle_atom_site_label_3
_geom_angle
_geom_angle_publ_flag
C1 N1 C5 124.1(4) yes
C1 N1 H1 117.7 no
C5 N1 H1 118.2 no
N1 C1 O1 118.3(4) yes
N1 C1 C2 116.8(3) yes
O1 C1 C2 124.9(3) yes
C1 C2 C3 109.8(6) yes
C1 C2 C8 110.4(11) yes
C3 C2 C8 109.1(6) yes
C1 C2 H2 108.3 no
C3 C2 H2 109.7 no
C8 C2 H2 109.4 no
C2 C3 C4 109.3(9) yes
C2 C3 H3 109.2 no
C4 C3 H3 110.4 no
C2 C3 H4 109.3 no
C4 C3 H4 109.3 no
H3 C3 H4 109.4 no
C3 C4 C5 111.3(4) yes
C3 C4 C6 108.5(6) yes
C5 C4 C6 107.3(10) yes
C3 C4 H5 110.4 no
C5 C4 H5 109.0 no
C6 C4 H5 110.3 no
C4 C5 N1 119.5(4) yes
C4 C5 O2 122.2(3) yes
N1 C5 O2 118.3(4) yes
C4 C6 C7 110.3(5) yes
C4 C6 H6 108.9 no
C7 C6 H6 108.8 no
C4 C6 H7 109.7 no
C7 C6 H7 109.5 no
H6 C6 H7 109.6 no
C6 C7 C8 111.9(10) yes
C6 C7 H8 110.5 no
C8 C7 H8 108.5 no
C6 C7 H9 107.9 no
C8 C7 H9 108.9 no
H8 C7 H9 109.0 no
C7 C8 C2 115.1(7) yes
C7 C8 H10 107.1 no
C2 C8 H10 107.5 no
C7 C8 H11 108.6 no
C2 C8 H11 108.7 no
H10 C8 H11 109.9 no
loop_
_geom_bond_atom_site_label_1
_geom_bond_atom_site_label_2
_geom_bond_distance
_geom_bond_publ_flag
N1 C1 1.390(5) yes
N1 C5 1.371(5) yes
N1 H1 0.854 no
C1 O1 1.222(5) yes
C1 C2 1.477(7) yes
C2 C3 1.506(12) yes
C2 C8 1.53(2) yes
C2 H2 0.985 no
C3 C4 1.514(9) yes
C3 H3 0.971 no
C3 H4 0.979 no
C4 C5 1.489(7) yes
C4 C6 1.540(19) yes
C4 H5 0.980 no
C5 O2 1.235(5) yes
C6 C7 1.502(12) yes
C6 H6 0.974 no
C6 H7 0.971 no
C7 C8 1.534(12) yes
C7 H8 0.966 no
C7 H9 0.984 no
C8 H10 0.992 no
C8 H11 0.974 no
