#------------------------------------------------------------------------------
#$Date: 2016-02-14 05:40:26 +0100 (dom 14 de feb de 2016) $
#$Revision: 176432 $
#$URL: svn://www.crystallography.net/cod/cif/4/51/27/4512741.cif $
#------------------------------------------------------------------------------
#
# This file is available in the Crystallography Open Database (COD),
# http://www.crystallography.net/
#
# All data on this site have been placed in the public domain by the
# contributors.
#
data_4512741
loop_
_publ_author_name
'Ostrowska, Kinga'
'Kropidłowska, Magdalena'
'Katrusiak, Andrzej'
_publ_section_title
;
 High-Pressure Crystallization and Structural Transformations in
 CompressedR,S-Ibuprofen
;
_journal_issue                   3
_journal_name_full               'Crystal Growth & Design'
_journal_page_first              1512
_journal_paper_doi               10.1021/cg5018888
_journal_volume                  15
_journal_year                    2015
_chemical_formula_moiety         'C13 H18 O2'
_chemical_formula_sum            'C13 H18 O2'
_chemical_formula_weight         206.27
_chemical_melting_point          349
_chemical_name_common
;
(R,S)-2-(4-(2-methylpropyl)phenyl)propanoic acid
;
_chemical_name_systematic
;
 (R,S)-ibuprofen
;
_space_group_IT_number           14
_symmetry_cell_setting           monoclinic
_symmetry_space_group_name_Hall  '-P 2ybc'
_symmetry_space_group_name_H-M   'P 1 21/c 1'
_atom_sites_solution_hydrogens   geom
_atom_sites_solution_primary     direct
_atom_sites_solution_secondary   difmap
_audit_creation_method           SHELXL-97
_cell_angle_alpha                90.00
_cell_angle_beta                 99.85(9)
_cell_angle_gamma                90.00
_cell_formula_units_Z            4
_cell_length_a                   14.309(5)
_cell_length_b                   7.686(3)
_cell_length_c                   10.47(3)
_cell_measurement_pressure       600000
_cell_measurement_reflns_used    743
_cell_measurement_temperature    296(2)
_cell_measurement_theta_max      21.99
_cell_measurement_theta_min      2.61
_cell_volume                     1135(3)
_computing_cell_refinement       'CrysAlis (Oxford Diffraction, 2002)'
_computing_data_collection       'CrysAlis (Oxford Diffraction, 2002)'
_computing_data_reduction        'CrysAlis (Oxford Diffraction, 2002)'
_computing_molecular_graphics
;X-Seed (Barbour, 2001) 
and POV-Ray (Persistence of Vision, 2004)

Mercury (2008)
;
_computing_publication_material  'SHELXL-97 (Sheldrick, 1997)'
_computing_structure_refinement  'SHELXL-97 (Sheldrick, 1997)'
_computing_structure_solution    'SHELXS-97 (Sheldrick, 1990)'
_diffrn_ambient_temperature      296(2)
_diffrn_detector_area_resol_mean 16.4
_diffrn_measured_fraction_theta_full 0.263
_diffrn_measured_fraction_theta_max 0.263
_diffrn_measurement_device_type  'multiwire proportional'
_diffrn_measurement_method
;HP omega scans - for more details see:
A. Budzianowski, A. Katrusiak in High-Pressure Crystallography
(Eds.: A. Katrusiak, P. F. McMillan),
Dordrecht: Kluwer Acad. Publ., 2004 pp.157-168
;
_diffrn_radiation_monochromator  graphite
_diffrn_radiation_source         'fine-focus sealed tube'
_diffrn_radiation_type           AgK\a
_diffrn_radiation_wavelength     0.56085
_diffrn_reflns_av_R_equivalents  0.1793
_diffrn_reflns_av_sigmaI/netI    0.1262
_diffrn_reflns_limit_h_max       18
_diffrn_reflns_limit_h_min       -18
_diffrn_reflns_limit_k_max       10
_diffrn_reflns_limit_k_min       -9
_diffrn_reflns_limit_l_max       4
_diffrn_reflns_limit_l_min       -4
_diffrn_reflns_number            5217
_diffrn_reflns_theta_full        21.99
_diffrn_reflns_theta_max         21.99
_diffrn_reflns_theta_min         2.61
_exptl_absorpt_coefficient_mu    0.051
_exptl_absorpt_correction_T_max  0.997
_exptl_absorpt_correction_T_min  0.990
_exptl_absorpt_correction_type   multi-scan
_exptl_absorpt_process_details
; 
Correction for absorption was made using XEMP (SHELXTL, 
Sheldrick (1990)).
;
_exptl_crystal_colour            colourless
_exptl_crystal_density_diffrn    1.208
_exptl_crystal_density_method    'not measured'
_exptl_crystal_description       plate
_exptl_crystal_F_000             448
_exptl_crystal_size_max          0.46
_exptl_crystal_size_mid          0.16
_exptl_crystal_size_min          0.05
_refine_diff_density_max         0.135
_refine_diff_density_min         -0.137
_refine_diff_density_rms         0.037
_refine_ls_extinction_coef       0.18(5)
_refine_ls_extinction_expression Fc^*^=kFc[1+0.001xFc²λ³/sin(2θ)]^-1/4^
_refine_ls_extinction_method     SHELXL
_refine_ls_goodness_of_fit_ref   1.003
_refine_ls_hydrogen_treatment    constr
_refine_ls_matrix_type           full
_refine_ls_number_parameters     137
_refine_ls_number_reflns         743
_refine_ls_number_restraints     0
_refine_ls_restrained_S_all      1.000
_refine_ls_R_factor_all          0.1970
_refine_ls_R_factor_gt           0.0817
_refine_ls_shift/su_max          0.000
_refine_ls_shift/su_mean         0.000
_refine_ls_structure_factor_coef Fsqd
_refine_ls_weighting_details
'calc w=1/[σ²(Fo²)+(0.1426P)²+0.0000P] where P=(Fo²+2Fc²)/3'
_refine_ls_weighting_scheme      calc
_refine_ls_wR_factor_gt          0.1920
_refine_ls_wR_factor_ref         0.2659
_reflns_number_gt                321
_reflns_number_total             743
_reflns_threshold_expression     >2sigma(I)
_cod_data_source_file            cg5018888_si_002.cif
_cod_data_source_block           ibuprofen_060
_cod_depositor_comments
;
The following automatic conversions were performed:
'_atom_site_symetry_multiplicity' tag replaced with
'_atom_site_symmetry_multiplicity'.

Automatic conversion script
Id: cif_correct_tags 1440 2010-10-19 06:21:57Z saulius 

The following automatic conversions were performed:

'_symmetry_cell_setting' value 'Monoclinic' changed to 'monoclinic'
according to
/usr/data/users/saulius/crontab/automatic-downloads/rss-feeds/ACS/lib/dictionaries/cif_core.dic
dictionary named 'cif_core.dic' version 2.4.2 from 2011-04-26.

Automatic conversion script
Id: cif_fix_values 3008 2015-01-20 13:52:24Z robertas 

 Adding full bibliography for 4512740--4512754.cif.
;
_cod_original_cell_volume        1134(3)
_cod_original_sg_symbol_Hall     '-P 2y bc'
_cod_original_sg_symbol_H-M      P2(1)/c
_cod_database_code               4512741
loop_
_symmetry_equiv_pos_as_xyz
'x, y, z'
'-x, y+1/2, -z+1/2'
'-x, -y, -z'
'x, -y-1/2, z-1/2'
loop_
_atom_site_label
_atom_site_type_symbol
_atom_site_fract_x
_atom_site_fract_y
_atom_site_fract_z
_atom_site_U_iso_or_equiv
_atom_site_adp_type
_atom_site_occupancy
_atom_site_symmetry_multiplicity
_atom_site_calc_flag
_atom_site_refinement_flags
O2 O 0.5038(3) 0.1875(5) 0.5625(9) 0.067(3) Uani 1 1 d U
O1 O 0.6235(3) 0.0008(5) 0.5899(10) 0.061(4) Uani 1 1 d U
H01 H 0.5829 -0.0613 0.5477 0.073 Uiso 1 1 calc R
C7 C 0.6547(5) 0.2810(9) 0.6813(18) 0.062(4) Uani 1 1 d U
H7A H 0.7050 0.2167 0.7372 0.075 Uiso 1 1 calc R
C1 C 0.6974(5) 0.3809(8) 0.5855(17) 0.053(4) Uani 1 1 d U
C9 C 0.5864(4) 0.1533(7) 0.6091(15) 0.053(4) Uani 1 1 d U
C11 C 0.9023(5) 0.7678(8) 0.3497(17) 0.053(4) Uani 1 1 d U
H11A H 0.9447 0.7029 0.4164 0.064 Uiso 1 1 calc R
C4 C 0.7792(4) 0.5530(7) 0.3902(14) 0.049(4) Uani 1 1 d U
C5 C 0.8260(5) 0.4142(8) 0.4595(16) 0.058(4) Uani 1 1 d U
H5A H 0.8847 0.3771 0.4434 0.070 Uiso 1 1 calc R
C10 C 0.8269(5) 0.6458(8) 0.2901(17) 0.063(4) Uani 1 1 d U
H10A H 0.7793 0.7099 0.2313 0.075 Uiso 1 1 calc R
H10B H 0.8543 0.5598 0.2396 0.075 Uiso 1 1 calc R
C6 C 0.7831(5) 0.3321(8) 0.5532(15) 0.048(4) Uani 1 1 d U
H6A H 0.8144 0.2378 0.5969 0.057 Uiso 1 1 calc R
C3 C 0.6919(5) 0.6013(8) 0.4233(16) 0.050(4) Uani 1 1 d U
H3A H 0.6600 0.6958 0.3806 0.060 Uiso 1 1 calc R
C2 C 0.6505(5) 0.5160(8) 0.5161(15) 0.058(4) Uani 1 1 d U
H2A H 0.5910 0.5501 0.5313 0.069 Uiso 1 1 calc R
C13 C 0.8655(5) 0.9235(8) 0.4160(15) 0.072(4) Uani 1 1 d U
H13A H 0.9177 0.9972 0.4515 0.108 Uiso 1 1 calc R
H13B H 0.8339 0.8837 0.4844 0.108 Uiso 1 1 calc R
H13C H 0.8217 0.9880 0.3538 0.108 Uiso 1 1 calc R
C12 C 0.9592(6) 0.8302(9) 0.2567(17) 0.072(4) Uani 1 1 d U
H12A H 1.0075 0.9071 0.2994 0.107 Uiso 1 1 calc R
H12B H 0.9193 0.8914 0.1882 0.107 Uiso 1 1 calc R
H12C H 0.9883 0.7331 0.2212 0.107 Uiso 1 1 calc R
C8 C 0.6018(5) 0.3932(9) 0.7671(18) 0.081(5) Uani 1 1 d U
H8A H 0.5760 0.3200 0.8267 0.122 Uiso 1 1 calc R
H8B H 0.5512 0.4548 0.7135 0.122 Uiso 1 1 calc R
H8C H 0.6450 0.4752 0.8146 0.122 Uiso 1 1 calc R
loop_
_atom_site_aniso_label
_atom_site_aniso_U_11
_atom_site_aniso_U_22
_atom_site_aniso_U_33
_atom_site_aniso_U_23
_atom_site_aniso_U_13
_atom_site_aniso_U_12
O2 0.060(3) 0.063(3) 0.078(10) 0.003(4) 0.008(4) 0.001(2)
O1 0.063(3) 0.059(2) 0.057(10) -0.003(3) -0.002(4) 0.004(2)
C7 0.063(4) 0.065(4) 0.056(12) 0.006(6) 0.002(6) -0.001(3)
C1 0.058(4) 0.051(3) 0.051(11) 0.005(5) 0.009(6) 0.000(3)
C9 0.053(4) 0.055(3) 0.051(11) 0.010(4) 0.010(6) -0.004(3)
C11 0.055(4) 0.052(3) 0.054(11) 0.015(5) 0.012(6) 0.002(3)
C4 0.047(4) 0.046(3) 0.056(11) -0.007(5) 0.012(6) -0.001(3)
C5 0.060(4) 0.056(4) 0.058(11) 0.001(5) 0.010(6) -0.001(3)
C10 0.065(4) 0.056(3) 0.070(11) 0.006(5) 0.021(6) -0.004(3)
C6 0.048(4) 0.048(3) 0.048(11) 0.004(5) 0.013(6) 0.004(3)
C3 0.054(4) 0.049(4) 0.051(11) 0.004(5) 0.017(6) 0.004(3)
C2 0.062(4) 0.048(4) 0.063(11) 0.012(5) 0.013(6) 0.002(3)
C13 0.079(5) 0.066(4) 0.071(11) -0.001(5) 0.010(6) -0.001(3)
C12 0.075(4) 0.062(4) 0.077(11) 0.016(5) 0.012(7) -0.002(3)
C8 0.083(5) 0.082(5) 0.082(12) 0.004(6) 0.026(7) -0.002(4)
loop_
_atom_type_symbol
_atom_type_description
_atom_type_scat_dispersion_real
_atom_type_scat_dispersion_imag
_atom_type_scat_source
C C 0.0015 0.0009 'International Tables Vol C Tables 4.2.6.8 and 6.1.1.4'
H H 0.0000 0.0000 'International Tables Vol C Tables 4.2.6.8 and 6.1.1.4'
O O 0.0056 0.0036 'International Tables Vol C Tables 4.2.6.8 and 6.1.1.4'
loop_
_geom_angle_atom_site_label_1
_geom_angle_atom_site_label_2
_geom_angle_atom_site_label_3
_geom_angle
C9 C7 C8 108.6(8)
C9 C7 C1 108.0(14)
C8 C7 C1 114.1(8)
C2 C1 C6 116.8(14)
C2 C1 C7 122.0(9)
C6 C1 C7 121.0(8)
O2 C9 O1 121.1(7)
O2 C9 C7 124.2(6)
O1 C9 C7 114.5(6)
C13 C11 C12 108.9(7)
C13 C11 C10 113.9(7)
C12 C11 C10 112.2(14)
C5 C4 C3 116.3(12)
C5 C4 C10 119.0(9)
C3 C4 C10 124.7(7)
C4 C5 C6 118.9(10)
C4 C10 C11 112.7(14)
C1 C6 C5 124.5(8)
C4 C3 C2 123.6(7)
C1 C2 C3 119.9(10)
loop_
_geom_bond_atom_site_label_1
_geom_bond_atom_site_label_2
_geom_bond_distance
O2 C9 1.228(7)
O1 C9 1.317(8)
C7 C9 1.496(11)
C7 C8 1.53(2)
C7 C1 1.48(2)
C1 C2 1.375(12)
C1 C6 1.378(15)
C11 C13 1.522(15)
C11 C12 1.45(2)
C11 C10 1.484(10)
C4 C5 1.395(12)
C4 C3 1.403(14)
C4 C10 1.52(2)
C5 C6 1.39(2)
C3 C2 1.39(2)
loop_
_geom_torsion_atom_site_label_1
_geom_torsion_atom_site_label_2
_geom_torsion_atom_site_label_3
_geom_torsion_atom_site_label_4
_geom_torsion
C9 C7 C1 C2 79.0(13)
C8 C7 C1 C2 -41.8(16)
C9 C7 C1 C6 -94.9(11)
C8 C7 C1 C6 144.2(10)
C8 C7 C9 O2 39(2)
C1 C7 C9 O2 -84.7(16)
C8 C7 C9 O1 -145.4(11)
C1 C7 C9 O1 90.4(11)
C3 C4 C5 C6 1.2(17)
C10 C4 C5 C6 178.5(11)
C5 C4 C10 C11 -77.7(12)
C3 C4 C10 C11 99.4(11)
C13 C11 C10 C4 -66.8(11)
C12 C11 C10 C4 169.0(6)
C2 C1 C6 C5 2.6(18)
C7 C1 C6 C5 176.8(12)
C4 C5 C6 C1 -2(2)
C5 C4 C3 C2 -2.0(18)
C10 C4 C3 C2 -179.1(11)
C6 C1 C2 C3 -3.1(17)
C7 C1 C2 C3 -177.3(12)
C4 C3 C2 C1 3(2)
